Workbook
Name OLE_LINK1: 【記入例】!$A$2
Name OLE_LINK1: '【参考】R8幼稚園概要（新制度）'!$A$2
Name OLE_LINK1: 'R9幼稚園概要（新制度）'!$A$2

Sheet R9幼稚園概要（新制度）
A1: 令和９年度 幼稚園概要（令和８年10月１日の照会に基づく）
A2: 幼稚園名称
A3: ホームページ
A4: 所在地・問合せ先 | D4: 〒 | E4: 仙台市
D5: TEL： | G5: FAX：
A6: 定員 | E6: 名 | F6: （令和８年10月１日現在の在園児数： | I6: 名）
A7: 令和９年度 園児募集定員 | D7: 満３歳児 の入園 | E7: 入園の可否
E8: 入園可能時期
D9: ３年保育（年少） | F9: ２年保育（年中） | H9: １年保育（年長）
E10: 名 | G10: 名 | I10: 名
A11: 常勤教員数 | G11: 名
A12: 給食 | D12: 実施の有無
D13: 実施日 | E13: 週 | G13: 日（ | J13: ）
D14: 調理場所
A15: 通園バス | F15: 主なバス 運行範囲
A16: 登園日・教育時間
A17: 休業日 | B17: 長期休業日 | D17: 春休み | E17: 月 | F17: 日 | G17: ～ | H17: 月 | I17: 日
D18: 夏休み | E18: 月 | F18: 日 | G18: ～ | H18: 月 | I18: 日
D19: 冬休み | E19: 月 | F19: 日 | G19: ～ | H19: 月 | I19: 日
B20: その他休業日
A21: 未就園児教室・クラス | B21: 実施の有無
B22: 未就園児教室名
B23: 主な活動内容
B24: 対象年齢 | D24: 活動回数 | G24: 活動時間 | I24: 定 員
D25: 月 | E25: 回 | F25: 曜日 | G25: ～ | J25: 名
D26: 月 | E26: 回 | F26: 曜日 | G26: ～ | J26: 名
D27: 月 | E27: 回 | F27: 曜日 | G27: ～ | J27: 名
B28: その他
B29: 料 金
B30: 利用方法
A31: 特別支援教育 | D31: 受入れの可否
D32: 方 針
A33: 保育料等費用 | B33: 無償化 対象 | C33: 保育料 （月額） | D33: 満３歳児から全額無償となります。
B34: 無償化 対象外 （※1） | C34: 入園時に 必要な 費 用 | J34: 円
J35: 円
J36: 円
J37: 円
C38: その他 月額費用 | J38: 円
J39: 円
J40: 円
J41: 円
C42: その他 費 用 | J42: 円
J43: 円
A44: 預かり保育 | B44: 早朝預かり | D44: 実施日・時間・ １日の預かり人数上限
D45: 料 金（※2）
B46: 通常日預かり | D46: 実施日・時間・ １日の預かり人数上限
D47: 料 金（※2）
B48: 休業日預かり | D48: 実施日・時間・ １日の預かり人数上限
D49: 料 金（※2）
B50: 実施しない日
B51: 新入園児の 入園式前の利用 （４月1日から）
B53: 卒園児の 卒園式後の利用 (３月末まで)
A55: ◆◆保育料等の無償化について◆◆ ※1 実費として徴収される費用（通園送迎費、食材料費、行事費等）は、無償化の対象になりません。 ただし、年収360万円未満相当の世帯の児童と第３子以降の児童は、 副食（おかず、おやつ等）費用の減免制度があります。 ※2 預かり保育の利用料は、施設等利用給付認定（新２号・新３号）又は多子世帯利用給付認定を受けた児童を対象に、 利用日数に応じて日額490円 （３～５歳児クラスは月額上限12,300円、満３歳児は月額上限17,700円）まで無償となります。 詳細は、仙台市ホームページをご覧ください。 「幼児教育・保育の無償化について」 https://www.city.sendai.jp/nintechosa/mushouka_gaiyou.html 「第2子以降の保育料無償化について」https://www.city.sendai.jp/nintechosa/kurashi/kenkotofukushi/kosodate/hoikuryo_r08.html
A56: 児童の安全確保に 向けた取り組み
A57: 卒園児の通う 主な小学校
A58: その他 （特色等）

Sheet 【記入例】
A1: 令和９年度 幼稚園概要（令和８年10月１日の照会に基づく）
A2: 幼稚園名称 | D2: ○○幼稚園
A3: ホームページ | D3: https://www.○○.ac.jp/
A4: 所在地・問合せ先 | D4: 〒111-1111 | E4: 仙台市○○区××１丁目１－１
D5: TEL： | E5: ０２２－１２３－４５６７ | G5: FAX： | H5: ０２２-１２３－４５６８
A6: 定員 | D6: 160 | E6: 名 | F6: （令和８年10月１日現在の在園児数： | H6: 157 | I6: 名）
A7: 令和９年度 園児募集定員 | D7: 満３歳児 の入園 | E7: 入園の可否 | F7: 可
E8: 入園可能時期 | F8: 満３歳の誕生日を迎えた月の翌月から
D9: ３年保育（年少） | F9: ２年保育（年中） | H9: １年保育（年長）
D10: 20 | E10: 名 | F10: 40 | G10: 名 | H10: 若干 | I10: 名
A11: 常勤教員数 | F11: 25 | G11: 名
A12: 給食 | D12: 実施の有無 | E12: あり
D13: 実施日 | E13: 週 | F13: 3 | G13: 日（ | H13: 月・火・金 | J13: ）
D14: 調理場所 | E14: 園外
A15: 通園バス | D15: あり | F15: 主なバス 運行範囲 | G15: Aコース〇〇方面 Bコース××方面
A16: 登園日・教育時間 | D16: 月・火・木・金 ９：００～１４：００ 水 ９：００～１１：３０
A17: 休業日 | B17: 長期休業日 | D17: 春休み | E17: 3月 | F17: 26日 | G17: ～ | H17: 4月 | I17: 6日
D18: 夏休み | E18: 7月 | F18: 23日 | G18: ～ | H18: 8月 | I18: 24日
D19: 冬休み | E19: 12月 | F19: 25日 | G19: ～ | H19: 1月 | I19: 7日
B20: その他休業日 | D20: 土曜日、日曜日、祝日、開園記念日（９月１日）、行事の振替休日（年５回）
A21: 未就園児教室・クラス | B21: 実施の有無 | D21: あり
B22: 未就園児教室名 | D22: ○▲□クラブ
B23: 主な活動内容 | D23: 子育て中の保護者が安心して子育てができるよう、先輩お母さんによる子育て相談や講師による子育てに関する講演会の実施。また、お子様が健やかに成長するためのサポート活動として、お子様のお友達作りの機会の提供や親子で一緒に遊びを楽しむためのイベントの開催を行っている。
B24: 対象年齢 | D24: 活動回数 | G24: 活動時間 | I24: 定 員
B25: ０歳児 | D25: 5月～2月 | E25: 10回 | F25: 第2水曜日 | G25: 10：00 ～ 11：00 | I25: 10 | J25: 名
B26: １歳児 | D26: 4月～3月 | E26: 12回 | F26: 第4水曜日 | G26: 10：00 ～ 12：00 | I26: 20 | J26: 名
B27: ２歳児 | D27: 4月～3月 | E27: 24回 | F27: 第1・3水曜日 | G27: 10：00 ～ 12：00 | I27: 30 | J27: 名
B28: その他
B29: 料 金 | D29: １回 500円
B30: 利用方法 | D30: イベントは事前予約必要、子育て支援室利用は予約不要
A31: 特別支援教育 | D31: 受入れの可否 | F31: 可
D32: 方 針 | F32: ・面談及び専門家の意見等により受入れを判断します。 ・集団での保育が可能な場合は基本的に受け入れています。
A33: 保育料等費用 | B33: 無償化 対象 | C33: 保育料 （月額） | D33: 満３歳児から全額無償となります。
B34: 無償化 対象外 （※1） | C34: 入園時に 必要な 費 用 | D34: 制服等用品代 | G34: （選択により異なる）約30,000 | J34: 円
J35: 円
J36: 円
J37: 円
C38: その他 月額費用 | D38: 給食費 | G38: 3500 | J38: 円
D39: 教材費 | G39: 1000 | J39: 円
D40: 通園バス費用 | G40: （利用者のみ）3,000 | J40: 円
J41: 円
C42: その他 費 用 | D42: 行事代 | G42: 月額800 | J42: 円
J43: 円
A44: 預かり保育 | B44: 早朝預かり | D44: 実施日・時間・ １日の預かり人数上限 | F44: 平日（月～金） ７：３０～９：００ ２５名
D45: 料 金（※2） | F45: 日額 ２５０円
B46: 通常日預かり | D46: 実施日・時間・ １日の預かり人数上限 | F46: 平日（月～金） １４：００～１９：１５ ５０名
D47: 料 金（※2） | F47: 日額 １８：００まで８００円 （１９：１５までは１，０００円） 月額 ８，０００円 （早朝、休園日含む）
B48: 休業日預かり | D48: 実施日・時間・ １日の預かり人数上限 | F48: 毎週土曜日・その他休園日 ７：３０～１８：００ ２５名 長期休園日期間 ７：３０～１９：１５ ５０名
D49: 料 金（※2） | F49: 通常日と同じ
B50: 実施しない日 | D50: 日曜日、祝日、年末年始（１２/２９～１/３）
B51: 新入園児の 入園式前の利用 （４月1日から） | D51: 可
D52: 慣らしのため午前のみ
B53: 卒園児の 卒園式後の利用 (３月末まで) | D53: 可
A55: ◆◆保育料等の無償化について◆◆ ※1 実費として徴収される費用（通園送迎費、食材料費、行事費等）は、無償化の対象になりません。 ただし、年収360万円未満相当の世帯の児童と第３子以降の児童は、 副食（おかず、おやつ等）費用の減免制度があります。 ※2 預かり保育の利用料は、施設等利用給付認定（新２号・新３号）又は多子世帯利用給付認定を受けた児童を対象に、 利用日数に応じて日額490円 （３～５歳児クラスは月額上限12,300円、満３歳児は月額上限17,700円）まで無償となります。 詳細は、仙台市ホームページをご覧ください。 「幼児教育・保育の無償化について」 https://www.city.sendai.jp/nintechosa/mushouka_gaiyou.html 「第2子以降の保育料無償化について」https://www.city.sendai.jp/nintechosa/kurashi/kenkotofukushi/kosodate/hoikuryo_r08.html
A56: 児童の安全確保に 向けた取り組み | D56: 例） ・町内会と連携し、合同の防犯訓練を行っている。 ・当園で実施する行事等について、地域の方々へお知らせし、当園への関心を高めてもらっている。 ・絵本や紙芝居等を用いて児童の防犯教育を行っている。
A57: 卒園児の通う 主な小学校 | D57: ○×小学校・○○小学校・△△小学校
A58: その他 （特色等） | D58: ・食物アレルギーを持つ子供に対しては、除去食による給食提供等の対応が可能 ・男性体育講師による運動・遊びの時間あり（週１回）

Sheet 【参考】R8幼稚園概要（新制度）
A1: 令和８年度 幼稚園概要（令和7年10月1日の照会に基づく）
A2: 幼稚園名称
A3: 所在地・問合せ先 | D3: 〒 | E3: 仙台市
D4: TEL： | G4: FAX：
A5: 定員 | E5: 名 | F5: （令和7年10月1日現在の在園児数： | I5: 名）
A6: 令和８年度 園児募集定員 | D6: 満３歳児 の入園 | E6: 入園の可否
E7: 入園可能時期
D8: ３年保育（年少） | F8: ２年保育（年中） | H8: １年保育（年長）
E9: 名 | G9: 名 | I9: 名
A10: 常勤教員数 | G10: 名
A11: 給食 | D11: 実施の有無
D12: 実施日 | E12: 週 | G12: 日（ | J12: ）
D13: 調理場所
A14: 通園バス | F14: 主なバス 運行範囲
A15: 登園日・教育時間
A16: 休業日 | B16: 長期休業日 | D16: 春休み | E16: 月 | F16: 日 | G16: ～ | H16: 月 | I16: 日
D17: 夏休み | E17: 月 | F17: 日 | G17: ～ | H17: 月 | I17: 日
D18: 冬休み | E18: 月 | F18: 日 | G18: ～ | H18: 月 | I18: 日
B19: その他休業日
A20: 未就園児教室・クラス | B20: 実施の有無
B21: 未就園児教室名
B22: 主な活動内容
B23: 対象年齢 | D23: 活動回数 | G23: 活動時間 | I23: 定 員
D24: 月 | E24: 回 | F24: 曜日 | G24: ～ | J24: 名
D25: 月 | E25: 回 | F25: 曜日 | G25: ～ | J25: 名
D26: 月 | E26: 回 | F26: 曜日 | G26: ～ | J26: 名
B27: その他
B28: 料 金
B29: 利用方法
A30: 特別支援教育 | D30: 受入れの可否
D31: 方 針
A32: 保育料等費用 | B32: 無償化 対象 （※1） | C32: 保育料 （月額） | D32: 全額無償となります。
B33: 無償化 対象外 （※2） | C33: 入園時 費 用 | J33: 円
J34: 円
J35: 円
J36: 円
C37: その他 月額費用 | J37: 円
J38: 円
J39: 円
J40: 円
C41: その他 費 用 | J41: 円
J42: 円
A43: 預かり保育 | B43: 早朝預かり | D43: 実施日・時間・ １日の預かり人数上限
D44: 料 金（※3）
B45: 通常日預かり | D45: 実施日・時間・ １日の預かり人数上限
D46: 料 金（※3）
B47: 休業日預かり | D47: 実施日・時間・ １日の預かり人数上限
D48: 料 金（※3）
B49: 実施しない日
B50: 新入園児の 入園式前の利用 （4月1日から）
B52: 卒園児の 卒園式後の利用 (3月末まで)
A54: ◆◆幼児教育・保育の無償化について◆◆ ※１ 保育料については、全額無償となります。 ※2 実費として徴収される費用（通園送迎費、食材料費、行事費など）は無償化の対象になりません。 ただし、年収360万円未満相当の世帯の子どもと第３子以降の子どもは、副食（おかず、おやつ等）費用の 減免制度があります。 ※3 預かり保育の利用料は、施設等利用給付認定（新２号・新３号）を受けた子どもを対象に、利用日数に応じて 日額450円 （３～５歳児クラスは月額上限11,300円、満３歳児は月額上限16,300円）まで無償となります。 ⇒ 詳細は、仙台市ホームページ「幼児教育・保育の無償化について」をご覧ください。 https://www.city.sendai.jp/nintechosa/mushouka_gaiyou.html
A55: 児童の安全確保に 向けた取り組み
A56: 卒園児の通う 主な小学校
A57: その他 （特色など）

Sheet 集計用→※こちらのシートは入力不要です
A2: No. | B2: ='R9幼稚園概要（新制度）'!A2 -> 幼稚園名称 | C2: ='R9幼稚園概要（新制度）'!A3 -> ホームページ | D2: ='R9幼稚園概要（新制度）'!A6 -> 定員 | F2: ='R9幼稚園概要（新制度）'!A7 -> 令和９年度 園児募集定員 | G2: ='R9幼稚園概要（新制度）'!A11 -> 常勤教員数 | H2: ='R9幼稚園概要（新制度）'!A12 -> 給食 | K2: ='R9幼稚園概要（新制度）'!A15 -> 通園バス | L2: ='R9幼稚園概要（新制度）'!A16 -> 登園日・教育時間 | M2: ='R9幼稚園概要（新制度）'!A21 -> 未就園児教室・クラス | O2: ='R9幼稚園概要（新制度）'!A31 -> 特別支援教育 | Q2: ='R9幼稚園概要（新制度）'!A44 -> 預かり保育 | Z2: ='R9幼稚園概要（新制度）'!A56 -> 児童の安全確保に 向けた取り組み | AA2: ='R9幼稚園概要（新制度）'!A4 -> 所在地・問合せ先
D3: ='R9幼稚園概要（新制度）'!A6 -> 定員 | E3: ='R9幼稚園概要（新制度）'!F6 -> （令和８年10月１日現在の在園児数： | F3: ='R9幼稚園概要（新制度）'!D7 -> 満３歳児 の入園 | H3: ='R9幼稚園概要（新制度）'!D12 -> 実施の有無 | I3: ='R9幼稚園概要（新制度）'!D13 -> 実施日 | J3: ='R9幼稚園概要（新制度）'!D14 -> 調理場所 | M3: ='R9幼稚園概要（新制度）'!B21 -> 実施の有無 | N3: ='R9幼稚園概要（新制度）'!B24 -> 対象年齢 | O3: ='R9幼稚園概要（新制度）'!D31 -> 受入れの可否 | P3: ='R9幼稚園概要（新制度）'!D32 -> 方 針 | Q3: ='R9幼稚園概要（新制度）'!B44 -> 早朝預かり | S3: ='R9幼稚園概要（新制度）'!B46 -> 通常日預かり | U3: ='R9幼稚園概要（新制度）'!B48 -> 休業日預かり | W3: ='R9幼稚園概要（新制度）'!B50 -> 実施しない日 | X3: ='R9幼稚園概要（新制度）'!B51 -> 新入園児の 入園式前の利用 （４月1日から） | Y3: ='R9幼稚園概要（新制度）'!B53 -> 卒園児の 卒園式後の利用 (３月末まで) | AA3: 郵便番号 | AB3: 住所 | AC3: TEL
F4: ='R9幼稚園概要（新制度）'!E7 -> 入園の可否 | Q4: ='R9幼稚園概要（新制度）'!D44 -> 実施日・時間・ １日の預かり人数上限 | R4: ='R9幼稚園概要（新制度）'!D45 -> 料 金（※2） | S4: ='R9幼稚園概要（新制度）'!D46 -> 実施日・時間・ １日の預かり人数上限 | T4: ='R9幼稚園概要（新制度）'!D47 -> 料 金（※2） | U4: ='R9幼稚園概要（新制度）'!D48 -> 実施日・時間・ １日の預かり人数上限 | V4: ='R9幼稚園概要（新制度）'!D49 -> 料 金（※2）
B5: ='R9幼稚園概要（新制度）'!D2 -> 0 | C5: ='R9幼稚園概要（新制度）'!D3 -> 0 | D5: ='R9幼稚園概要（新制度）'!D6 -> 0 | E5: ='R9幼稚園概要（新制度）'!H6 -> 0 | F5: ='R9幼稚園概要（新制度）'!F7 -> 0 | G5: ='R9幼稚園概要（新制度）'!F11 -> 0 | H5: ='R9幼稚園概要（新制度）'!E12 -> 0 | I5: ='R9幼稚園概要（新制度）'!F13 -> 0 | J5: ='R9幼稚園概要（新制度）'!E14 -> 0 | K5: ='R9幼稚園概要（新制度）'!D15 -> 0 | L5: ='R9幼稚園概要（新制度）'!D16 -> 0 | M5: ='R9幼稚園概要（新制度）'!D21 -> 0 | N5: ='R9幼稚園概要（新制度）'!B25 -> 0 | O5: ='R9幼稚園概要（新制度）'!F31 -> 0 | P5: ='R9幼稚園概要（新制度）'!F32 -> 0 | Q5: ='R9幼稚園概要（新制度）'!F44 -> 0 | R5: ='R9幼稚園概要（新制度）'!F45 -> 0 | S5: ='R9幼稚園概要（新制度）'!F46 -> 0 | T5: ='R9幼稚園概要（新制度）'!F47 -> 0 | U5: ='R9幼稚園概要（新制度）'!F48 -> 0 | V5: ='R9幼稚園概要（新制度）'!F49 -> 0 | W5: ='R9幼稚園概要（新制度）'!D50 -> 0 | X5: ='R9幼稚園概要（新制度）'!D51 -> 0 | Y5: ='R9幼稚園概要（新制度）'!D53 -> 0 | Z5: ='R9幼稚園概要（新制度）'!D56 -> 0 | AA5: ='R9幼稚園概要（新制度）'!D4 -> 〒 | AB5: ='R9幼稚園概要（新制度）'!E4 -> 仙台市 | AC5: ='R9幼稚園概要（新制度）'!E5 -> 0
