{"text_format":"1","workbook":"xlsx","n_sheets":26,"sheets":["マクロテスト","はじめに","計画書①（事業所概要・目標）","計画書② (取組）","計画書③（任意記載）","計算シート（基準年度）","事業所排出量内訳 (基準年度)","計画書提出書","計画書（公表用）","報告書①（事業所概要・実績）","報告書② 第1年度(取組）","報告書② 第2年度(取組）","報告書② 第3年度(取組）","報告書③（任意記載）","計算シート（第１～第３年度）","事業所排出量内訳 (第1年度)","事業所排出量内訳 (第2年度)","事業所排出量内訳 (第3年度)","報告書提出書","報告書（公表用）","委任状","評価点まとめ","係数","産業分類","対策リスト","リスト1"],"not_rendered":{"charts":0,"images":1,"macros":1,"external_links":0,"defined_names":64,"comments":5,"pivot_tables":0},"unopened":[],"bounds":{"document_bytes":16777216,"sheet_cells":100000,"rows_first":2000,"rows_last":500,"rows_between":2000,"halvings":0,"cell_chars":16384,"cell_head_chars":4096},"cells_cut":0,"cells_raw":0,"read":"whole","date_system":"1900"}

{"sheet":"マクロテスト","index":0,"n_rows":152,"n_cols":13,"rows_kept":152,"cut":false,"hidden":false,"merged":[]}
[]
[]
[]
[]
[]
[]
[]
[]
[]
[]
[]
[]
[]
[]
[]
[]
[]
[]
[]
[]
[]
[]
[]
[]
[]
[]
[]
[]
[]
[]
[]
[]
[]
[]
[]
[]
[]
[]
[]
[]
[]
[]
[]
[]
[]
[]
[]
[]
[]
[]
[]
[]
[]
[]
[]
[]
[]
[]
[]
[]
[]
[]
[]
[]
[]
[]
[]
[]
[]
[]
[]
[]
[]
[]
[]
[]
[]
[]
[]
[]
[]
[]
[]
[]
[]
[]
[]
[]
[]
[]
[]
[]
[]
[]
[]
[]
[]
[]
[]
[]
[]
[]
[]
[]
[]
[]
[]
[]
[]
[]
[]
[]
[]
[]
[]
[]
[]
[]
[]
[]
[]
[]
[]
[]
[]
[]
[]
[]
[]
[]
[]
[]
[]
[]
[]
[]
[]
[]
[]
[]
[]
[]
[]
[]
[]
[]
[]
[]
[]
[]
[]
[null,null,null,null,null,null,null,null,null,null,null,null,"以上"]

{"sheet":"はじめに","index":1,"n_rows":30,"n_cols":26,"rows_kept":30,"cut":false,"hidden":true,"merged":[[23,4,23,13],[24,4,24,13],[25,4,25,13],[26,4,26,13],[20,4,20,13],[15,4,15,13],[22,4,22,13],[5,4,5,13],[6,4,6,13],[7,4,7,13],[8,4,8,13],[13,4,13,13],[18,4,18,5],[19,4,19,5],[17,4,17,13]]}
[null,"b","c","d","e","f","g","h","i","j","k","l","m","n","ver.5"]
[null,null,null,null,null,null,null,null,null,null,null,null,null,null,null,null,null,null,null,null,null,null,null,null,null,2012]
[3,"計画書","計画期間",null,{"$f":"IF(E4=\"\",\"\",IF(E4=2025,2025,E4+1))","v":""},"年度","～",2025,"年度"]
[4,null,"基準年度",null,null,"年度"]
[5,null,"提出年月日",null,null,"年",null,"月",null,"日"]
[6,"届出者","法人の名称"]
[7,null,"法人の所在地"]
[8,null,"代表者の職・氏名"]
[9,null,"代理者の職・氏名"]
[10,"該当要件","条例第２条第５号イ",null,null,"①原油換算エネルギー使用量が1,500kL以上の事業所\n　"]
[11,null,"条例第２条第５号ロ",null,null,"②エネルギー起源CO2を除くいずれかの物質の温室効果ガス排出量が3,000トン以上の事業所"]
[12,null,"条例第２条第５号ハ",null,null,"③市内に100台以上の自動車を所有する運送事業者"]
[13,null,"一般事業者",null,null,"④任意提出事業者",null,null,null,null,null,null,null,null,null,null,null,null,true]
[14,"事業所の概要","事業所の名称"]
[15,null,"事業所の所在地",null,"〒",null,"-"]
[16,null,null,null,null,null,null,null,null,null,null,null,null,null,null,null,null,"中分類",{"$f":"E17&F17","v":""}]
[17,null,"産業分類番号",null,null,null,null,null,null,null,null,null,null,null,null,null,null,"主たる業種（中分類）",{"$f":"IFERROR(VLOOKUP(S16,中分類,2,FALSE),\"\")","v":""}]
[18,null,"事業の概要",null,{"$f":"S17","v":""},null,null,null,null,null,null,null,null,null,null,null,null,"小分類",{"$f":"E17&F17&G17","v":""}]
[19,null,null,null,null,null,null,null,null,null,null,null,null,null,null,null,null,"主たる業種（小分類）",{"$f":"IFERROR(VLOOKUP(S18,小分類,2,FALSE),\"\")","v":""}]
[20,null,null,null,null,null,null,null,null,null,null,null,null,null,null,null,null,"細分類",{"$f":"E17&F17&G17&H17","v":""}]
[21,"担当者","所属部署",null,null,null,null,null,null,null,null,null,null,null,null,null,null,"主たる業種（細分類）",{"$f":"IFERROR(VLOOKUP(S20,細分類,2,FALSE),\"\")","v":""}]
[22,null,"住所",null,"〒",null,"-"]
[23]
[24,null,"氏名"]
[25,null,"電話番号"]
[26,null,"FAX番号"]
[27,null,"Eメールアドレス"]
[28]
[29,"報告書","提出対象年度",null,"第",null,"年度"]
[30,null,"提出年月日",null,null,"年",null,"月",null,"日"]

{"sheet":"計画書①（事業所概要・目標）","index":2,"n_rows":28,"n_cols":16,"rows_kept":28,"cut":false,"hidden":true,"merged":[[26,12,26,13],[27,0,27,1],[27,2,27,15],[26,0,26,1],[26,2,26,4],[26,5,26,6],[26,7,26,8],[26,10,26,11],[23,12,23,13],[24,2,25,4],[24,5,24,6],[24,7,24,8],[24,10,24,11],[24,12,24,13],[25,5,25,6],[25,7,25,8],[25,10,25,11],[25,12,25,13],[23,0,23,1],[23,2,23,4],[23,5,23,6],[23,7,23,8],[23,10,23,11],[2,1,2,14],[8,0,8,3],[7,0,7,3],[7,4,7,15],[5,0,5,3],[5,4,5,15],[6,0,6,3],[6,4,6,15],[8,4,8,15]]}
[]
[]
[null,"事業者温室効果ガス削減計画書（第二計画期間）"]
[]
["１　事業所の概要"]
["事業者の名称",null,null,null,{"$f":"IF(はじめに!E6=\"\",\"\",はじめに!E6)","v":""}]
["事業所の名称",null,null,null,{"$f":"IF(はじめに!E14=\"\",\"\",はじめに!E14)","v":""}]
["事業所の所在地",null,null,null,{"$f":"IF(はじめに!E16=\"\",\"\",はじめに!E16)","v":""}]
["主たる業種",null,null,null,{"$f":"IF(はじめに!E18=\"\",\"\",はじめに!E18)","v":""}]
[]
[]
[]
[]
[]
[]
[]
[]
[]
[]
[]
[]
[]
["２　温室効果ガスの排出の状況及び排出抑制に係る目標"]
[{"$f":"IF(はじめに!E4=\"\",\"\",はじめに!E4)&\" 年度\"&CHAR(10)&\"（基準年度）\"","v":" 年度\n（基準年度）"},null,"温室効果ガス\nの排出の状況",null,null,"基準排出量",null,{"$f":"IF('事業所排出量内訳 (基準年度)'!R4=0,\"\",'事業所排出量内訳 (基準年度)'!V24)","v":""},null,"t-CO2","基準原単位",null,{"$f":"IF('事業所排出量内訳 (基準年度)'!R4=0,\"\",'事業所排出量内訳 (基準年度)'!V27)","v":""},null,"t-CO2/",{"$f":"IF('事業所排出量内訳 (基準年度)'!G72=\"\",\"\",'事業所排出量内訳 (基準年度)'!G72)","v":""}]
[null,null,"温室効果ガス\n排出抑制に係る\n目標",null,null,"目標排出量",null,null,null,"t-CO2","目標原単位",null,null,null,"t-CO2/",{"$f":"IF(P24=\"\",\"\",P24)","v":""}]
[{"$f":"IF(はじめに!H3=\"\",\"\",はじめに!H3)","v":2025},"年度",null,null,null,"削減率",null,{"$f":"IFERROR((IF($H$25=\"\",\"\",INT(($H$24-H25)/$H$24*10000)/100)),\"\")","v":""},{"$f":"IF($F$5=\"\",\"\",INT(($F$5-I25)/$F$5*100000)/1000)","v":""},"%","削減率",null,{"$f":"IFERROR(IF($M$25=\"\",\"\",INT(($M$24-M25)/$M$24*10000)/100),\"\")","v":""},{"$f":"IF($F$5=\"\",\"\",INT(($F$5-N25)/$F$5*100000)/1000)","v":""},"%"]
["(目標年度)",null,"非化石エネルギー\nの使用目標割合\n（任意入力）",null,null,"非化石電気",null,null,null,"%","その他\n非化石エネルギー等",null,null,null,"%"]
["目標設定の考え方"]

{"sheet":"計画書② (取組）","index":3,"n_rows":72,"n_cols":16,"rows_kept":72,"cut":false,"hidden":true,"merged":[[36,14,36,15],[61,1,61,2]]}
[]
[]
["３の１　重点的に実施する取組の実施計画（基本対策）",null,null,null,null,null,null,null,null,null,null,null,null,null,"基準年度"]
["番号","分類","項目","対策内容","実施状況\n（基準年度）","実施予定",null,null,"状況","項目数","評価指標",null,"実施予定","項目数","未実施"]
[1,"一般管理事項","エネルギー管理推進体制の整備","エネルギー管理推進体制が整備されている。エネルギー管理推進体制の中で、エネルギー管理が推進されている。",null,null,null,null,"実施済",{"$f":"COUNTIF($E$5:$E$34,$I5)","v":0},5,null,"第1年度",{"$f":"SUM(O5:O5)","v":0},{"$f":"COUNTIFS($E$5:$E$34,O$4,$F$5:$F$34,$M5)","v":0}]
[2,"一般管理事項","エネルギー使用量の把握","主要なエネルギー使用先のエネルギー使用量を、エネルギー種類別に計測している。計測結果が集計され、記録されている。",null,null,null,null,"未実施",{"$f":"COUNTIF($E$5:$E$34,$I6)","v":0},0,null,"第2年度",{"$f":"SUM(O6:O6)","v":0},{"$f":"COUNTIFS($E$5:$E$34,O$4,$F$5:$F$34,$M6)","v":0}]
[3,"一般管理事項","省エネルギー教育の実施","省エネルギー、地球温暖化防止に関する研修、教育を定期的に実施し、実施記録を残している。",null,null,null,null,"非該当",{"$f":"COUNTIF($E$5:$E$34,$I7)","v":0},"-",null,"第3年度",{"$f":"SUM(O7:O7)","v":0},{"$f":"COUNTIFS($E$5:$E$34,O$4,$F$5:$F$34,$M7)","v":0}]
[4,"一般管理事項","空調設定温度の管理","空調設定温度がルール化されている。空調を使用している場所の温度が記録されている。",null,null,null,null,"合計",{"$f":"MAX(A5:A17)","v":13},50,null,"予定なし",{"$f":"SUM(O8:O8)","v":0},{"$f":"COUNTIFS($E$5:$E$34,O$4,$F$5:$F$34,$M8)","v":0}]
[5,"一般管理事項","換気設備の適正管理","室内の二酸化炭素濃度を定期的に測定し、許容値を超えない範囲で窓開け換気の回数を減らしている。\n全熱交換型換気扇による機械換気が適切に実施されている。",null,null,null,null,"基準年度",{"$f":"IF(COUNTBLANK(E5:E17)=13,\"\",IFERROR(J5/(J8-J7),0))","v":""},{"$f":"IF(J9=\"\",\"\",ROUNDUP($J$9*$K$8,0))","v":""},null,"合計",{"$f":"SUM(N5:N8)","v":0},{"$f":"SUM(O5:O8)","v":0}]
[6,"ボイラー、工業炉、熱交換器等","空調機器の保全管理","空調機器、換気設備のフィルターを定期的に清掃・交換している。空調機器、換気設備のフィルターの清掃・交換記録がある。",null,null,null,null,"計画期間満了時",{"$f":"IF(COUNTBLANK(E5:E17)=13,\"\",IFERROR(SUM(J5,O5,O6,O7)/(J8-J7),0))","v":""},{"$f":"IF(J10=\"\",\"\",ROUNDUP($J$10*$K$8,0))","v":""}]
[7,"ボイラー、工業炉、熱交換器等","照明器具の点灯時間管理","照明器具の点灯時間がルール化されている。不要な照明の使用や消し忘れをチェックする仕組みがある。センサー等による制御が導入されている。"]
[8,"ボイラー、工業炉、熱交換器等","ＬＥＤ照明器具の導入","照明の交換時期にあわせ、ＬＥＤ照明に交換している。事業所内の照明の80%（消費電力基準）以上がＬＥＤ照明になっている。"]
[9,"ボイラー、工業炉、熱交換器等","給湯器の運転方法管理","給湯器の運転時間、季節毎の設定温度がルール化されている。給湯器がルールに従って運転されている。"]
[10,"ボイラー、工業炉、熱交換器等","事務所機器の待機電力管理","PC、OA機器等の事務所機器が省エネモードに設定されており、長時間不使用の場合には電源を切ることがルール化されている。PC、OA機器等の事務所機器がルールに従って運転されている。"]
[11,"ボイラー、工業炉、熱交換器等","日射エネルギーに起因する空調負荷の抑制","庇、ブラインド、カーテン等を季節や日射量に合わせ調整することがルール化されている。庇、ブラインド、カーテン等がルールに従って調整されている。"]
[12,"空気調和設備、換気設備","車両の点検整備","定期的に車両の点検整備を行い、その記録がある。必要により整備管理者が選任されている。"]
[13,"空気調和設備、換気設備","エコドライブ実践","車両を運転する可能性のある全ての担当者を対象としてエコドライブ教育を実施し、その記録がある。「エコドライブ実践状況チェックシート」を運用している。"]
[14,"空気調和設備、換気設備"]
[15,"空気調和設備、換気設備"]
[16,"熱源設備、熱搬送設備"]
[17,"熱源設備、熱搬送設備"]
[18,"熱源設備、熱搬送設備"]
[19,"ポンプ"]
[20,"コンプレッサ"]
[21,"コンプレッサ"]
[22,"コンプレッサ"]
[23,"照明器具"]
[24,"照明器具"]
[25,"コージェネレーション設備"]
[26,"給湯"]
[27,"事務用機器等"]
[28,"建物"]
[29,"車両"]
[30,"車両"]
[]
[]
["３の２　重点的に実施する取組の実施計画（選択対策）"]
["番号","分類","項目","対策内容","実施状況\n（基準年度）","実施予定",null,null,"状況","項目数","評価指標",null,"実施予定","項目数","一部実施済","未実施"]
[1,null,null,{"$f":"IFERROR(VLOOKUP(C39,選択対策,2,0),\"\")","v":""},null,null,null,null,"実施済",{"$f":"COUNTIF($E$39:$E$58,$I39)","v":0},5,null,"第1年度",{"$f":"SUM(O39:P39)","v":0},{"$f":"COUNTIFS($E$39:$E$58,O$38,$F$39:$F$58,$M39)","v":0},0]
[2,null,null,"",null,null,null,null,"一部実施済",{"$f":"COUNTIF($E$39:$E$58,$I40)","v":0},3,null,"第2年度",{"$f":"SUM(O40:P40)","v":0},0,0]
[3,null,null,"",null,null,null,null,"未実施",{"$f":"COUNTIF($E$39:$E$58,$I41)","v":0},0,null,"第3年度",{"$f":"SUM(O41:P41)","v":0},0,0]
[4,null,null,"",null,null,null,null,"合計",{"$f":"SUM(J39:J41)","v":0},50]
[5,null,null,"",null,null,null,null,"基準年度\n評価点",{"$f":"IF(J39*K39+J40*K40>K42,K42,J39*K39+J40*K40)","v":0}]
[6,null,null,"",null,null,null,null,"計画期間満了時\n評価点",{"$f":"IF((J39+SUM(N39:N41))*K39+(J40-SUM(O39:O41))*K40>K42,K42,(J39+SUM(N39:N41))*K39+(J40-SUM(O39:O41))*K40)","v":0}]
[7,null,null,""]
[8,null,null,""]
[9,null,null,""]
[10,null,null,""]
[11,null,null,""]
[12,null,null,""]
[13,null,null,""]
[14,null,null,""]
[15,null,null,""]
[16,null,null,""]
[17,null,null,""]
[18,null,null,""]
[19,null,null,""]
[20,null,null,""]
[]
[]
["３の３　重点的に実施する取組の実施計画（その他の対策）"]
["番号","項目",null,"具体的な取組内容（自由記述）","実施状況\n（基準年度）","実施予定",null,null,"状況","項目数","評価指標",null,"実施予定","項目数","評価指標"]
[1,null,null,null,null,null,null,null,"実施済",{"$f":"COUNTIF($E$63:$E$72,$I63)","v":0},5,null,"第1年度",{"$f":"COUNTIFS($E$63:$E$72,$I$64,$F$63:$F$72,$M63)","v":0},5]
[2,null,null,null,null,null,null,null,"未実施",{"$f":"COUNTIF($E$63:$E$72,$I64)","v":0},0,null,"第2年度",{"$f":"COUNTIFS($E$63:$E$72,$I$64,$F$63:$F$72,$M64)","v":0},5]
[3,null,null,null,null,null,null,null,"合計",{"$f":"SUM(J63:J64)","v":0},25,null,"第3年度",{"$f":"COUNTIFS($E$63:$E$72,$I$64,$F$63:$F$72,$M65)","v":0},5]
[4,null,null,null,null,null,null,null,"基準年度\n評価点",{"$f":"IF(J63*K63>K65,K65,J63*K63)","v":0},null,null,"合計",{"$f":"SUM(N63:N65)","v":0},25]
[5,null,null,null,null,null,null,null,"計画期間満了時\n評価点",{"$f":"IF(J63*K63+N66*O63>O66,O66,J63*K63+N66*O63)","v":0}]
[6]
[7]
[8]
[9]
[10]

{"sheet":"計画書③（任意記載）","index":4,"n_rows":26,"n_cols":6,"rows_kept":26,"cut":false,"hidden":true,"merged":[]}
[]
["参考１　これまで実施した削減対策の実績（詳細）"]
["番号","対策内容","実施年度","推計削減量\n（t-CO2/年）",null,"写真"]
[1]
[2]
[3]
[4]
[5]
[6]
[7]
[8]
[9]
[10]
[]
["参考２　計画期間内に実施を予定している削減対策（詳細）"]
["番号","対策内容","実施予定\n年度","推計削減量\n（t-CO2/年）",null,"写真"]
[1]
[2]
[3]
[4]
[5]
[6]
[7]
[8]
[9]
[10]

{"sheet":"計算シート（基準年度）","index":5,"n_rows":21,"n_cols":18,"rows_kept":21,"cut":false,"hidden":true,"merged":[[19,0,20,0],[1,0,1,1],[10,0,10,1],[11,0,12,0],[13,0,14,0],[15,0,16,0],[17,0,18,0]]}
["（参考）エネルギー使用量計算シート"]
["燃料",null,"4月","5月","6月","7月","8月","9月","10月","11月","12月","1月","2月","3月","合計"]
["揮発油（ガソリン）","[リットル]",null,null,null,null,null,null,null,null,null,null,null,null,{"$f":"IF(COUNTBLANK(C3:N3)=12,\"\",SUM(C3:N3))","v":""},null,{"$f":"IF(COUNTBLANK(C3:N3)=12,\"\",O3/1000)","v":""},"ｋｌ"]
["灯油","[リットル]",null,null,null,null,null,null,null,null,null,null,null,null,{"$f":"IF(COUNTBLANK(C4:N4)=12,\"\",SUM(C4:N4))","v":""},null,{"$f":"IF(COUNTBLANK(C4:N4)=12,\"\",O4/1000)","v":""},"ｋｌ"]
["軽油","[リットル]",null,null,null,null,null,null,null,null,null,null,null,null,"",null,{"$f":"IF(COUNTBLANK(C5:N5)=12,\"\",O5/1000)","v":""},"ｋｌ"]
["Ａ重油","[リットル]",null,null,null,null,null,null,null,null,null,null,null,null,"",null,"","ｋｌ"]
["Ｂ・Ｃ重油","[リットル]",null,null,null,null,null,null,null,null,null,null,null,null,"",null,"","ｋｌ"]
["液化石油ガス　(LPG)","[kg]",null,null,null,null,null,null,null,null,null,null,null,null,"",null,"","ｔ"]
["都市ガス","[m3]",null,null,null,null,null,null,null,null,null,null,null,null,"",null,"","千㎥"]
[]
["電気[kWh]",null,"4月","5月","6月","7月","8月","9月","10月","11月","12月","1月","2月","3月","合計"]
[{"$f":"'事業所排出量内訳 (基準年度)'!U42&\"\"","v":""},"昼間買電",null,null,null,null,null,null,null,null,null,null,null,null,{"$f":"IF(COUNTBLANK(C12:N12)=12,\"\",SUM(C12:N12))","v":""},null,{"$f":"IF(COUNTBLANK(C12:N12)=12,\"\",O12/1000)","v":""},"千kWh"]
[null,"夜間買電",null,null,null,null,null,null,null,null,null,null,null,null,"",null,"","千kWh"]
[{"$f":"'事業所排出量内訳 (基準年度)'!U43&\"\"","v":""},"昼間買電",null,null,null,null,null,null,null,null,null,null,null,null,"",null,"","千kWh"]
[null,"夜間買電",null,null,null,null,null,null,null,null,null,null,null,null,{"$f":"IF(COUNTBLANK(C15:N15)=12,\"\",SUM(C15:N15))","v":""},null,"","千kWh"]
[{"$f":"'事業所排出量内訳 (基準年度)'!U44&\"\"","v":""},"昼間買電",null,null,null,null,null,null,null,null,null,null,null,null,"",null,"","千kWh"]
[null,"夜間買電",null,null,null,null,null,null,null,null,null,null,null,null,"",null,"","千kWh"]
[{"$f":"'事業所排出量内訳 (基準年度)'!U45&\"\"","v":""},"昼間買電",null,null,null,null,null,null,null,null,null,null,null,null,"",null,"","千kWh"]
[null,"夜間買電",null,null,null,null,null,null,null,null,null,null,null,null,"",null,"","千kWh"]
[{"$f":"'事業所排出量内訳 (基準年度)'!U46&\"\"","v":""},"昼間買電",null,null,null,null,null,null,null,null,null,null,null,null,"",null,"","千kWh"]
[null,"夜間買電",null,null,null,null,null,null,null,null,null,null,null,null,"",null,"","千kWh"]

{"sheet":"事業所排出量内訳 (基準年度)","index":6,"n_rows":73,"n_cols":54,"rows_kept":73,"cut":false,"hidden":true,"merged":[[3,2,4,7],[0,9,0,10],[3,8,4,8],[3,9,4,9],[3,10,4,10],[30,8,31,8],[30,9,31,9],[39,22,40,22],[39,23,40,23],[30,10,31,10],[30,11,31,11],[30,12,31,12],[30,13,31,13],[3,12,4,12],[3,13,4,13],[3,11,4,11],[7,20,8,20],[7,21,8,22],[8,23,8,24],[9,23,9,24],[13,20,14,20],[13,21,14,22],[14,23,14,24],[39,24,40,24],[39,25,40,25],[39,26,40,26],[48,20,49,21],[48,22,49,22],[48,23,49,23],[48,24,49,24],[26,22,26,23],[39,20,40,20],[39,21,40,21],[64,20,65,20],[64,21,65,21],[64,22,65,22],[60,21,61,21],[60,24,61,24],[60,22,61,22],[60,20,61,20],[60,23,61,23],[48,27,49,27],[51,20,51,21],[54,21,55,21],[54,22,55,22],[54,23,55,23],[54,24,55,24],[54,25,55,25],[48,25,49,25],[54,26,55,26],[54,27,55,27],[48,26,49,26],[12,4,12,7],[13,4,13,7],[14,4,14,7],[18,4,18,7],[19,4,19,7],[17,4,17,7],[124,20,125,21],[72,6,72,7],[71,6,71,7],[61,2,61,5],[61,6,61,7],[62,2,62,5],[62,6,62,7],[63,2,63,5],[63,6,63,7],[65,6,65,7],[65,2,65,5],[64,6,64,7],[64,2,64,5],[70,6,70,7],[72,2,72,5],[71,2,71,5],[60,2,60,5],[60,6,60,7],[21,2,21,7],[34,5,34,7],[33,5,33,7],[22,2,28,2],[23,3,23,7],[22,3,22,7],[24,3,24,7],[25,3,25,7],[26,3,26,7],[30,2,31,7],[70,2,70,5],[68,2,69,7],[15,4,15,7],[16,4,16,7],[56,6,57,7],[56,2,57,5],[59,6,59,7],[58,6,58,7],[59,2,59,5],[58,2,58,5],[53,2,53,5],[46,6,46,7],[47,6,47,7],[48,6,48,7],[49,6,49,7],[50,6,50,7],[51,6,51,7],[53,6,53,7],[52,6,52,7],[41,2,41,7],[44,6,45,7],[44,2,45,5],[27,3,27,7],[29,2,29,7]]}
[null,null,"温室効果ガス排出量内訳",null,null,null,null,null,"基準年度",{"$f":"\"（\"&はじめに!E4&\"年度）\"","v":"（年度）"},null,null,null,null,null,null,null,null,null,{"$f":"はじめに!E4","v":0},null,null,null,null,null,null,null,null,null,null,null,null,null,null,null,null,null,null,null,null,null,null,null,null,null,null,null,null,{"$f":"IF(T1=2022,AZ1,AZ2)","v":"一般その他化石2023"},{"$f":"IF(T1=2022,BB1,BB2)","v":"一般その他非化石2023"},null,"一般その他化石2022",null,"一般その他非化石2022"]
[null,null,null,null,null,null,null,null,null,null,null,null,null,{"$f":"はじめに!E4","v":0},null,null,null,null,null,null,null,null,null,null,null,null,null,null,null,null,null,null,null,2022,null,null,null,null,null,2023,null,null,null,null,null,null,null,null,null,null,null,"一般その他化石2023",null,"一般その他非化石2023"]
[null,null,"１．エネルギー起源二酸化炭素（CO2）排出量",null,null,null,null,null,null,null,null,null,null,null,null,null,null,null,null,null,"１．エネルギー起源二酸化炭素（CO2）排出量",null,null,null,null,null,null,null,null,null,null,null,null,null,"単位",null,null,null,null,null,"単位"]
[null,null,"燃料の種類",null,null,null,null,null,"使用量","外部\n供給量","実使用量","単位","熱量\n(GJ)","排出量\n(t-CO2)",null,null,null,{"$f":"IF(V4=0,0,1)","v":0},null,null,"熱量合計",{"$f":"SUM(M22,M30,M42)","v":0},"GJ",null,null,null,null,null,null,null,null,null,1,"揮発油","kl",{"$f":"SUMIFS($I$13:$I$19,$E$13:$E$19,$AN4)","v":0},{"$f":"SUMIFS($J$13:$J$19,$E$13:$E$19,$AN4)","v":0},null,1,"揮発油","kl",{"$f":"SUMIFS($I$13:$I$19,$E$13:$E$19,$AN4)","v":0},{"$f":"SUMIFS($J$13:$J$19,$E$13:$E$19,$AN4)","v":0},{"$f":"COUNTIF($AT$4:$AT$10,AN4)","v":1},null,"揮発油"]
[null,null,null,null,null,null,null,null,null,null,null,null,null,null,null,"エネルギー名称区分2022","エネルギー名称区分2023","単位発熱量","炭素排出係数",null,"原油換算",{"$f":"V4*0.0258","v":0},"KL",null,null,null,null,null,null,null,null,null,2,"灯油","t",0,0,null,2,"灯油","t",0,0,1,null,"灯油"]
[null,null,null,"揮発油（ガソリン）",null,null,null,null,{"$f":"'計算シート（基準年度）'!Q3","v":""},null,{"$f":"IF(AND(I6=\"\",J6=\"\"),\"\",SUM(I6)-SUM(J6))","v":""},"kl",{"$f":"IFERROR(IF(K6=\"\",\"\",$K6*R6),\"-------------\")","v":""},{"$f":"IFERROR(IF(K6=\"\",\"\",$M6*S6*44/12),\"----------\")","v":""},null,"揮発油","揮発油",{"$f":"IF($T$1=2022,VLOOKUP(P6,係数2022,7,0),VLOOKUP(Q6,係数2023,7,0))","v":33.4},{"$f":"IF($T$1=2022,VLOOKUP(P6,係数2022,9,0),VLOOKUP(Q6,係数2023,9,0))","v":1.8700000000000001E-2},null,"排出量合計",{"$f":"ROUNDDOWN(SUM(N22,N30,N42),1)","v":0},"t-CO2",null,null,null,null,null,null,null,null,null,3,"軽油","千Nm3",0,0,null,3,"軽油","千Nm3",0,0,1,null,"軽油"]
[null,null,null,"灯油",null,null,null,null,{"$f":"'計算シート（基準年度）'!Q4","v":""},null,{"$f":"IF(AND(I7=\"\",J7=\"\"),\"\",SUM(I7)-SUM(J7))","v":""},"kl","","",null,"灯油","灯油",36.5,1.8700000000000001E-2,null,null,null,null,null,null,null,null,null,null,null,null,null,4,"Ａ重油","kl",0,0,null,4,"Ａ重油","kl",0,0,1,null,"Ａ重油"]
[null,null,null,"軽油",null,null,null,null,{"$f":"'計算シート（基準年度）'!Q5","v":""},null,"","kl","","",null,"軽油","軽油",{"$f":"IF($T$1=2022,VLOOKUP(P8,係数2022,7,0),VLOOKUP(Q8,係数2023,7,0))","v":38},1.8800000000000001E-2,null,"燃料等の種類","熱量内訳",null,null,null,null,null,null,null,null,null,null,5,"Ｂ・Ｃ重油","kl",0,0,null,5,"Ｂ・Ｃ重油","kl",0,0,1,null,"Ｂ・Ｃ重油"]
[null,null,null,"Ａ重油",null,null,null,null,{"$f":"'計算シート（基準年度）'!Q6","v":""},null,"","kl","","",null,"Ａ重油","Ａ重油",38.9,1.9300000000000001E-2,null,null,null,null,"うち非化石熱量",null,"非化石割合",null,null,null,null,null,null,6,"液化石油ガス     (LPG)","t",0,0,null,6,"液化石油ガス     (LPG)","t",0,0,1,null,"液化石油ガス     (LPG)"]
[null,null,"化","Ｂ・Ｃ重油",null,null,null,null,{"$f":"'計算シート（基準年度）'!Q7","v":""},null,"","kl","","",null,"Ｂ・Ｃ重油","Ｂ・Ｃ重油",41.8,2.0199999999999999E-2,null,"化石燃料・熱",{"$f":"M22","v":0},"GJ",null,null,null,null,null,null,null,null,null,7,"都市ガス","千Nm3",0,0,null,7,"都市ガス","千Nm3",0,0,1,null,"都市ガス"]
[null,null,"石","液化石油ガス     (LPG)",null,null,null,null,{"$f":"'計算シート（基準年度）'!Q8","v":""},null,"","t","","",null,"液化石油ガス     (LPG)","液化石油ガス     (LPG)",50.1,1.6299999999999999E-2,null,"非化石燃料・非化石熱",{"$f":"IF(T1=2022,\"-------------------\",SUM(M30))","v":0},"GJ",{"$f":"V11","v":0},"GJ",{"$f":"IF(T1=2022,\"---------------\",IF(V11<>0,X11/V11,\"---------------\"))","v":"---------------"},null,null,null,null,null,null,8,"原油（コンデンセートを除く。）","kl",0,0,null,8,"原油（コンデンセートを除く。）","kl",0,0,0]
[null,null,"燃","都市ガス",null,null,null,null,{"$f":"'計算シート（基準年度）'!Q9","v":""},null,"","千m3","","",null,"都市ガス","都市ガス",45,1.4E-2,null,"熱量合計（電気以外）",{"$f":"SUM(V10:V11)","v":0},"GJ",{"$f":"IF($T$1=2022,\"-------------------\",SUM(X11,X10))","v":0},"GJ",{"$f":"IF($T$1=2022,\"---------------\",IF(X12=0,0,X12/V12))","v":0},null,null,null,null,null,null,9,"原油のうちコンデンセート(NGL)","kl",0,0,null,9,"原油のうちコンデンセート(NGL)","kl",0,0,0]
[null,null,"料",null,null,null,null,null,null,null,{"$f":"IF(AND(I13=\"\",J13=\"\"),\"\",SUM(I13)-SUM(J13))","v":""},{"$f":"IF(E13=\"\",\"\",IF($T$1=2022,VLOOKUP(E13,係数2022,6,0),VLOOKUP(E13,係数2023,6,0)))","v":""},{"$f":"IFERROR(IF(K13=\"\",\"\",$K13*R13),\"----------\")","v":""},"",null,null,null,{"$f":"IF($T$1=2022,VLOOKUP(E13,係数2022,7,0),VLOOKUP(E13,係数2023,7,0))","v":{"$error":"#N/A"}},{"$f":"IF($T$1=2022,VLOOKUP(E13,係数2022,9,0),VLOOKUP(E13,係数2023,9,0))","v":{"$error":"#N/A"}},null,null,null,null,null,null,null,null,null,null,null,null,null,10,"ナフサ","kl",0,0,null,10,"ナフサ","kl",0,0,0]
[null,null,"・",null,null,null,null,null,null,null,{"$f":"IF(AND(I14=\"\",J14=\"\"),\"\",SUM(I14)-SUM(J14))","v":""},{"$f":"IF(E14=\"\",\"\",IF($T$1=2022,VLOOKUP(E14,係数2022,6,0),VLOOKUP(E14,係数2023,6,0)))","v":""},{"$f":"IFERROR(IF(K14=\"\",\"\",$K14*R14),\"----------\")","v":""},"",null,null,null,{"$error":"#N/A"},{"$error":"#N/A"},null,"燃料等の種類","電気使用量",null,null,null,null,null,null,null,null,null,null,11,"ジェット燃料油","kl",0,0,null,11,"ジェット燃料油","kl",0,0,0]
[null,null,"熱",null,null,null,null,null,null,null,"",{"$f":"IF(E15=\"\",\"\",IF($T$1=2022,VLOOKUP(E15,係数2022,6,0),VLOOKUP(E15,係数2023,6,0)))","v":""},{"$f":"IFERROR(IF(K15=\"\",\"\",$K15*R15),\"----------\")","v":""},"",null,null,null,{"$error":"#N/A"},{"$error":"#N/A"},null,null,null,null,"うち非化石電気使用量",null,"非化石割合",null,null,null,null,null,null,12,"石油アスファルト","kl",0,0,null,12,"石油アスファルト","kl",0,0,0]
[null,null,null,"そ",null,null,null,null,null,null,"",{"$f":"IF(E16=\"\",\"\",IF($T$1=2022,VLOOKUP(E16,係数2022,6,0),VLOOKUP(E16,係数2023,6,0)))","v":""},{"$f":"IFERROR(IF(K16=\"\",\"\",$K16*R16),\"----------\")","v":""},"",null,null,null,{"$error":"#N/A"},{"$error":"#N/A"},null,"電気",{"$f":"K42","v":0},"kWh ",{"$f":"K41","v":0},"kWh ",{"$f":"IF($T$1=2022,\"----------\",IF(V16=0,0,X16/V16))","v":0},null,null,null,null,null,null,13,"石油コークス","kl",0,0,null,13,"石油コークス","kl",0,0,0]
[null,null,null,"の",null,null,null,null,null,null,"",{"$f":"IF(E17=\"\",\"\",IF($T$1=2022,VLOOKUP(E17,係数2022,6,0),VLOOKUP(E17,係数2023,6,0)))","v":""},"","",null,null,null,{"$error":"#N/A"},{"$error":"#N/A"},null,null,null,null,null,null,null,null,null,null,null,null,null,14,"石油系炭化水素ガス","t",0,0,null,14,"石油系炭化水素ガス","t",0,0,0]
[null,null,null,"他","産業用以外の蒸気",null,null,null,null,null,"","GJ","",{"$f":"IF(K18=\"\",\"\",\n      IF($T$1=2022,K18*S18,\n                  IF(OR(W30=\"\",K18=\"\"),\"\",K18*W30)))","v":""},null,"産業用以外の蒸気","産業用以外の蒸気_化石",{"$f":"IF($T$1=2022,VLOOKUP(P18,係数2022,7,0),VLOOKUP(Q18,係数2023,7,0))","v":1.19},{"$f":"IF($T$1=2022,VLOOKUP(P18,係数2022,9,0),VLOOKUP(Q18,係数2023,9,0))","v":"ー"},null,"２．エネルギー起源二酸化炭素（CO2）以外の温室効果ガス排出量",null,null,null,null,null,null,null,null,null,null,null,15,"液化天然ガス     (LNG)","千Nm3",0,0,null,15,"液化天然ガス     (LNG)","千Nm3",0,0,0]
[null,null,null,null,"温水",null,null,null,null,null,"","GJ",{"$f":"IFERROR(IF(K19=\"\",\"\",$K19*R19),\"----------\")","v":""},{"$f":"IF(K19=\"\",\"\",\n      IF($T$1=2022,K19*S19,\n                  IF(OR(W31=\"\",K19=\"\"),\"\",K19*W31)))","v":""},null,"温水","温水_化石",{"$f":"IF($T$1=2022,VLOOKUP(P19,係数2022,7,0),VLOOKUP(Q19,係数2023,7,0))","v":1.19},"ー",null,"排出量合計",{"$f":"SUM(G54)","v":0},"t-CO2",null,null,null,null,null,null,null,null,null,16,"その他可燃性天然ガス","t",0,0,null,16,"その他可燃性天然ガス","t",0,0,0]
[null,null,null,null,"冷水",null,null,null,null,null,"","GJ",{"$f":"IFERROR(IF(K20=\"\",\"\",$K20*R20),\"----------\")","v":""},{"$f":"IF(K20=\"\",\"\",\n      IF($T$1=2022,K20*S20,\n                  IF(OR(W32=\"\",K20=\"\"),\"\",K20*W32)))","v":""},null,"冷水","冷水_化石",1.19,"ー",null,null,null,null,null,null,null,null,null,null,null,null,null,17,"原料炭","t",0,0,null,17,"輸入原料炭","t",0,0,0]
[null,null,null,null,{"$f":"\"その他（\"&U35&\"）\"","v":"その他（）"},null,null,null,null,null,{"$f":"IF(AND(I21=\"\",J21=\"\"),\"\",SUM(I21)-SUM(J21))","v":""},null,null,null,null,null,null,null,null,null,"３．クレジット等による削減量",null,null,null,null,null,null,null,null,null,null,null,18,"一般炭","t",{"$f":"SUMIFS($I$13:$I$19,$E$13:$E$19,$AV25)","v":0},{"$f":"SUMIFS($J$13:$J$19,$E$13:$E$19,$AV25)","v":0},null,18,"コークス用原料炭","t",0,0,0]
[null,null,"小　　　　　計",null,null,null,null,null,"－","－","－","－",{"$f":"SUM(M6:M21)","v":0},{"$f":"SUM(N6:N21)","v":0},null,null,null,null,null,null,"削減量合計",{"$f":"SUM(G66)","v":0},"t-CO2",null,null,null,null,null,null,null,null,null,19,"無煙炭","t",{"$f":"SUMIFS($I$13:$I$19,$E$13:$E$19,$AV26)","v":0},{"$f":"SUMIFS($J$13:$J$19,$E$13:$E$19,$AV26)","v":0},null,19,"吹込用原料炭","t",0,0,0]
[null,null,"非化石燃料・\n非化石熱",null,null,null,null,null,null,null,{"$f":"IF(AND(I23=\"\",J23=\"\"),\"\",SUM(I23)-SUM(J23))","v":""},{"$f":"IF(D23=\"\",\"\",IF($T$1=2022,\"----------\",VLOOKUP(D23,係数2023,6,0)))","v":""},{"$f":"IFERROR(IF(K23=\"\",\"\",$K23*R23),\"-------------\")","v":""},{"$f":"IFERROR(IF(K23=\"\",\"\",$M23*S23*44/12),\"----------\")","v":""},null,null,null,{"$f":"IF($T$1=2022,VLOOKUP(D23,係数2022,7,0),VLOOKUP(D23,係数2023,7,0))","v":{"$error":"#N/A"}},{"$f":"IF($T$1=2022,VLOOKUP(D23,係数2022,9,0),VLOOKUP(D23,係数2023,9,0))","v":{"$error":"#N/A"}},null,null,null,null,null,null,null,null,null,null,null,null,null,20,"石炭コークス","t",{"$f":"SUMIFS($I$13:$I$19,$E$13:$E$19,$AN26)","v":0},{"$f":"SUMIFS($J$13:$J$19,$E$13:$E$19,$AN26)","v":0},null,20,"輸入一般炭","t",0,0,0]
[null,null,null,null,null,null,null,null,null,null,"","",{"$f":"IFERROR(IF(K24=\"\",\"\",$K24*R24),\"-------------\")","v":""},"",null,null,null,{"$error":"#N/A"},{"$error":"#N/A"},null,"温室効果ガス総排出量",{"$f":"V6+V19-V22","v":0},"t-CO2",null,null,null,null,null,null,null,null,null,21,"コールタール","t",{"$f":"SUMIFS($I$13:$I$19,$E$13:$E$19,$AN27)","v":0},{"$f":"SUMIFS($J$13:$J$19,$E$13:$E$19,$AN27)","v":0},null,21,"国産一般炭","t",0,0,0]
[null,null,null,null,null,null,null,null,null,null,"","","","",null,null,null,{"$error":"#N/A"},{"$error":"#N/A"},null,null,null,null,null,null,null,null,null,null,null,null,null,22,"コークス炉ガス","t",{"$f":"SUMIFS($I$13:$I$19,$E$13:$E$19,$AN28)","v":0},{"$f":"SUMIFS($J$13:$J$19,$E$13:$E$19,$AN28)","v":0},null,22,"輸入無煙炭","t",0,0,0]
[null,null,null,null,null,null,null,null,null,null,"","","",{"$f":"IFERROR(IF(K26=\"\",\"\",$M26*S26*44/12),\"----------\")","v":""},null,null,null,{"$error":"#N/A"},{"$error":"#N/A"},null,"４．原単位の指標",null,null,null,null,null,null,null,null,null,null,null,23,"高炉ガス","千Nm3",{"$f":"SUMIFS($I$13:$I$19,$E$13:$E$19,$AN29)","v":0},{"$f":"SUMIFS($J$13:$J$19,$E$13:$E$19,$AN29)","v":0},null,23,"石炭コークス","t",0,0,0]
[null,null,null,null,null,null,null,null,null,null,"","","","",null,null,null,{"$error":"#N/A"},{"$error":"#N/A"},null,"排出原単位",{"$f":"IF(V24=\"\",\"\",IFERROR(ROUND(V24/G73,3-INT(LOG(V24/G73))),))","v":0},{"$f":"\"t-CO2/\"&G72","v":"t-CO2/"},null,null,null,null,null,null,null,null,null,24,"転炉ガス","GJ",{"$f":"SUMIFS($I$13:$I$19,$E$13:$E$19,$AN31)","v":0},{"$f":"SUMIFS($J$13:$J$19,$E$13:$E$19,$AN31)","v":0},null,24,"コールタール","t",0,0,0]
[null,null,null,null,null,null,null,null,null,null,"","","","",null,null,null,{"$error":"#N/A"},{"$error":"#N/A"},null,null,null,null,null,null,null,null,null,null,null,null,null,25,"産業用蒸気","GJ",{"$f":"SUMIFS($I$13:$I$19,$E$13:$E$19,$AN36)","v":0},{"$f":"SUMIFS($J$13:$J$19,$E$13:$E$19,$AN36)","v":0},null,25,"コークス炉ガス","t",0,0,0]
[null,null,null,{"$f":"\"その他（\"&U38&\"）\"","v":"その他（）"},null,null,null,null,null,null,"",null,null,null,null,null,null,null,null,null,"熱の種類","換算係数","排出係数",null,null,null,null,null,null,null,null,null,26,"産業用以外の蒸気","GJ",{"$f":"SUMIFS($I$13:$I$19,$E$13:$E$19,$AN37)","v":0},{"$f":"SUMIFS($J$13:$J$19,$E$13:$E$19,$AN37)","v":0},null,26,"高炉ガス","千Nm3",0,0,0]
[null,null,"小　　　　　計",null,null,null,null,null,"－","－","－","－",{"$f":"SUM(M23:M29)","v":0},{"$f":"SUM(N23:N29)","v":0},null,null,null,null,null,null,"産業用以外の蒸気",null,null,null,null,null,null,null,null,null,null,null,27,"温水","GJ",{"$f":"SUMIFS($I$13:$I$19,$E$13:$E$19,$AN38)","v":0},{"$f":"SUMIFS($J$13:$J$19,$E$13:$E$19,$AN38)","v":0},null,27,"発電用高炉ガス","千m3",0,0,0]
[null,null,"電気の種類",null,null,null,null,null,"使用量","外部\n供給量","実使用量","単位","熱量\n(GJ)","排出量\n(t-CO2)",null,null,null,null,null,null,"温水",null,null,null,null,null,null,null,null,null,null,null,28,"冷水","GJ",{"$f":"SUMIFS($I$13:$I$19,$E$13:$E$19,$AN39)","v":0},{"$f":"SUMIFS($J$13:$J$19,$E$13:$E$19,$AN39)","v":0},null,28,"転炉ガス","GJ",0,0,0]
[null,null,null,null,null,null,null,null,null,null,null,null,null,null,null,"エネルギー名称区分2022","エネルギー名称区分2023","単位発熱量","炭素排出係数",null,"冷水",null,null,null,null,null,null,null,null,null,null,null,29,"---------------",null,null,null,null,29,"産業用蒸気_化石","GJ",0,0,0]
[null,null,null,"電気事業者からの買電",null,null,null,null,{"$f":"IF(COUNTBLANK(V42:W46)=10,\"\",SUM(I34:I35))","v":""},null,{"$f":"I33","v":""},"千kWh",{"$f":"IF(COUNTBLANK(V42:W46)=10,\"\",SUM(M34,M35))","v":""},{"$f":"IF(COUNTBLANK(V42:W46)=10,\"\",SUM(N34,N35))","v":""},null,null,null,null,null,null,null,null,null,null,null,null,null,null,null,null,null,null,null,null,null,null,null,null,30,"産業用以外の蒸気_化石","GJ",0,0,0]
[null,null,null,null,null,"昼間買電量\n(千kWh)",null,null,{"$f":"IF(COUNTBLANK(V42:V46)=10,\"\",V47)","v":""},null,{"$f":"I34","v":""},"千kWh",{"$f":"IFERROR(IF(K34=\"\",\"\",$K34*R34),\"-------------\")","v":""},{"$f":"IF(COUNTBLANK(V42:W46)=10,\"\",Z47)","v":""},null,"電気事業者_昼間買電","電気事業者_昼間買電",{"$f":"IF($T$1=2022,VLOOKUP($P34,係数2022,7,0),VLOOKUP($Q34,係数2023,7,0))","v":8.64},null,null,"その他の名称","換算係数","排出係数",null,null,null,null,null,null,null,null,null,null,null,null,null,null,null,31,"温水_化石","GJ",0,0,0]
[null,null,"電",null,null,"夜間買電量\n(千kWh)",null,null,{"$f":"IF(COUNTBLANK(V42:V46)=10,\"\",W47)","v":""},null,"","千kWh",{"$f":"IFERROR(IF(K35=\"\",\"\",$K35*R35),\"-------------\")","v":""},{"$f":"IF(COUNTBLANK(V42:W46)=10,\"\",AA47)","v":""},null,"電気事業者_夜間買電","電気事業者_夜間買電",8.64,null,null,null,null,null,null,null,null,null,null,null,null,null,null,null,null,null,null,null,null,32,"冷水_化石","GJ",{"$f":"SUMIFS($I$13:$I$19,$E$13:$E$19,$AN35)","v":0},{"$f":"SUMIFS($J$13:$J$19,$E$13:$E$19,$AN35)","v":0},{"$f":"COUNTIF($AT$4:$AT$10,AN35)","v":0}]
[null,null,null,null,null,"うち非化石",null,null,{"$f":"IF($T$1=2022,\"----------\",IF(COUNTBLANK(V42:W46)=10,\"\",SUMPRODUCT(V42:V46,X42:X46)+SUMPRODUCT(W42:W46,X42:X46)))","v":""},null,{"$f":"IF($T$1=2022,\"----------\",I36)","v":""},"千kWh",{"$f":"IF($T$1=2022,\"----------\",IF(M33<>\"\",K36*R36,\"\"))","v":""},null,null,null,"自己託送以外_電気事業者からの買電_非化石分",8.64,null,null,null,null,null,null,null,null,null,null,null,null,null,null,null,null,null,null,null,null,33,"黒液","t",0,0,{"$f":"COUNTIF($AT$4:$AT$10,AN36)","v":0}]
[null,null,null,"上記以外の買電",null,null,null,null,{"$f":"IF(COUNTBLANK(W51:W53)+COUNTBLANK(W57:W58)=5,\"\",W59)","v":""},null,{"$f":"I37","v":""},"千kWh",{"$f":"IF(K37=\"\",\"\",K37*R37)","v":""},{"$f":"IF(I37=\"\",\"\",SUMPRODUCT(W51:W53,Y51:Y53)+SUMPRODUCT(W57:W58,Y57:Y58))","v":""},null,"その他買電","その他買電",8.64,null,null,"その他の名称","換算係数",null,null,null,null,null,null,null,null,null,null,null,null,null,null,null,null,34,"木材","t",0,0,{"$f":"COUNTIF($AT$4:$AT$10,AN37)","v":0}]
[null,null,"気",null,null,"うち非化石",null,null,{"$f":"IF($T$1=2022,\"----------\",IF(COUNTBLANK(W51:W53)+COUNTBLANK(W57:W58)=5,\"\",SUMPRODUCT(W51:W58,X51:X58)))","v":""},null,{"$f":"IF($T$1=2022,\"----------\",I38)","v":""},"千kWh",{"$f":"IF($T$1=2022,\"----------\",IF(COUNTBLANK(W51:W53)+COUNTBLANK(W57:W58)=5,\"\",SUM(AB59)*X59))","v":""},null,null,null,"その他買電",8.64,null,null,null,null,null,null,null,null,null,null,null,null,null,null,null,null,null,null,null,null,35,"木質廃材","t",0,0,0]
[null,null,null,"自家発電",null,null,null,null,null,{"$f":"IF(V63=\"\",\"\",SUM(V63))","v":""},{"$f":"IF(J39=\"\",\"\",-SUM(J39))","v":""},"千kWh",{"$f":"IF(K39=\"\",\"\",IF($T$1=2022,IF(W63=\"\",K39*R39,K39*W63),$K39*W63))","v":""},{"$f":"IF(J39=\"\",\"\",-SUM(Y63))","v":""},null,"自家発電",null,{"$error":"#N/A"},null,null,null,null,null,null,null,null,null,null,null,null,null,null,null,null,null,null,null,null,36,"バイオエタノール","kl",0,0,0]
[null,null,null,"自家消費した非化石電気",null,null,null,null,{"$f":"IF($T$1=2022,\"----------\",IF(COUNTBLANK(V67:V70)=4,\"\",V71))","v":""},null,{"$f":"IF($T$1=2022,\"----------\",IF(I40=\"\",\"\",SUM(I40)))","v":""},"千kWh",{"$f":"IF($T$1=2022,\"----------\",IF(COUNTBLANK(V67:V70)=4,\"\",K40*3.6))","v":""},null,null,null,null,null,null,null,"電気事業者からの買電\n電気事業者名","昼間買電量\n(千kWh)","夜間買電量\n(千kWh)","うち非化石(%)\n（任意入力）","排出係数\n(tCO2/千kWh)","昼間排出量\n(t-CO2)","夜間排出量\n(t-CO2)",null,null,null,null,null,null,null,null,null,null,null,37,"バイオディーゼル","kl",0,0,0]
[null,null,null,null,null,"うち非化石    小　計",null,null,{"$f":"IF($T$1=2022,\"----------\",SUM(I36,I38,I40))","v":0},null,{"$f":"IF($T$1=2022,\"----------\",SUM(K36,K38,K40))","v":0},"千kWh",{"$f":"IF($T$1=2022,\"----------\",IF(K41=\"\",\"\",SUM(M36,M38,M40)))","v":0},null,null,null,null,null,null,null,null,null,null,null,null,null,null,null,null,null,null,null,null,null,null,null,null,null,38,"バイオガス","千㎥",0,0,0]
[null,null,"小　　　　　計",null,null,null,null,null,{"$f":"SUM(I33,I37,I39,I40)","v":0},{"$f":"SUM(J39)","v":0},{"$f":"SUM(K33,K37,K39,K40)","v":0},"千kWh",{"$f":"IF(K42=\"\",\"\",SUM(M33,M37,M39,M40))","v":0},{"$f":"SUM(N33,N37,N39)","v":0},null,null,null,null,null,null,null,{"$f":"'計算シート（基準年度）'!Q12","v":""},{"$f":"'計算シート（基準年度）'!Q13","v":""},null,null,{"$f":"IF(OR(U42=\"\",V42=\"\"),\"\",V42*Y42)","v":""},{"$f":"IF(OR(U42=\"\",W42=\"\"),\"\",W42*Y42)","v":""},null,null,null,null,null,null,null,null,null,null,null,39,"その他バイオマス","t",0,0,0]
[null,null,null,null,null,null,null,null,null,null,null,null,null,null,null,null,null,null,null,null,null,{"$f":"'計算シート（基準年度）'!Q14","v":""},{"$f":"'計算シート（基準年度）'!Q15","v":""},null,null,{"$f":"IF(OR(U43=\"\",V43=\"\"),\"\",V43*Y43)","v":""},{"$f":"IF(OR(U43=\"\",W43=\"\"),\"\",W43*Y43)","v":""},null,null,null,null,null,null,null,null,null,null,null,40,"RDF","t",0,0,0]
[null,null,"２．エネルギー起源二酸化炭素（CO2）以外の温室効果ガス排出量",null,null,null,null,null,null,null,null,null,null,null,null,null,null,null,null,null,null,{"$f":"'計算シート（基準年度）'!Q16","v":""},{"$f":"'計算シート（基準年度）'!Q17","v":""},null,null,"","",null,null,null,null,null,null,null,null,null,null,null,41,"RPF","t",0,0,0]
[null,null,"温室効果ガスの種類",null,null,null,"排出量\n(t-CO2)",null,null,null,null,null,null,null,null,null,null,null,null,null,null,{"$f":"'計算シート（基準年度）'!Q18","v":""},{"$f":"'計算シート（基準年度）'!Q19","v":""},null,null,"","",null,null,null,null,null,null,null,null,null,null,null,42,"廃タイヤ","t",0,0,0]
[null,null,null,null,null,null,null,null,null,null,null,null,null,null,null,null,null,null,null,null,null,{"$f":"'計算シート（基準年度）'!Q20","v":""},{"$f":"'計算シート（基準年度）'!Q21","v":""},null,null,"","",null,null,null,null,null,null,null,null,null,null,null,43,"廃プラスチック_一般廃棄物","t",0,0,0]
[null,null,"非エネルギー起源二酸化炭素（CO2）",null,null,null,null,null,null,null,null,null,null,null,null,null,null,null,null,null,"合計",{"$f":"IF(COUNTBLANK(V42:V46)=5,\"\",SUM(V42:V46))","v":""},{"$f":"IF(COUNTBLANK(W42:W46)=5,\"\",SUM(W42:W46))","v":""},{"$f":"IF(SUM(V47,W47)=0,0,SUM(SUMPRODUCT(V42:V46,X42:X46),SUMPRODUCT(W42:W46,X42:X46))/SUM(V47,W47))","v":0},null,{"$f":"SUM(Z42:Z46)","v":0},{"$f":"SUM(AA42:AA46)","v":0},null,null,null,null,null,null,null,null,null,null,null,44,"廃プラスチック_産業廃棄物","t",0,0,0]
[null,null,"メタン（CH4）",null,null,null,null,null,null,null,null,null,null,null,null,null,null,null,null,null,null,null,null,null,null,null,null,null,null,null,null,null,null,null,null,null,null,null,45,"廃油","kl",0,0,0]
[null,null,"一酸化二窒素（N2O）",null,null,null,null,null,null,null,null,null,null,null,null,null,null,null,null,null,"上記以外の買電",null,"買電量\n(千kWh)","うち非化石(%)\n（任意入力）","排出係数\n(tCO2/千kWh)","排出量\n(t-CO2)","換算係数\n(GJ/千ｋWh)","熱量\n(GJ)",null,null,null,null,null,null,null,null,null,null,46,"廃棄物ガス","千㎥",0,0,0]
[null,null,"ハイドロフルオロカーボン（HFC）",null,null,null,null,null,null,null,null,null,null,null,null,null,null,null,null,null,null,null,null,null,null,null,null,null,null,null,null,null,null,null,null,null,null,null,47,"混合廃材","t",0,0,0]
[null,null,"パーフルオロカーボン（PFC）",null,null,null,null,null,null,null,null,null,null,null,null,null,null,null,null,null,"オフサイト型PPA",null,null,1,null,{"$f":"IF(W51=\"\",\"\",W51*Y51)","v":""},3.6,{"$f":"IF(W51=\"\",\"\",W51*AA51)","v":""},null,null,null,null,null,null,null,null,null,null,48,"水素","t",0,0,0]
[null,null,"六フッ化硫黄（SF6）",null,null,null,null,null,null,null,null,null,null,null,null,null,null,null,null,null,"自己託送（非燃料由来の非化石電気）",null,null,1,null,{"$f":"IF(W52=\"\",\"\",W52*Y52)","v":""},3.6,{"$f":"IF(W52=\"\",\"\",W52*AA52)","v":""},null,null,null,null,null,null,null,null,null,null,49,"アンモニア","t",0,0,0]
[null,null,"三フッ化窒素（NF3）",null,null,null,null,null,null,null,null,null,null,null,null,null,null,null,null,null,"上記以外の自己託送",null,null,null,null,{"$f":"IF(W53=\"\",\"\",W53*Y53)","v":""},8.64,"",null,null,null,null,null,null,null,null,null,null,50,"産業用蒸気_非化石","GJ",0,0,0]
[null,null,"合　　　　計",null,null,null,{"$f":"IF(COUNTBLANK(G47:G53)=7,\"\",SUM(G47:G53))","v":""},null,null,null,null,null,null,null,null,null,null,null,null,null,null,null,null,null,null,null,null,null,null,null,null,null,null,null,null,null,null,null,51,"産業用以外の蒸気_非化石","GJ",0,0,0]
[null,null,null,null,null,null,null,null,null,null,null,null,null,null,null,null,null,null,null,null,null,"名称","買電量\n(千kWh)","うち非化石(%)\n（任意入力）","排出係数\n(tCO2/千kWh)","排出量\n(t-CO2)","換算係数\n(GJ/千ｋWh)","熱量\n(GJ)",null,null,null,null,null,null,null,null,null,null,52,"温水_非化石","GJ",0,0,0]
[null,null,"３．クレジット等による削減量",null,null,null,null,null,null,null,null,null,null,null,null,null,null,null,null,null,"その他買電",null,null,null,null,null,null,null,null,null,null,null,null,null,null,null,null,null,53,"冷水_非化石","GJ",0,0,0]
[null,null,"クレジット等の種類",null,null,null,"排出量\n(t-CO2)",null,null,null,null,null,null,null,null,null,null,null,null,null,null,null,null,null,null,{"$f":"IF(W57=\"\",\"\",W57*Y57)","v":""},8.64,{"$f":"W57*AA57","v":0},null,null,null,null,null,null,null,null,null,null,54,"地熱","GJ",0,0,0]
[null,null,null,null,null,null,null,null,null,null,null,null,null,null,null,null,null,null,null,null,null,null,null,null,null,{"$f":"IF(W58=\"\",\"\",W58*Y58)","v":""},8.64,{"$f":"W58*AA58","v":0},null,null,null,null,null,null,null,null,null,null,55,"温泉熱","GJ",0,0,0]
[null,null,null,null,null,null,null,null,null,null,null,null,null,null,null,null,null,null,null,null,"合計",null,{"$f":"SUM(W51:W53,W57:W58)","v":0},{"$f":"IF(W59=0,0,(SUMPRODUCT(W57:W58,X57:X58)+SUMPRODUCT(X51:X53,W51:W53))/W59)","v":0},null,{"$f":"SUM(Z51:Z53,Z57:Z58)","v":0},null,{"$f":"SUM(AB51:AB53,AB57:AB58)","v":0},null,null,null,null,null,null,null,null,null,null,56,"太陽熱","GJ",0,0,0]
[null,null,null,null,null,null,null,null,null,null,null,null,null,null,null,null,null,null,null,null,null,null,null,null,null,null,null,null,null,null,null,null,null,null,null,null,null,null,57,"雪氷熱","GJ",0,0,0]
[null,null,null,null,null,null,null,null,null,null,null,null,null,null,null,null,null,null,null,null,null,"売電量\n(千kWh)","換算係数\n(GJ/千ｋWh)","排出係数\n(tCO2/千kWh)","排出量\n(t-CO2)"]
[]
[null,null,null,null,null,null,null,null,null,null,null,null,null,null,null,null,null,null,null,null,"自家発電",null,null,null,{"$f":"IF(V63=\"\",\"\",V63*X63)","v":""}]
[]
[null,null,null,null,null,null,null,null,null,null,null,null,null,null,null,null,null,null,null,null,"自家消費した非化石電気","使用量\n(千kWh)","換算係数\n(GJ/千ｋWh)"]
[null,null,"合　　　　計",null,null,null,{"$f":"IF(COUNTBLANK(G59:G65)=7,\"\",SUM(G59:G65))","v":""}]
[null,null,null,null,null,null,null,null,null,null,null,null,null,null,null,null,null,null,null,null,"太陽光",null,3.6]
[null,null,"４．原単位の指標",null,null,null,null,null,null,null,null,null,null,null,null,null,null,null,null,null,"水力",null,3.6]
[null,null,"原単位の指標（分母）",null,null,null,null,null,null,null,null,null,null,null,null,null,null,null,null,null,"風力",null,3.6]
[null,null,null,null,null,null,null,null,null,null,null,null,null,null,null,null,null,null,null,null,"その他（非燃料由来の非化石）",null,3.6]
[null,null,"名称",null,null,null,null,null,null,null,null,null,null,null,null,null,null,null,null,null,"合計",{"$f":"SUM(V67:V70)","v":0}]
[null,null,"単位"]
[null,null,"数値"]

{"sheet":"計画書提出書","index":7,"n_rows":34,"n_cols":17,"rows_kept":34,"cut":false,"hidden":true,"merged":[[20,4,20,16],[11,0,12,16],[14,3,14,16],[15,3,15,16],[7,9,7,15],[8,9,8,15],[9,9,9,15],[15,0,15,2],[16,0,16,2],[16,3,16,16],[18,4,18,16],[19,4,19,16],[18,0,21,2],[21,4,21,16],[2,1,2,15],[27,7,27,16],[28,7,28,16],[32,5,32,6],[29,3,29,6],[24,5,24,6],[23,3,24,4],[27,3,27,6],[28,3,28,6],[26,3,26,6],[23,5,23,6],[14,0,14,2],[9,6,9,7],[7,6,7,7],[8,6,8,7],[32,0,33,0],[32,1,33,4],[23,0,29,2],[33,5,33,6],[25,3,25,6],[32,7,32,16],[33,7,33,16],[29,7,29,16],[23,7,23,16],[24,7,24,16],[25,7,25,16],[26,7,26,16]]}
[]
[]
[null,"事業者温室効果ガス削減計画書　提出書"]
[]
[null,null,null,null,null,null,null,null,null,null,null,{"$f":"IF(はじめに!E5=\"\",\"\",はじめに!E5)","v":""},"年",{"$f":"IF(はじめに!G5=\"\",\"\",はじめに!G5)","v":""},"月",{"$f":"IF(はじめに!I5=\"\",\"\",はじめに!I5)","v":""},"日"]
["（あて先）仙台市長"]
[]
[null,null,null,null,null,null,"住所",null,null,{"$f":"IF(はじめに!E7=\"\",\"\",はじめに!E7)","v":""}]
[null,null,null,null,null,null,"法人の名称",null,null,{"$f":"IF(はじめに!E6=\"\",\"\",はじめに!E6)","v":""}]
[null,null,null,null,null,null,"代表者氏名",null,null,{"$f":"IF(はじめに!E8=\"\",\"\",はじめに!E8)","v":""}]
[]
["　仙台市地球温暖化対策等の推進に関する条例第15条の規定により、別紙のとおり事業者温室効果ガス削減計画書を提出します。"]
[]
[]
["事業者の名称",null,null,{"$f":"IF(J9=\"\",\"\",J9)","v":""}]
["事業所の名称",null,null,{"$f":"IF(はじめに!E14=\"\",\"\",はじめに!E14)","v":""}]
["事業所の所在地",null,null,{"$f":"IF(はじめに!E16=\"\",\"\",はじめに!E16)","v":""}]
[]
["該当する\n事業者の要件",null,null,{"$f":"IF(はじめに!S10=TRUE,\"〇\",\"\")","v":""},"①原油換算エネルギー使用量が1,500kL以上の事業所\n　　（条例第2条第5号イに該当する特定事業者）"]
[null,null,null,{"$f":"IF(はじめに!S11=TRUE,\"〇\",\"\")","v":""},"②エネルギー起源CO2を除くいずれかの物質の温室効果ガス排出量が3,000トン以上の事業所（条例第2条第5号ロに該当する特定事業者）"]
[null,null,null,{"$f":"IF(はじめに!S12=TRUE,\"〇\",\"\")","v":""},"③市内に100台以上の自動車を所有する運送事業者\n　　（条例第2条第5号ハに該当する特定事業者）"]
[null,null,null,{"$f":"IF(はじめに!S13=TRUE,\"〇\",\"\")","v":"〇"},"④任意提出事業者\n　　（条例第15条第1項に該当する一般事業者）"]
[]
["連絡先",null,null,"担当者",null,"部署名",null,{"$f":"IF(はじめに!E21=\"\",\"\",はじめに!E21)","v":""}]
[null,null,null,null,null,"氏名",null,{"$f":"IF(はじめに!E24=\"\",\"\",はじめに!E24)","v":""}]
[null,null,null,"郵便番号",null,null,null,{"$f":"IF(はじめに!F22=\"\",\"\",はじめに!F22 & \"-\")  & IF(はじめに!H22=\"\",\"\",はじめに!H22)","v":""}]
[null,null,null,"所在地",null,null,null,{"$f":"IF(はじめに!E23=\"\",\"\",はじめに!E23)","v":""}]
[null,null,null,"電話番号",null,null,null,{"$f":"IF(はじめに!E25=\"\",\"\",はじめに!E25)","v":""}]
[null,null,null,"ＦＡＸ番号",null,null,null,{"$f":"IF(はじめに!E26=\"\",\"\",はじめに!E26)","v":""}]
[null,null,null,"メールアドレス",null,null,null,{"$f":"IF(はじめに!E27=\"\",\"\",はじめに!E27)","v":""}]
[]
[]
["※受理",null,null,null,null," ※整理番号"]
[null,null,null,null,null,"※備考"]

{"sheet":"計画書（公表用）","index":8,"n_rows":35,"n_cols":17,"rows_kept":35,"cut":false,"hidden":true,"merged":[[34,4,34,7],[34,15,34,16],[34,8,34,14],[33,15,33,16],[32,15,32,16],[33,4,33,7],[22,15,22,16],[29,4,29,7],[25,4,25,14],[29,15,29,16],[30,4,30,7],[30,15,30,16],[26,15,26,16],[27,15,27,16],[25,15,25,16],[23,4,23,14],[31,4,31,7],[31,15,31,16],[2,1,2,15],[8,4,8,16],[17,10,17,11],[15,15,15,16],[15,13,15,14],[16,15,16,16],[7,0,7,3],[5,0,5,3],[6,0,6,3],[5,4,5,16],[9,0,12,3],[9,5,9,16],[16,10,16,11],[10,5,10,16],[11,5,11,16],[6,4,6,16],[7,4,7,16],[8,0,8,3],[15,10,15,11],[12,5,12,16],[15,0,19,3],[16,7,18,7],[18,8,18,9],[31,8,31,14],[19,4,19,5],[15,4,15,5],[17,8,17,9],[29,8,29,14],[30,8,30,14],[15,8,15,9],[16,8,16,9],[28,4,28,14],[24,4,24,14],[16,13,16,14],[17,13,17,14],[18,10,18,11],[18,13,18,14],[16,4,18,5],[16,6,18,6],[22,0,22,3],[23,0,28,3],[29,0,34,3],[19,6,19,16],[32,8,32,14],[33,8,33,14],[32,4,32,7],[28,15,28,16],[23,15,23,16],[24,15,24,16],[22,4,22,6],[22,7,22,8],[22,10,22,12],[22,13,22,14],[26,4,26,14],[27,4,27,14]]}
[]
[]
[null,"事業者温室効果ガス削減計画書概要（第二計画期間）"]
[]
["１　事業所の概要"]
["事業者の名称",null,null,null,{"$f":"IF(計画書提出書!D15=\"\",\"\",計画書提出書!D15)","v":""}]
["事業所の名称",null,null,null,{"$f":"IF(計画書提出書!D16=\"\",\"\",計画書提出書!D16)","v":""}]
["事業所の所在地",null,null,null,{"$f":"IF(計画書提出書!D17=\"\",\"\",計画書提出書!D17)","v":""}]
["主たる事業",null,null,null,{"$f":"IF(はじめに!S17=\"\",\"\",はじめに!S17)","v":""}]
["事業者の該当要件",null,null,null,{"$f":"IF(計画書提出書!D19=\"\",\"\",計画書提出書!D19)","v":""},"条例第2条第5号イに該当する特定事業者"]
[null,null,null,null,{"$f":"IF(計画書提出書!D20=\"\",\"\",計画書提出書!D20)","v":""},"条例第2条第5号ロに該当する特定事業者"]
[null,null,null,null,{"$f":"IF(計画書提出書!D21=\"\",\"\",計画書提出書!D21)","v":""},"条例第2条第5号ハに該当する特定事業者"]
[null,null,null,null,{"$f":"IF(計画書提出書!D22=\"\",\"\",計画書提出書!D22)","v":"〇"},"条例第15条第1項に該当する一般事業者"]
[]
["２　温室効果ガスの削減目標等"]
["温室効果ガスの\n排出状況\n及び削減目標",null,null,null,"基準年度",null,{"$f":"IF(はじめに!E4=\"\",\"\",はじめに!E4)","v":""},"年度","基準排出量",null,{"$f":"IF('計画書①（事業所概要・目標）'!H24=\"\",\"\",'計画書①（事業所概要・目標）'!H24)","v":""},null,"t-CO2","基準原単位",null,{"$f":"IF('計画書①（事業所概要・目標）'!M24=\"\",\"\",'計画書①（事業所概要・目標）'!M24)","v":""}]
[null,null,null,null,"目標年度",null,{"$f":"IF(はじめに!H3=\"\",\"\",はじめに!H3)","v":2025},"年度","目標排出量",null,{"$f":"IF('計画書①（事業所概要・目標）'!H25=\"\",\"\",'計画書①（事業所概要・目標）'!H25)","v":""},null,"t-CO2","目標原単位",null,{"$f":"IF('計画書①（事業所概要・目標）'!M25=\"\",\"\",'計画書①（事業所概要・目標）'!M25)","v":""}]
[null,null,null,null,null,null,null,null,"削減率",null,{"$f":"IF('計画書①（事業所概要・目標）'!H26=\"\",\"\",'計画書①（事業所概要・目標）'!H26)","v":""},null,"％","削減率",null,{"$f":"IF('計画書①（事業所概要・目標）'!M26=\"\",\"\",'計画書①（事業所概要・目標）'!M26)","v":""},"％"]
[null,null,null,null,null,null,null,null,"非化石電気",null,{"$f":"IF('計画書①（事業所概要・目標）'!H27=\"\",\"\",'計画書①（事業所概要・目標）'!H27)","v":""},null,"％","その他非化石\nエネルギー等",null,{"$f":"IF('計画書①（事業所概要・目標）'!M27=\"\",\"\",'計画書①（事業所概要・目標）'!M27)","v":""},"％"]
[null,null,null,null,"目標設定の考え方",null,{"$f":"IF('計画書①（事業所概要・目標）'!C28=\"\",\"\",'計画書①（事業所概要・目標）'!C28)","v":""}]
[]
["３　温室効果ガスの排出抑制に関する取組"]
["基本対策の実施計画",null,null,null,"基準年度実施率",null,null,{"$f":"IF('計画書② (取組）'!J9=\"\",\"\",'計画書② (取組）'!J9*100)","v":""},null,"％","目標年度実施率",null,null,{"$f":"IF('計画書② (取組）'!J10=\"\",\"\",'計画書② (取組）'!J10*100)","v":""},null,"％"]
["選択対策の実施計画",null,null,null,"項目",null,null,null,null,null,null,null,null,null,null,"実施年度"]
[null,null,null,null,{"$f":"IF('計画書② (取組）'!C39=\"\",\"\",'計画書② (取組）'!C39)","v":""},null,null,null,null,null,null,null,null,null,null,{"$f":"IF('計画書（公表用）'!E25=\"\",\"\",IF('計画書② (取組）'!E39=\"実施済\",'計画書② (取組）'!E39,'計画書② (取組）'!F39))","v":""}]
[null,null,null,null,{"$f":"IF('計画書② (取組）'!C40=\"\",\"\",'計画書② (取組）'!C40)","v":""},null,null,null,null,null,null,null,null,null,null,{"$f":"IF('計画書（公表用）'!E26=\"\",\"\",IF('計画書② (取組）'!E40=\"実施済\",'計画書② (取組）'!E40,'計画書② (取組）'!F40))","v":""}]
[null,null,null,null,{"$f":"IF('計画書② (取組）'!C41=\"\",\"\",'計画書② (取組）'!C41)","v":""},null,null,null,null,null,null,null,null,null,null,{"$f":"IF('計画書（公表用）'!E27=\"\",\"\",IF('計画書② (取組）'!E41=\"実施済\",'計画書② (取組）'!E41,'計画書② (取組）'!F41))","v":""}]
[null,null,null,null,{"$f":"IF('計画書② (取組）'!C42=\"\",\"\",'計画書② (取組）'!C42)","v":""},null,null,null,null,null,null,null,null,null,null,{"$f":"IF('計画書（公表用）'!E28=\"\",\"\",IF('計画書② (取組）'!E42=\"実施済\",'計画書② (取組）'!E42,'計画書② (取組）'!F42))","v":""}]
[null,null,null,null,{"$f":"IF('計画書② (取組）'!C43=\"\",\"\",'計画書② (取組）'!C43)","v":""},null,null,null,null,null,null,null,null,null,null,{"$f":"IF('計画書（公表用）'!E29=\"\",\"\",IF('計画書② (取組）'!E43=\"実施済\",'計画書② (取組）'!E43,'計画書② (取組）'!F43))","v":""}]
["その他の対策の\n実施計画",null,null,null,"項目",null,null,null,"具体的な取組内容",null,null,null,null,null,null,"実施年度"]
[null,null,null,null,{"$f":"IF('計画書② (取組）'!C63=\"\",\"\",'計画書② (取組）'!C63)","v":""},null,null,null,{"$f":"IF('計画書② (取組）'!D63=\"\",\"\",'計画書② (取組）'!D63)","v":""},null,null,null,null,null,null,{"$f":"IF(I31=\"\",\"\",IF('計画書② (取組）'!E63=\"実施済\",'計画書② (取組）'!E63,'計画書② (取組）'!F63))","v":""}]
[null,null,null,null,{"$f":"IF('計画書② (取組）'!C64=\"\",\"\",'計画書② (取組）'!C64)","v":""},null,null,null,{"$f":"IF('計画書② (取組）'!D64=\"\",\"\",'計画書② (取組）'!D64)","v":""},null,null,null,null,null,null,{"$f":"IF(I32=\"\",\"\",IF('計画書② (取組）'!E64=\"実施済\",'計画書② (取組）'!E64,'計画書② (取組）'!F64))","v":""}]
[null,null,null,null,{"$f":"IF('計画書② (取組）'!C65=\"\",\"\",'計画書② (取組）'!C65)","v":""},null,null,null,{"$f":"IF('計画書② (取組）'!D65=\"\",\"\",'計画書② (取組）'!D65)","v":""},null,null,null,null,null,null,{"$f":"IF(I33=\"\",\"\",IF('計画書② (取組）'!E65=\"実施済\",'計画書② (取組）'!E65,'計画書② (取組）'!F65))","v":""}]
[null,null,null,null,{"$f":"IF('計画書② (取組）'!C66=\"\",\"\",'計画書② (取組）'!C66)","v":""},null,null,null,{"$f":"IF('計画書② (取組）'!D66=\"\",\"\",'計画書② (取組）'!D66)","v":""},null,null,null,null,null,null,{"$f":"IF(I34=\"\",\"\",IF('計画書② (取組）'!E66=\"実施済\",'計画書② (取組）'!E66,'計画書② (取組）'!F66))","v":""}]
[null,null,null,null,{"$f":"IF('計画書② (取組）'!C67=\"\",\"\",'計画書② (取組）'!C67)","v":""},null,null,null,{"$f":"IF('計画書② (取組）'!D67=\"\",\"\",'計画書② (取組）'!D67)","v":""},null,null,null,null,null,null,{"$f":"IF(I35=\"\",\"\",IF('計画書② (取組）'!E67=\"実施済\",'計画書② (取組）'!E67,'計画書② (取組）'!F67))","v":""}]

{"sheet":"報告書①（事業所概要・実績）","index":9,"n_rows":37,"n_cols":35,"rows_kept":37,"cut":false,"hidden":true,"merged":[[32,0,32,1],[27,10,27,11],[27,12,27,13],[28,0,28,1],[31,5,31,6],[31,7,31,8],[31,10,31,11],[31,12,31,13],[28,2,28,15],[29,0,31,1],[29,2,30,3],[29,4,30,4],[30,5,30,6],[30,7,30,8],[30,10,30,11],[30,12,30,13],[25,10,25,11],[25,12,25,13],[26,5,26,6],[26,7,26,8],[26,10,26,11],[26,12,26,13],[25,2,26,3],[25,4,26,4],[25,5,25,6],[25,7,25,8],[25,0,27,1],[27,2,27,4],[27,5,27,6],[27,7,27,8],[22,10,22,11],[22,12,22,13],[23,5,23,6],[23,7,23,8],[23,10,23,11],[23,12,23,13],[22,2,23,3],[22,4,23,4],[22,5,22,6],[22,7,22,8],[22,0,24,1],[24,2,24,4],[24,5,24,6],[24,7,24,8],[21,12,21,13],[8,0,8,3],[8,4,8,15],[21,0,21,1],[21,2,21,3],[21,5,21,6],[21,7,21,8],[21,10,21,11],[7,0,7,3],[7,4,7,15],[2,2,2,11],[5,0,5,3],[5,4,5,15],[6,0,6,3],[6,4,6,15],[31,2,31,4],[29,5,29,6],[29,7,29,8],[29,10,29,11],[29,12,29,13],[34,12,34,13],[35,2,35,4],[35,5,35,6],[35,7,35,8],[35,10,35,11],[24,10,24,11],[24,12,24,13],[35,12,35,13],[36,0,36,1],[36,2,36,15],[32,2,32,15],[33,0,35,1],[33,2,34,3],[33,4,34,4],[33,5,33,6],[33,7,33,8],[33,10,33,11],[33,12,33,13],[34,5,34,6],[34,7,34,8],[34,10,34,11]]}
[]
[]
[null,null,"事業者温室効果ガス削減報告書（第二計画期間）",null,null,null,null,null,null,null,null,null,{"$f":"\" 第 \"&はじめに!F29&\" 年度分\"","v":" 第  年度分"}]
[]
["１　事業所の概要"]
["事業者の名称",null,null,null,{"$f":"IF(はじめに!E6=\"\",\"\",はじめに!E6)","v":""}]
["事業所の名称",null,null,null,{"$f":"IF(はじめに!E14=\"\",\"\",はじめに!E14)","v":""}]
["事業所の所在地",null,null,null,{"$f":"IF(はじめに!E16=\"\",\"\",はじめに!E16)","v":""}]
["主たる業種",null,null,null,{"$f":"IF(はじめに!E18=\"\",\"\",はじめに!E18)","v":""}]
[]
[]
[]
[]
[]
[]
[]
[]
[]
[]
[]
["２　温室効果ガスの排出の状況等",null,null,null,null,null,null,null,null,null,null,null,null,null,null,null,null,null,null,null,null,null,null,null,null,null,null,null,null,null,null,null,4,null,50]
["基準年度",null,{"$f":"IF(はじめに!E4=\"\",\"\",はじめに!E4)","v":""},null,"年度","基準排出量",null,{"$f":"IF('計画書①（事業所概要・目標）'!H24=\"\",\"\",'計画書①（事業所概要・目標）'!H24)","v":""},null,"t-CO2","基準原単位",null,{"$f":"IF('計画書①（事業所概要・目標）'!M24=\"\",\"\",'計画書①（事業所概要・目標）'!M24)","v":""},null,"t-CO2/",{"$f":"IF('計画書①（事業所概要・目標）'!$P$13=\"\",\"\",'計画書①（事業所概要・目標）'!$P$13)","v":""},null,null,null,null,null,null,null,null,null,null,null,null,null,null,null,null,3,4,40]
["目標年度",null,{"$f":"IF(はじめに!H3=\"\",\"\",はじめに!H3)","v":2025},null,"年度","目標排出量",null,{"$f":"IF('計画書①（事業所概要・目標）'!H25=\"\",\"\",'計画書①（事業所概要・目標）'!H25)","v":""},null,"t-CO2","目標原単位",null,{"$f":"IF('計画書①（事業所概要・目標）'!M25=\"\",\"\",'計画書①（事業所概要・目標）'!M25)","v":""},null,"t-CO2/",{"$f":"IF('計画書①（事業所概要・目標）'!$P$13=\"\",\"\",'計画書①（事業所概要・目標）'!$P$13)","v":""},null,null,null,null,"削減率","第1年度","第2年度","第3年度","平均","評価点",null,null,null,null,null,null,2,3,30]
[null,null,null,null,null,"目標削減率",null,{"$f":"IF('計画書①（事業所概要・目標）'!H26=\"\",\"\",'計画書①（事業所概要・目標）'!H26)","v":""},null,"%","目標削減率",null,{"$f":"IF('計画書①（事業所概要・目標）'!M26=\"\",\"\",'計画書①（事業所概要・目標）'!M26)","v":""},null,"%",null,null,null,null,null,"排出量",{"$f":"IF(H27=\"\",\"\",H27)","v":""},{"$f":"IF(H30=\"\",\"\",H30)","v":""},{"$f":"IF(H33=\"\",\"\",H33)","v":""},{"$f":"IFERROR(AVERAGE(V24:X24),\"\")","v":""},{"$f":"IF(Y24=\"\",\"\",IF(Y24>=$AG$21,$AI$21,IF(AND(Y24>=$AG$22,Y24<$AH$22),$AI$22,IF(AND(Y24>=$AG$23,Y24<$AH$23),$AI$23,IF(AND(Y24>=$AG$24,Y24<$AH$24),$AI$24,IF(AND(Y24>=$AG$25,Y24<$AH$25),$AI$25,$AI$26))))))","v":""},null,null,null,null,null,null,1,2,20]
[null,null,"非化石エネルギー\nの使用目標割合\n（任意入力）",null,null,"非化石電気",null,{"$f":"IF('計画書①（事業所概要・目標）'!H27=\"\",\"\",'計画書①（事業所概要・目標）'!H27)","v":""},null,"%","その他\n非化石エネルギー等",null,{"$f":"IF('計画書①（事業所概要・目標）'!M27=\"\",\"\",'計画書①（事業所概要・目標）'!M27)","v":""},null,"%",null,null,null,null,null,"原単位",{"$f":"IF(M27=\"\",\"\",M27)","v":""},{"$f":"IF(M30=\"\",\"\",M30)","v":""},{"$f":"IF(M33=\"\",\"\",M33)","v":""},{"$f":"IFERROR(AVERAGE(V25:X25),\"\")","v":""},{"$f":"IF(Y25=\"\",\"\",IF(Y25>=$AG$21,$AI$21,IF(AND(Y25>=$AG$22,Y25<$AH$22),$AI$22,IF(AND(Y25>=$AG$23,Y25<$AH$23),$AI$23,IF(AND(Y25>=$AG$24,Y25<$AH$24),$AI$24,IF(AND(Y25>=$AG$25,Y25<$AH$25),$AI$25,$AI$26))))))","v":""},null,null,null,null,null,null,0,1,10]
["第１年度",null,{"$f":"IF(はじめに!E3=\"\",\"\",はじめに!E3)","v":""},null,"年度","排出量",null,{"$f":"IF('事業所排出量内訳 (第1年度)'!$V$24=0,\"\",'事業所排出量内訳 (第1年度)'!$V$24)","v":""},null,"t-CO2","原単位",null,{"$f":"IF('事業所排出量内訳 (第1年度)'!$V$27=0,\"\",'事業所排出量内訳 (第1年度)'!$V$27)","v":""},null,"t-CO2/",{"$f":"IF('計画書①（事業所概要・目標）'!$P$13=\"\",\"\",'計画書①（事業所概要・目標）'!$P$13)","v":""},null,null,null,null,null,null,null,null,null,null,null,null,null,null,null,null,null,0,0]
[null,null,null,null,null,"削減率",null,{"$f":"IFERROR(IF(H26=\"\",\"\",INT(($H$22-H26)/$H$22*10000)/100),\"\")","v":""},{"$f":"IF($F$7=\"\",\"\",INT(($F$7-I26)/$F$7*100000)/1000)","v":""},"%","削減率",null,{"$f":"IFERROR(IF(M26=\"\",\"\",INT(($M$22-M26)/$M$22*10000)/100),\"\")","v":""},{"$f":"IF($F$7=\"\",\"\",INT(($F$7-N26)/$F$7*100000)/1000)","v":""},"%"]
[null,null,"非化石エネルギーの使用割合",null,null,"非化石電気",null,{"$f":"IF(AND('事業所排出量内訳 (第1年度)'!$V$4=0,\n                 COUNTBLANK('事業所排出量内訳 (第1年度)'!I21:J21)\n                +COUNTBLANK('事業所排出量内訳 (第1年度)'!I29:J29)\n                +COUNTBLANK('事業所排出量内訳 (第1年度)'!V63)=5),\"\",'事業所排出量内訳 (第1年度)'!$Z$16*100)","v":""},null,"%","その他\n非化石エネルギー等",null,{"$f":"IF(AND('事業所排出量内訳 (第1年度)'!$V$4=0,\n                 COUNTBLANK('事業所排出量内訳 (第1年度)'!I21:J21)\n                +COUNTBLANK('事業所排出量内訳 (第1年度)'!I29:J29)\n                +COUNTBLANK('事業所排出量内訳 (第1年度)'!V63)=5),\"\",'事業所排出量内訳 (第1年度)'!$Z$12*100)","v":""},null,"%"]
["排出量等の\n増減理由"]
["第２年度",null,{"$f":"IF(はじめに!E3=\"\",\"\",IF(C26+1>2025,\"\",C26+1))","v":""},null,"年度","排出量",null,{"$f":"IF('事業所排出量内訳 (第2年度)'!$V$24=0,\"\",'事業所排出量内訳 (第2年度)'!$V$24)","v":""},null,"t-CO2","原単位",null,{"$f":"IF('事業所排出量内訳 (第2年度)'!$V$27=0,\"\",'事業所排出量内訳 (第2年度)'!$V$27)","v":""},null,"t-CO2/",{"$f":"IF('計画書①（事業所概要・目標）'!$P$13=\"\",\"\",'計画書①（事業所概要・目標）'!$P$13)","v":""}]
[null,null,null,null,null,"削減率",null,{"$f":"IFERROR(IF(H30=\"\",\"\",INT(($H$22-H30)/$H$22*10000)/100),\"\")","v":""},{"$f":"IF($F$7=\"\",\"\",INT(($F$7-I30)/$F$7*100000)/1000)","v":""},"%","削減率",null,{"$f":"IFERROR(IF(M30=\"\",\"\",INT(($M$22-M30)/$M$22*10000)/100),\"\")","v":""},{"$f":"IF($F$7=\"\",\"\",INT(($F$7-N30)/$F$7*100000)/1000)","v":""},"%"]
[null,null,"非化石エネルギーの使用割合",null,null,"非化石電気",null,{"$f":"IF(AND('事業所排出量内訳 (第2年度)'!$V$4=0,\n                 COUNTBLANK('事業所排出量内訳 (第2年度)'!I21:J21)\n                +COUNTBLANK('事業所排出量内訳 (第2年度)'!I29:J29)\n                +COUNTBLANK('事業所排出量内訳 (第2年度)'!V63)=5),\"\",'事業所排出量内訳 (第2年度)'!$Z$16*100)","v":""},null,"%","その他\n非化石エネルギー等",null,{"$f":"IF(AND('事業所排出量内訳 (第2年度)'!$V$4=0,\n                 COUNTBLANK('事業所排出量内訳 (第2年度)'!I21:J21)\n                +COUNTBLANK('事業所排出量内訳 (第2年度)'!I29:J29)\n                +COUNTBLANK('事業所排出量内訳 (第2年度)'!V63)=5),\"\",'事業所排出量内訳 (第2年度)'!$Z$12*100)","v":""},null,"%"]
["排出量等の\n増減理由"]
["第３年度",null,{"$f":"IF(C30=\"\",\"\",IF(C30+1>2025,\"\",C30+1))","v":""},null,"年度","排出量",null,{"$f":"IF('事業所排出量内訳 (第3年度)'!$V$24=0,\"\",'事業所排出量内訳 (第3年度)'!$V$24)","v":""},null,"t-CO2","原単位",null,{"$f":"IF('事業所排出量内訳 (第3年度)'!$V$27=0,\"\",'事業所排出量内訳 (第3年度)'!$V$27)","v":""},null,"t-CO2/",{"$f":"IF('計画書①（事業所概要・目標）'!$P$13=\"\",\"\",'計画書①（事業所概要・目標）'!$P$13)","v":""}]
[null,null,null,null,null,"削減率",null,{"$f":"IFERROR(IF(H34=\"\",\"\",INT(($H$22-H34)/$H$22*10000)/100),\"\")","v":""},{"$f":"IF($F$7=\"\",\"\",INT(($F$7-I34)/$F$7*100000)/1000)","v":""},"%","削減率",null,{"$f":"IFERROR(IF(M34=\"\",\"\",INT(($M$22-M34)/$M$22*10000)/100),\"\")","v":""},{"$f":"IF($F$7=\"\",\"\",INT(($F$7-N34)/$F$7*100000)/1000)","v":""},"%"]
[null,null,"非化石エネルギーの使用割合",null,null,"非化石電気",null,{"$f":"IF(AND('事業所排出量内訳 (第3年度)'!$V$4=0,\n                 COUNTBLANK('事業所排出量内訳 (第3年度)'!I21:J21)\n                +COUNTBLANK('事業所排出量内訳 (第3年度)'!I29:J29)\n                +COUNTBLANK('事業所排出量内訳 (第3年度)'!V63)=5),\"\",'事業所排出量内訳 (第3年度)'!$Z$16*100)","v":""},null,"%","その他\n非化石エネルギー等",null,{"$f":"IF(AND('事業所排出量内訳 (第3年度)'!$V$4=0,\n                 COUNTBLANK('事業所排出量内訳 (第3年度)'!I21:J21)\n                +COUNTBLANK('事業所排出量内訳 (第3年度)'!I29:J29)\n                +COUNTBLANK('事業所排出量内訳 (第3年度)'!V63)=5),\"\",'事業所排出量内訳 (第3年度)'!$Z$12*100)","v":""},null,"%"]
["排出量等の\n増減理由"]

{"sheet":"報告書② 第1年度(取組）","index":10,"n_rows":130,"n_cols":8,"rows_kept":130,"cut":false,"hidden":true,"merged":[[67,0,68,0],[67,1,68,2],[67,3,68,3],[3,4,3,5],[42,4,42,5],[67,4,67,5],[38,0,38,2],[38,3,38,5],[39,0,39,2],[39,3,39,5],[42,0,43,0],[42,1,43,1],[42,2,43,2],[42,3,43,3],[3,0,4,0],[3,1,4,1],[3,2,4,2],[3,3,4,3],[37,0,37,2],[37,3,37,5]]}
[]
[]
["２の１　重点的に実施する取組の実施状況（基本対策）"]
["番号","分類","項目","対策内容","実施状況"]
[null,null,null,null,"基準年度","第１年度","第２年度","第３年度"]
[1,"一般管理事項","エネルギー管理推進体制の整備","エネルギー管理推進体制が整備されている。エネルギー管理推進体制の中で、エネルギー管理が推進されている。",{"$f":"IF('計画書② (取組）'!E5=\"\",\"\",'計画書② (取組）'!E5)","v":""}]
[2,"一般管理事項","エネルギー使用量の把握","主要なエネルギー使用先のエネルギー使用量を、エネルギー種類別に計測している。計測結果が集計され、記録されている。",{"$f":"IF('計画書② (取組）'!E6=\"\",\"\",'計画書② (取組）'!E6)","v":""}]
[3,"一般管理事項","省エネルギー教育の実施","省エネルギー、地球温暖化防止に関する研修、教育を定期的に実施し、実施記録を残している。",{"$f":"IF('計画書② (取組）'!E7=\"\",\"\",'計画書② (取組）'!E7)","v":""}]
[4,"一般管理事項","空調設定温度の管理","空調設定温度がルール化されている。空調を使用している場所の温度が記録されている。",{"$f":"IF('計画書② (取組）'!E8=\"\",\"\",'計画書② (取組）'!E8)","v":""}]
[5,"一般管理事項","換気設備の適正管理","室内の二酸化炭素濃度を定期的に測定し、許容値を超えない範囲で窓開け換気の回数を減らしている。\n全熱交換型換気扇による機械換気が適切に実施されている。",{"$f":"IF('計画書② (取組）'!E9=\"\",\"\",'計画書② (取組）'!E9)","v":""}]
[6,"ボイラー、工業炉、熱交換器等","空調機器の保全管理","空調機器、換気設備のフィルターを定期的に清掃・交換している。空調機器、換気設備のフィルターの清掃・交換記録がある。",{"$f":"IF('計画書② (取組）'!E10=\"\",\"\",'計画書② (取組）'!E10)","v":""}]
[7,"ボイラー、工業炉、熱交換器等","照明器具の点灯時間管理","照明器具の点灯時間がルール化されている。不要な照明の使用や消し忘れをチェックする仕組みがある。センサー等による制御が導入されている。",{"$f":"IF('計画書② (取組）'!E11=\"\",\"\",'計画書② (取組）'!E11)","v":""}]
[8,"ボイラー、工業炉、熱交換器等","ＬＥＤ照明器具の導入","照明の交換時期にあわせ、ＬＥＤ照明に交換している。事業所内の照明の80%（消費電力基準）以上がＬＥＤ照明になっている。",{"$f":"IF('計画書② (取組）'!E12=\"\",\"\",'計画書② (取組）'!E12)","v":""}]
[9,"ボイラー、工業炉、熱交換器等","給湯器の運転方法管理","給湯器の運転時間、季節毎の設定温度がルール化されている。給湯器がルールに従って運転されている。",{"$f":"IF('計画書② (取組）'!E13=\"\",\"\",'計画書② (取組）'!E13)","v":""}]
[10,"ボイラー、工業炉、熱交換器等","事務所機器の待機電力管理","PC、OA機器等の事務所機器が省エネモードに設定されており、長時間不使用の場合には電源を切ることがルール化されている。PC、OA機器等の事務所機器がルールに従って運転されている。",{"$f":"IF('計画書② (取組）'!E14=\"\",\"\",'計画書② (取組）'!E14)","v":""}]
[11,"ボイラー、工業炉、熱交換器等","日射エネルギーに起因する空調負荷の抑制","庇、ブラインド、カーテン等を季節や日射量に合わせ調整することがルール化されている。庇、ブラインド、カーテン等がルールに従って調整されている。",{"$f":"IF('計画書② (取組）'!E15=\"\",\"\",'計画書② (取組）'!E15)","v":""}]
[12,"空気調和設備、換気設備","車両の点検整備","定期的に車両の点検整備を行い、その記録がある。必要により整備管理者が選任されている。",{"$f":"IF('計画書② (取組）'!E16=\"\",\"\",'計画書② (取組）'!E16)","v":""}]
[13,"空気調和設備、換気設備","エコドライブ実践","車両を運転する可能性のある全ての担当者を対象としてエコドライブ教育を実施し、その記録がある。「エコドライブ実践状況チェックシート」を運用している。",{"$f":"IF('計画書② (取組）'!E17=\"\",\"\",'計画書② (取組）'!E17)","v":""}]
[14,"空気調和設備、換気設備",null,null,{"$f":"IF('計画書② (取組）'!E18=\"\",\"\",'計画書② (取組）'!E18)","v":""}]
[15,"空気調和設備、換気設備",null,null,{"$f":"IF('計画書② (取組）'!E19=\"\",\"\",'計画書② (取組）'!E19)","v":""}]
[16,"熱源設備、熱搬送設備",null,null,{"$f":"IF('計画書② (取組）'!E20=\"\",\"\",'計画書② (取組）'!E20)","v":""}]
[17,"熱源設備、熱搬送設備",null,null,{"$f":"IF('計画書② (取組）'!E21=\"\",\"\",'計画書② (取組）'!E21)","v":""}]
[18,"熱源設備、熱搬送設備",null,null,{"$f":"IF('計画書② (取組）'!E22=\"\",\"\",'計画書② (取組）'!E22)","v":""}]
[19,"ポンプ",null,null,{"$f":"IF('計画書② (取組）'!E23=\"\",\"\",'計画書② (取組）'!E23)","v":""}]
[20,"コンプレッサ",null,null,{"$f":"IF('計画書② (取組）'!E24=\"\",\"\",'計画書② (取組）'!E24)","v":""}]
[21,"コンプレッサ",null,null,{"$f":"IF('計画書② (取組）'!E25=\"\",\"\",'計画書② (取組）'!E25)","v":""}]
[22,"コンプレッサ",null,null,{"$f":"IF('計画書② (取組）'!E26=\"\",\"\",'計画書② (取組）'!E26)","v":""}]
[23,"照明器具",null,null,{"$f":"IF('計画書② (取組）'!E27=\"\",\"\",'計画書② (取組）'!E27)","v":""}]
[24,"照明器具",null,null,{"$f":"IF('計画書② (取組）'!E28=\"\",\"\",'計画書② (取組）'!E28)","v":""}]
[25,"コージェネレーション設備",null,null,{"$f":"IF('計画書② (取組）'!E29=\"\",\"\",'計画書② (取組）'!E29)","v":""}]
[26,"給湯",null,null,{"$f":"IF('計画書② (取組）'!E30=\"\",\"\",'計画書② (取組）'!E30)","v":""}]
[27,"事務用機器等",null,null,{"$f":"IF('計画書② (取組）'!E31=\"\",\"\",'計画書② (取組）'!E31)","v":""}]
[28,"建物",null,null,{"$f":"IF('計画書② (取組）'!E32=\"\",\"\",'計画書② (取組）'!E32)","v":""}]
[29,"車両",null,null,{"$f":"IF('計画書② (取組）'!E33=\"\",\"\",'計画書② (取組）'!E33)","v":""}]
[30,"車両",null,null,{"$f":"IF('計画書② (取組）'!E34=\"\",\"\",'計画書② (取組）'!E34)","v":""}]
[]
["基本対策の実施状況に関する説明・特記事項など"]
["第１年度"]
["第２年度"]
["第３年度"]
[]
["２の２　重点的に実施する取組の実施状況（選択対策）"]
["番号","分類","項目","対策内容","実施状況"]
[null,null,null,null,"基準年度","第１年度","第２年度","第３年度"]
[1,null,{"$f":"対策リスト!AV2&\"\"","v":""},{"$f":"IFERROR(VLOOKUP(C45,選択対策,2,0),\"\")","v":""},{"$f":"IF(C45=\"\",\"\",IFERROR(IF(VLOOKUP(C45,'計画書② (取組）'!$C$39:$F$59,3,0)=\"\",\"未入力\",VLOOKUP(C45,'計画書② (取組）'!$C$39:$F$59,3,0)),\"-------\"))","v":""}]
[2,null,{"$f":"対策リスト!AV3&\"\"","v":""},"",{"$f":"IF(C46=\"\",\"\",IFERROR(IF(VLOOKUP(C46,'計画書② (取組）'!$C$39:$F$59,3,0)=\"\",\"未入力\",VLOOKUP(C46,'計画書② (取組）'!$C$39:$F$59,3,0)),\"-------\"))","v":""}]
[3,null,{"$f":"対策リスト!AV4&\"\"","v":""},"",{"$f":"IF(C47=\"\",\"\",IFERROR(IF(VLOOKUP(C47,'計画書② (取組）'!$C$39:$F$59,3,0)=\"\",\"未入力\",VLOOKUP(C47,'計画書② (取組）'!$C$39:$F$59,3,0)),\"-------\"))","v":""}]
[4,null,{"$f":"対策リスト!AV5&\"\"","v":""},"",{"$f":"IF(C48=\"\",\"\",IFERROR(IF(VLOOKUP(C48,'計画書② (取組）'!$C$39:$F$59,3,0)=\"\",\"未入力\",VLOOKUP(C48,'計画書② (取組）'!$C$39:$F$59,3,0)),\"-------\"))","v":""}]
[5,null,{"$f":"対策リスト!AV6&\"\"","v":""},"",{"$f":"IF(C49=\"\",\"\",IFERROR(IF(VLOOKUP(C49,'計画書② (取組）'!$C$39:$F$59,3,0)=\"\",\"未入力\",VLOOKUP(C49,'計画書② (取組）'!$C$39:$F$59,3,0)),\"-------\"))","v":""}]
[6,null,{"$f":"対策リスト!AV7&\"\"","v":""},"",{"$f":"IF(C50=\"\",\"\",IFERROR(IF(VLOOKUP(C50,'計画書② (取組）'!$C$39:$F$59,3,0)=\"\",\"未入力\",VLOOKUP(C50,'計画書② (取組）'!$C$39:$F$59,3,0)),\"-------\"))","v":""}]
[7,null,{"$f":"対策リスト!AV8&\"\"","v":""},"",{"$f":"IF(C51=\"\",\"\",IFERROR(IF(VLOOKUP(C51,'計画書② (取組）'!$C$39:$F$59,3,0)=\"\",\"未入力\",VLOOKUP(C51,'計画書② (取組）'!$C$39:$F$59,3,0)),\"-------\"))","v":""}]
[8,null,{"$f":"対策リスト!AV9&\"\"","v":""},"",{"$f":"IF(C52=\"\",\"\",IFERROR(IF(VLOOKUP(C52,'計画書② (取組）'!$C$39:$F$59,3,0)=\"\",\"未入力\",VLOOKUP(C52,'計画書② (取組）'!$C$39:$F$59,3,0)),\"-------\"))","v":""}]
[9,null,{"$f":"対策リスト!AV10&\"\"","v":""},"",{"$f":"IF(C53=\"\",\"\",IFERROR(IF(VLOOKUP(C53,'計画書② (取組）'!$C$39:$F$59,3,0)=\"\",\"未入力\",VLOOKUP(C53,'計画書② (取組）'!$C$39:$F$59,3,0)),\"-------\"))","v":""}]
[10,null,{"$f":"対策リスト!AV11&\"\"","v":""},"",{"$f":"IF(C54=\"\",\"\",IFERROR(IF(VLOOKUP(C54,'計画書② (取組）'!$C$39:$F$59,3,0)=\"\",\"未入力\",VLOOKUP(C54,'計画書② (取組）'!$C$39:$F$59,3,0)),\"-------\"))","v":""}]
[11,null,{"$f":"対策リスト!AV12&\"\"","v":""},"",{"$f":"IF(C55=\"\",\"\",IFERROR(IF(VLOOKUP(C55,'計画書② (取組）'!$C$39:$F$59,3,0)=\"\",\"未入力\",VLOOKUP(C55,'計画書② (取組）'!$C$39:$F$59,3,0)),\"-------\"))","v":""}]
[12,null,{"$f":"対策リスト!AV13&\"\"","v":""},"",{"$f":"IF(C56=\"\",\"\",IFERROR(IF(VLOOKUP(C56,'計画書② (取組）'!$C$39:$F$59,3,0)=\"\",\"未入力\",VLOOKUP(C56,'計画書② (取組）'!$C$39:$F$59,3,0)),\"-------\"))","v":""}]
[13,null,{"$f":"対策リスト!AV14&\"\"","v":""},"",{"$f":"IF(C57=\"\",\"\",IFERROR(IF(VLOOKUP(C57,'計画書② (取組）'!$C$39:$F$59,3,0)=\"\",\"未入力\",VLOOKUP(C57,'計画書② (取組）'!$C$39:$F$59,3,0)),\"-------\"))","v":""}]
[14,null,{"$f":"対策リスト!AV15&\"\"","v":""},"",{"$f":"IF(C58=\"\",\"\",IFERROR(IF(VLOOKUP(C58,'計画書② (取組）'!$C$39:$F$59,3,0)=\"\",\"未入力\",VLOOKUP(C58,'計画書② (取組）'!$C$39:$F$59,3,0)),\"-------\"))","v":""}]
[15,null,{"$f":"対策リスト!AV16&\"\"","v":""},{"$f":"IFERROR(VLOOKUP(C59,選択対策,2,0),\"\")","v":""},{"$f":"IF(C59=\"\",\"\",IFERROR(IF(VLOOKUP(C59,'計画書② (取組）'!$C$39:$F$59,3,0)=\"\",\"未入力\",VLOOKUP(C59,'計画書② (取組）'!$C$39:$F$59,3,0)),\"-------\"))","v":""}]
[16,null,{"$f":"対策リスト!AV17&\"\"","v":""},"",{"$f":"IF(C60=\"\",\"\",IFERROR(IF(VLOOKUP(C60,'計画書② (取組）'!$C$39:$F$59,3,0)=\"\",\"未入力\",VLOOKUP(C60,'計画書② (取組）'!$C$39:$F$59,3,0)),\"-------\"))","v":""}]
[17,null,{"$f":"対策リスト!AV18&\"\"","v":""},"",{"$f":"IF(C61=\"\",\"\",IFERROR(IF(VLOOKUP(C61,'計画書② (取組）'!$C$39:$F$59,3,0)=\"\",\"未入力\",VLOOKUP(C61,'計画書② (取組）'!$C$39:$F$59,3,0)),\"-------\"))","v":""}]
[18,null,{"$f":"対策リスト!AV19&\"\"","v":""},"",{"$f":"IF(C62=\"\",\"\",IFERROR(IF(VLOOKUP(C62,'計画書② (取組）'!$C$39:$F$59,3,0)=\"\",\"未入力\",VLOOKUP(C62,'計画書② (取組）'!$C$39:$F$59,3,0)),\"-------\"))","v":""}]
[19,null,{"$f":"対策リスト!AV20&\"\"","v":""},"",{"$f":"IF(C63=\"\",\"\",IFERROR(IF(VLOOKUP(C63,'計画書② (取組）'!$C$39:$F$59,3,0)=\"\",\"未入力\",VLOOKUP(C63,'計画書② (取組）'!$C$39:$F$59,3,0)),\"-------\"))","v":""}]
[20,null,{"$f":"対策リスト!AV21&\"\"","v":""},"",{"$f":"IF(C64=\"\",\"\",IFERROR(IF(VLOOKUP(C64,'計画書② (取組）'!$C$39:$F$59,3,0)=\"\",\"未入力\",VLOOKUP(C64,'計画書② (取組）'!$C$39:$F$59,3,0)),\"-------\"))","v":""}]
[]
[]
["２の３　重点的に実施する取組の実施状況（その他の対策）"]
["番号","項目",null,"具体的な取組内容","実施状況"]
[null,null,null,null,"基準年度","第１年度","第２年度","第３年度"]
[1,null,{"$f":"対策リスト!BV2&\"\"","v":""},{"$f":"対策リスト!BY2&\"\"","v":""},{"$f":"IF(C70=\"\",\"\",IF(対策リスト!CD2=\"\",\"-------\",対策リスト!CD2))","v":""}]
[2,null,{"$f":"対策リスト!BV3&\"\"","v":""},{"$f":"対策リスト!BY3&\"\"","v":""},{"$f":"IF(C71=\"\",\"\",IF(対策リスト!CD3=\"\",\"-------\",対策リスト!CD3))","v":""}]
[3,null,{"$f":"対策リスト!BV4&\"\"","v":""},{"$f":"対策リスト!BY4&\"\"","v":""},{"$f":"IF(C72=\"\",\"\",IF(対策リスト!CD4=\"\",\"-------\",対策リスト!CD4))","v":""}]
[4,null,{"$f":"対策リスト!BV5&\"\"","v":""},{"$f":"対策リスト!BY5&\"\"","v":""},{"$f":"IF(C73=\"\",\"\",IF(対策リスト!CD5=\"\",\"-------\",対策リスト!CD5))","v":""}]
[5,null,{"$f":"対策リスト!BV6&\"\"","v":""},{"$f":"対策リスト!BY6&\"\"","v":""},{"$f":"IF(C74=\"\",\"\",IF(対策リスト!CD6=\"\",\"-------\",対策リスト!CD6))","v":""}]
[6,null,{"$f":"対策リスト!BV7&\"\"","v":""},{"$f":"対策リスト!BY7&\"\"","v":""},{"$f":"IF(C75=\"\",\"\",IF(対策リスト!CD7=\"\",\"-------\",対策リスト!CD7))","v":""}]
[7,null,{"$f":"対策リスト!BV8&\"\"","v":""},{"$f":"対策リスト!BY8&\"\"","v":""},{"$f":"IF(C76=\"\",\"\",IF(対策リスト!CD8=\"\",\"-------\",対策リスト!CD8))","v":""}]
[8,null,{"$f":"対策リスト!BV9&\"\"","v":""},{"$f":"対策リスト!BY9&\"\"","v":""},{"$f":"IF(C77=\"\",\"\",IF(対策リスト!CD9=\"\",\"-------\",対策リスト!CD9))","v":""}]
[9,null,{"$f":"対策リスト!BV10&\"\"","v":""},{"$f":"対策リスト!BY10&\"\"","v":""},{"$f":"IF(C78=\"\",\"\",IF(対策リスト!CD10=\"\",\"-------\",対策リスト!CD10))","v":""}]
[10,null,{"$f":"対策リスト!BV11&\"\"","v":""},{"$f":"対策リスト!BY11&\"\"","v":""},{"$f":"IF(C79=\"\",\"\",IF(対策リスト!CD11=\"\",\"-------\",対策リスト!CD11))","v":""}]
[]
[]
[]
[]
[]
[]
[]
[]
[]
[]
[null,null,"第１年度追加（選択対策）"]
[1]
[2]
[3]
[4]
[5]
[6]
[7]
[8]
[9]
[10]
[11]
[12]
[13]
[14]
[15]
[16]
[17]
[18]
[19]
[20]
[]
[]
[]
[]
[]
[]
[]
[]
[null,null,"第１年度追加（その他の対策）"]
[null,null,null,"具体的な取組内容"]
[1]
[2]
[3]
[4]
[5]
[6]
[7]
[8]
[9]
[10]

{"sheet":"報告書② 第2年度(取組）","index":11,"n_rows":130,"n_cols":8,"rows_kept":130,"cut":false,"hidden":true,"merged":[[67,0,68,0],[67,1,68,2],[67,3,68,3],[38,0,38,2],[38,3,38,5],[39,0,39,2],[39,3,39,5],[42,0,43,0],[42,1,43,1],[42,2,43,2],[42,3,43,3],[67,4,67,6],[3,0,4,0],[3,1,4,1],[3,2,4,2],[3,3,4,3],[42,4,42,6],[3,4,3,6],[37,0,37,2],[37,3,37,5]]}
[]
[]
["２の１　重点的に実施する取組の実施状況（基本対策）"]
["番号","分類","項目","対策内容","実施状況"]
[null,null,null,null,"基準年度","第１年度","第２年度","第３年度"]
[1,"一般管理事項","エネルギー管理推進体制の整備","エネルギー管理推進体制が整備されている。エネルギー管理推進体制の中で、エネルギー管理が推進されている。",{"$f":"IF('計画書② (取組）'!E5=\"\",\"\",'計画書② (取組）'!E5)","v":""},{"$f":"IF(C6=\"\",\"\",IFERROR(IF(VLOOKUP(C6,'報告書② 第1年度(取組）'!$C$6:$F$35,4,0)=\"\",\"未入力\",VLOOKUP(C6,'報告書② 第1年度(取組）'!$C$6:$F$35,4,0)),\"-------\"))","v":"未入力"}]
[2,"一般管理事項","エネルギー使用量の把握","主要なエネルギー使用先のエネルギー使用量を、エネルギー種類別に計測している。計測結果が集計され、記録されている。",{"$f":"IF('計画書② (取組）'!E6=\"\",\"\",'計画書② (取組）'!E6)","v":""},{"$f":"IF(C7=\"\",\"\",IFERROR(IF(VLOOKUP(C7,'報告書② 第1年度(取組）'!$C$6:$F$35,4,0)=\"\",\"未入力\",VLOOKUP(C7,'報告書② 第1年度(取組）'!$C$6:$F$35,4,0)),\"-------\"))","v":"未入力"}]
[3,"一般管理事項","省エネルギー教育の実施","省エネルギー、地球温暖化防止に関する研修、教育を定期的に実施し、実施記録を残している。",{"$f":"IF('計画書② (取組）'!E7=\"\",\"\",'計画書② (取組）'!E7)","v":""},{"$f":"IF(C8=\"\",\"\",IFERROR(IF(VLOOKUP(C8,'報告書② 第1年度(取組）'!$C$6:$F$35,4,0)=\"\",\"未入力\",VLOOKUP(C8,'報告書② 第1年度(取組）'!$C$6:$F$35,4,0)),\"-------\"))","v":"未入力"}]
[4,"一般管理事項","空調設定温度の管理","空調設定温度がルール化されている。空調を使用している場所の温度が記録されている。",{"$f":"IF('計画書② (取組）'!E8=\"\",\"\",'計画書② (取組）'!E8)","v":""},{"$f":"IF(C9=\"\",\"\",IFERROR(IF(VLOOKUP(C9,'報告書② 第1年度(取組）'!$C$6:$F$35,4,0)=\"\",\"未入力\",VLOOKUP(C9,'報告書② 第1年度(取組）'!$C$6:$F$35,4,0)),\"-------\"))","v":"未入力"}]
[5,"一般管理事項","換気設備の適正管理","室内の二酸化炭素濃度を定期的に測定し、許容値を超えない範囲で窓開け換気の回数を減らしている。\n全熱交換型換気扇による機械換気が適切に実施されている。",{"$f":"IF('計画書② (取組）'!E9=\"\",\"\",'計画書② (取組）'!E9)","v":""},{"$f":"IF(C10=\"\",\"\",IFERROR(IF(VLOOKUP(C10,'報告書② 第1年度(取組）'!$C$6:$F$35,4,0)=\"\",\"未入力\",VLOOKUP(C10,'報告書② 第1年度(取組）'!$C$6:$F$35,4,0)),\"-------\"))","v":"未入力"}]
[6,"ボイラー、工業炉、熱交換器等","空調機器の保全管理","空調機器、換気設備のフィルターを定期的に清掃・交換している。空調機器、換気設備のフィルターの清掃・交換記録がある。",{"$f":"IF('計画書② (取組）'!E10=\"\",\"\",'計画書② (取組）'!E10)","v":""},{"$f":"IF(C11=\"\",\"\",IFERROR(IF(VLOOKUP(C11,'報告書② 第1年度(取組）'!$C$6:$F$35,4,0)=\"\",\"未入力\",VLOOKUP(C11,'報告書② 第1年度(取組）'!$C$6:$F$35,4,0)),\"-------\"))","v":"未入力"}]
[7,"ボイラー、工業炉、熱交換器等","照明器具の点灯時間管理","照明器具の点灯時間がルール化されている。不要な照明の使用や消し忘れをチェックする仕組みがある。センサー等による制御が導入されている。",{"$f":"IF('計画書② (取組）'!E11=\"\",\"\",'計画書② (取組）'!E11)","v":""},{"$f":"IF(C12=\"\",\"\",IFERROR(IF(VLOOKUP(C12,'報告書② 第1年度(取組）'!$C$6:$F$35,4,0)=\"\",\"未入力\",VLOOKUP(C12,'報告書② 第1年度(取組）'!$C$6:$F$35,4,0)),\"-------\"))","v":"未入力"}]
[8,"ボイラー、工業炉、熱交換器等","ＬＥＤ照明器具の導入","照明の交換時期にあわせ、ＬＥＤ照明に交換している。事業所内の照明の80%（消費電力基準）以上がＬＥＤ照明になっている。",{"$f":"IF('計画書② (取組）'!E12=\"\",\"\",'計画書② (取組）'!E12)","v":""},{"$f":"IF(C13=\"\",\"\",IFERROR(IF(VLOOKUP(C13,'報告書② 第1年度(取組）'!$C$6:$F$35,4,0)=\"\",\"未入力\",VLOOKUP(C13,'報告書② 第1年度(取組）'!$C$6:$F$35,4,0)),\"-------\"))","v":"未入力"}]
[9,"ボイラー、工業炉、熱交換器等","給湯器の運転方法管理","給湯器の運転時間、季節毎の設定温度がルール化されている。給湯器がルールに従って運転されている。",{"$f":"IF('計画書② (取組）'!E13=\"\",\"\",'計画書② (取組）'!E13)","v":""},{"$f":"IF(C14=\"\",\"\",IFERROR(IF(VLOOKUP(C14,'報告書② 第1年度(取組）'!$C$6:$F$35,4,0)=\"\",\"未入力\",VLOOKUP(C14,'報告書② 第1年度(取組）'!$C$6:$F$35,4,0)),\"-------\"))","v":"未入力"}]
[10,"ボイラー、工業炉、熱交換器等","事務所機器の待機電力管理","PC、OA機器等の事務所機器が省エネモードに設定されており、長時間不使用の場合には電源を切ることがルール化されている。PC、OA機器等の事務所機器がルールに従って運転されている。",{"$f":"IF('計画書② (取組）'!E14=\"\",\"\",'計画書② (取組）'!E14)","v":""},{"$f":"IF(C15=\"\",\"\",IFERROR(IF(VLOOKUP(C15,'報告書② 第1年度(取組）'!$C$6:$F$35,4,0)=\"\",\"未入力\",VLOOKUP(C15,'報告書② 第1年度(取組）'!$C$6:$F$35,4,0)),\"-------\"))","v":"未入力"}]
[11,"ボイラー、工業炉、熱交換器等","日射エネルギーに起因する空調負荷の抑制","庇、ブラインド、カーテン等を季節や日射量に合わせ調整することがルール化されている。庇、ブラインド、カーテン等がルールに従って調整されている。",{"$f":"IF('計画書② (取組）'!E15=\"\",\"\",'計画書② (取組）'!E15)","v":""},{"$f":"IF(C16=\"\",\"\",IFERROR(IF(VLOOKUP(C16,'報告書② 第1年度(取組）'!$C$6:$F$35,4,0)=\"\",\"未入力\",VLOOKUP(C16,'報告書② 第1年度(取組）'!$C$6:$F$35,4,0)),\"-------\"))","v":"未入力"}]
[12,"空気調和設備、換気設備","車両の点検整備","定期的に車両の点検整備を行い、その記録がある。必要により整備管理者が選任されている。",{"$f":"IF('計画書② (取組）'!E16=\"\",\"\",'計画書② (取組）'!E16)","v":""},{"$f":"IF(C17=\"\",\"\",IFERROR(IF(VLOOKUP(C17,'報告書② 第1年度(取組）'!$C$6:$F$35,4,0)=\"\",\"未入力\",VLOOKUP(C17,'報告書② 第1年度(取組）'!$C$6:$F$35,4,0)),\"-------\"))","v":"未入力"}]
[13,"空気調和設備、換気設備","エコドライブ実践","車両を運転する可能性のある全ての担当者を対象としてエコドライブ教育を実施し、その記録がある。「エコドライブ実践状況チェックシート」を運用している。",{"$f":"IF('計画書② (取組）'!E17=\"\",\"\",'計画書② (取組）'!E17)","v":""},{"$f":"IF(C18=\"\",\"\",IFERROR(IF(VLOOKUP(C18,'報告書② 第1年度(取組）'!$C$6:$F$35,4,0)=\"\",\"未入力\",VLOOKUP(C18,'報告書② 第1年度(取組）'!$C$6:$F$35,4,0)),\"-------\"))","v":"未入力"}]
[14,"空気調和設備、換気設備",null,null,{"$f":"IF('計画書② (取組）'!E18=\"\",\"\",'計画書② (取組）'!E18)","v":""},{"$f":"IF(C19=\"\",\"\",IFERROR(IF(VLOOKUP(C19,'報告書② 第1年度(取組）'!$C$6:$F$35,4,0)=\"\",\"未入力\",VLOOKUP(C19,'報告書② 第1年度(取組）'!$C$6:$F$35,4,0)),\"-------\"))","v":""}]
[15,"空気調和設備、換気設備",null,null,{"$f":"IF('計画書② (取組）'!E19=\"\",\"\",'計画書② (取組）'!E19)","v":""},{"$f":"IF(C20=\"\",\"\",IFERROR(IF(VLOOKUP(C20,'報告書② 第1年度(取組）'!$C$6:$F$35,4,0)=\"\",\"未入力\",VLOOKUP(C20,'報告書② 第1年度(取組）'!$C$6:$F$35,4,0)),\"-------\"))","v":""}]
[16,"熱源設備、熱搬送設備",null,null,{"$f":"IF('計画書② (取組）'!E20=\"\",\"\",'計画書② (取組）'!E20)","v":""},{"$f":"IF(C21=\"\",\"\",IFERROR(IF(VLOOKUP(C21,'報告書② 第1年度(取組）'!$C$6:$F$35,4,0)=\"\",\"未入力\",VLOOKUP(C21,'報告書② 第1年度(取組）'!$C$6:$F$35,4,0)),\"-------\"))","v":""}]
[17,"熱源設備、熱搬送設備",null,null,{"$f":"IF('計画書② (取組）'!E21=\"\",\"\",'計画書② (取組）'!E21)","v":""},{"$f":"IF(C22=\"\",\"\",IFERROR(IF(VLOOKUP(C22,'報告書② 第1年度(取組）'!$C$6:$F$35,4,0)=\"\",\"未入力\",VLOOKUP(C22,'報告書② 第1年度(取組）'!$C$6:$F$35,4,0)),\"-------\"))","v":""}]
[18,"熱源設備、熱搬送設備",null,null,{"$f":"IF('計画書② (取組）'!E22=\"\",\"\",'計画書② (取組）'!E22)","v":""},{"$f":"IF(C23=\"\",\"\",IFERROR(IF(VLOOKUP(C23,'報告書② 第1年度(取組）'!$C$6:$F$35,4,0)=\"\",\"未入力\",VLOOKUP(C23,'報告書② 第1年度(取組）'!$C$6:$F$35,4,0)),\"-------\"))","v":""}]
[19,"ポンプ",null,null,{"$f":"IF('計画書② (取組）'!E23=\"\",\"\",'計画書② (取組）'!E23)","v":""},{"$f":"IF(C24=\"\",\"\",IFERROR(IF(VLOOKUP(C24,'報告書② 第1年度(取組）'!$C$6:$F$35,4,0)=\"\",\"未入力\",VLOOKUP(C24,'報告書② 第1年度(取組）'!$C$6:$F$35,4,0)),\"-------\"))","v":""}]
[20,"コンプレッサ",null,null,{"$f":"IF('計画書② (取組）'!E24=\"\",\"\",'計画書② (取組）'!E24)","v":""},{"$f":"IF(C25=\"\",\"\",IFERROR(IF(VLOOKUP(C25,'報告書② 第1年度(取組）'!$C$6:$F$35,4,0)=\"\",\"未入力\",VLOOKUP(C25,'報告書② 第1年度(取組）'!$C$6:$F$35,4,0)),\"-------\"))","v":""}]
[21,"コンプレッサ",null,null,{"$f":"IF('計画書② (取組）'!E25=\"\",\"\",'計画書② (取組）'!E25)","v":""},{"$f":"IF(C26=\"\",\"\",IFERROR(IF(VLOOKUP(C26,'報告書② 第1年度(取組）'!$C$6:$F$35,4,0)=\"\",\"未入力\",VLOOKUP(C26,'報告書② 第1年度(取組）'!$C$6:$F$35,4,0)),\"-------\"))","v":""}]
[22,"コンプレッサ",null,null,{"$f":"IF('計画書② (取組）'!E26=\"\",\"\",'計画書② (取組）'!E26)","v":""},{"$f":"IF(C27=\"\",\"\",IFERROR(IF(VLOOKUP(C27,'報告書② 第1年度(取組）'!$C$6:$F$35,4,0)=\"\",\"未入力\",VLOOKUP(C27,'報告書② 第1年度(取組）'!$C$6:$F$35,4,0)),\"-------\"))","v":""}]
[23,"照明器具",null,null,{"$f":"IF('計画書② (取組）'!E27=\"\",\"\",'計画書② (取組）'!E27)","v":""},{"$f":"IF(C28=\"\",\"\",IFERROR(IF(VLOOKUP(C28,'報告書② 第1年度(取組）'!$C$6:$F$35,4,0)=\"\",\"未入力\",VLOOKUP(C28,'報告書② 第1年度(取組）'!$C$6:$F$35,4,0)),\"-------\"))","v":""}]
[24,"照明器具",null,null,{"$f":"IF('計画書② (取組）'!E28=\"\",\"\",'計画書② (取組）'!E28)","v":""},{"$f":"IF(C29=\"\",\"\",IFERROR(IF(VLOOKUP(C29,'報告書② 第1年度(取組）'!$C$6:$F$35,4,0)=\"\",\"未入力\",VLOOKUP(C29,'報告書② 第1年度(取組）'!$C$6:$F$35,4,0)),\"-------\"))","v":""}]
[25,"コージェネレーション設備",null,null,{"$f":"IF('計画書② (取組）'!E29=\"\",\"\",'計画書② (取組）'!E29)","v":""},{"$f":"IF(C30=\"\",\"\",IFERROR(IF(VLOOKUP(C30,'報告書② 第1年度(取組）'!$C$6:$F$35,4,0)=\"\",\"未入力\",VLOOKUP(C30,'報告書② 第1年度(取組）'!$C$6:$F$35,4,0)),\"-------\"))","v":""}]
[26,"給湯",null,null,{"$f":"IF('計画書② (取組）'!E30=\"\",\"\",'計画書② (取組）'!E30)","v":""},{"$f":"IF(C31=\"\",\"\",IFERROR(IF(VLOOKUP(C31,'報告書② 第1年度(取組）'!$C$6:$F$35,4,0)=\"\",\"未入力\",VLOOKUP(C31,'報告書② 第1年度(取組）'!$C$6:$F$35,4,0)),\"-------\"))","v":""}]
[27,"事務用機器等",null,null,{"$f":"IF('計画書② (取組）'!E31=\"\",\"\",'計画書② (取組）'!E31)","v":""},{"$f":"IF(C32=\"\",\"\",IFERROR(IF(VLOOKUP(C32,'報告書② 第1年度(取組）'!$C$6:$F$35,4,0)=\"\",\"未入力\",VLOOKUP(C32,'報告書② 第1年度(取組）'!$C$6:$F$35,4,0)),\"-------\"))","v":""}]
[28,"建物",null,null,{"$f":"IF('計画書② (取組）'!E32=\"\",\"\",'計画書② (取組）'!E32)","v":""},{"$f":"IF(C33=\"\",\"\",IFERROR(IF(VLOOKUP(C33,'報告書② 第1年度(取組）'!$C$6:$F$35,4,0)=\"\",\"未入力\",VLOOKUP(C33,'報告書② 第1年度(取組）'!$C$6:$F$35,4,0)),\"-------\"))","v":""}]
[29,"車両",null,null,{"$f":"IF('計画書② (取組）'!E33=\"\",\"\",'計画書② (取組）'!E33)","v":""},{"$f":"IF(C34=\"\",\"\",IFERROR(IF(VLOOKUP(C34,'報告書② 第1年度(取組）'!$C$6:$F$35,4,0)=\"\",\"未入力\",VLOOKUP(C34,'報告書② 第1年度(取組）'!$C$6:$F$35,4,0)),\"-------\"))","v":""}]
[30,"車両",null,null,{"$f":"IF('計画書② (取組）'!E34=\"\",\"\",'計画書② (取組）'!E34)","v":""},{"$f":"IF(C35=\"\",\"\",IFERROR(IF(VLOOKUP(C35,'報告書② 第1年度(取組）'!$C$6:$F$35,4,0)=\"\",\"未入力\",VLOOKUP(C35,'報告書② 第1年度(取組）'!$C$6:$F$35,4,0)),\"-------\"))","v":""}]
[]
["基本対策の実施状況に関する説明・特記事項など"]
["第１年度",null,null,{"$f":"'報告書② 第1年度(取組）'!D38&\"\"","v":""}]
["第２年度"]
["第３年度"]
[]
["２の２　重点的に実施する取組の実施状況（選択対策）"]
["番号","分類","項目","対策内容","実施状況"]
[null,null,null,null,"基準年度","第１年度","第２年度","第３年度"]
[1,null,{"$f":"対策リスト!AU2&\"\"","v":""},{"$f":"IFERROR(VLOOKUP(C45,選択対策,2,0),\"\")","v":""},{"$f":"IF(C45=\"\",\"\",IFERROR(IF(VLOOKUP(C45,'報告書② 第1年度(取組）'!$C$45:$F$64,3,0)=\"\",\"未入力\",VLOOKUP(C45,'報告書② 第1年度(取組）'!$C$45:$F$64,3,0)),\"-------\"))","v":""},{"$f":"IF(C45=\"\",\"\",IFERROR(IF(VLOOKUP(C45,'報告書② 第1年度(取組）'!$C$45:$F$64,4,0)=\"\",\"未入力\",VLOOKUP(C45,'報告書② 第1年度(取組）'!$C$45:$F$64,4,0)),\"-------\"))","v":""}]
[2,null,{"$f":"対策リスト!AU3&\"\"","v":""},{"$f":"IFERROR(VLOOKUP(C46,選択対策,2,0),\"\")","v":""},{"$f":"IF(C46=\"\",\"\",IFERROR(IF(VLOOKUP(C46,'報告書② 第1年度(取組）'!$C$45:$F$64,3,0)=\"\",\"未入力\",VLOOKUP(C46,'報告書② 第1年度(取組）'!$C$45:$F$64,3,0)),\"-------\"))","v":""},{"$f":"IF(C46=\"\",\"\",IFERROR(IF(VLOOKUP(C46,'報告書② 第1年度(取組）'!$C$45:$F$64,4,0)=\"\",\"未入力\",VLOOKUP(C46,'報告書② 第1年度(取組）'!$C$45:$F$64,4,0)),\"-------\"))","v":""}]
[3,null,{"$f":"対策リスト!AU4&\"\"","v":""},"",{"$f":"IF(C47=\"\",\"\",IFERROR(IF(VLOOKUP(C47,'報告書② 第1年度(取組）'!$C$45:$F$64,3,0)=\"\",\"未入力\",VLOOKUP(C47,'報告書② 第1年度(取組）'!$C$45:$F$64,3,0)),\"-------\"))","v":""},{"$f":"IF(C47=\"\",\"\",IFERROR(IF(VLOOKUP(C47,'報告書② 第1年度(取組）'!$C$45:$F$64,4,0)=\"\",\"未入力\",VLOOKUP(C47,'報告書② 第1年度(取組）'!$C$45:$F$64,4,0)),\"-------\"))","v":""}]
[4,null,{"$f":"対策リスト!AU5&\"\"","v":""},"",{"$f":"IF(C48=\"\",\"\",IFERROR(IF(VLOOKUP(C48,'報告書② 第1年度(取組）'!$C$45:$F$64,3,0)=\"\",\"未入力\",VLOOKUP(C48,'報告書② 第1年度(取組）'!$C$45:$F$64,3,0)),\"-------\"))","v":""},{"$f":"IF(C48=\"\",\"\",IFERROR(IF(VLOOKUP(C48,'報告書② 第1年度(取組）'!$C$45:$F$64,4,0)=\"\",\"未入力\",VLOOKUP(C48,'報告書② 第1年度(取組）'!$C$45:$F$64,4,0)),\"-------\"))","v":""}]
[5,null,{"$f":"対策リスト!AU6&\"\"","v":""},"",{"$f":"IF(C49=\"\",\"\",IFERROR(IF(VLOOKUP(C49,'報告書② 第1年度(取組）'!$C$45:$F$64,3,0)=\"\",\"未入力\",VLOOKUP(C49,'報告書② 第1年度(取組）'!$C$45:$F$64,3,0)),\"-------\"))","v":""},{"$f":"IF(C49=\"\",\"\",IFERROR(IF(VLOOKUP(C49,'報告書② 第1年度(取組）'!$C$45:$F$64,4,0)=\"\",\"未入力\",VLOOKUP(C49,'報告書② 第1年度(取組）'!$C$45:$F$64,4,0)),\"-------\"))","v":""}]
[6,null,{"$f":"対策リスト!AU7&\"\"","v":""},"",{"$f":"IF(C50=\"\",\"\",IFERROR(IF(VLOOKUP(C50,'報告書② 第1年度(取組）'!$C$45:$F$64,3,0)=\"\",\"未入力\",VLOOKUP(C50,'報告書② 第1年度(取組）'!$C$45:$F$64,3,0)),\"-------\"))","v":""},{"$f":"IF(C50=\"\",\"\",IFERROR(IF(VLOOKUP(C50,'報告書② 第1年度(取組）'!$C$45:$F$64,4,0)=\"\",\"未入力\",VLOOKUP(C50,'報告書② 第1年度(取組）'!$C$45:$F$64,4,0)),\"-------\"))","v":""}]
[7,null,{"$f":"対策リスト!AU8&\"\"","v":""},"",{"$f":"IF(C51=\"\",\"\",IFERROR(IF(VLOOKUP(C51,'報告書② 第1年度(取組）'!$C$45:$F$64,3,0)=\"\",\"未入力\",VLOOKUP(C51,'報告書② 第1年度(取組）'!$C$45:$F$64,3,0)),\"-------\"))","v":""},{"$f":"IF(C51=\"\",\"\",IFERROR(IF(VLOOKUP(C51,'報告書② 第1年度(取組）'!$C$45:$F$64,4,0)=\"\",\"未入力\",VLOOKUP(C51,'報告書② 第1年度(取組）'!$C$45:$F$64,4,0)),\"-------\"))","v":""}]
[8,null,{"$f":"対策リスト!AU9&\"\"","v":""},"",{"$f":"IF(C52=\"\",\"\",IFERROR(IF(VLOOKUP(C52,'報告書② 第1年度(取組）'!$C$45:$F$64,3,0)=\"\",\"未入力\",VLOOKUP(C52,'報告書② 第1年度(取組）'!$C$45:$F$64,3,0)),\"-------\"))","v":""},{"$f":"IF(C52=\"\",\"\",IFERROR(IF(VLOOKUP(C52,'報告書② 第1年度(取組）'!$C$45:$F$64,4,0)=\"\",\"未入力\",VLOOKUP(C52,'報告書② 第1年度(取組）'!$C$45:$F$64,4,0)),\"-------\"))","v":""}]
[9,null,{"$f":"対策リスト!AU10&\"\"","v":""},"",{"$f":"IF(C53=\"\",\"\",IFERROR(IF(VLOOKUP(C53,'報告書② 第1年度(取組）'!$C$45:$F$64,3,0)=\"\",\"未入力\",VLOOKUP(C53,'報告書② 第1年度(取組）'!$C$45:$F$64,3,0)),\"-------\"))","v":""},{"$f":"IF(C53=\"\",\"\",IFERROR(IF(VLOOKUP(C53,'報告書② 第1年度(取組）'!$C$45:$F$64,4,0)=\"\",\"未入力\",VLOOKUP(C53,'報告書② 第1年度(取組）'!$C$45:$F$64,4,0)),\"-------\"))","v":""}]
[10,null,{"$f":"対策リスト!AU11&\"\"","v":""},"",{"$f":"IF(C54=\"\",\"\",IFERROR(IF(VLOOKUP(C54,'報告書② 第1年度(取組）'!$C$45:$F$64,3,0)=\"\",\"未入力\",VLOOKUP(C54,'報告書② 第1年度(取組）'!$C$45:$F$64,3,0)),\"-------\"))","v":""},{"$f":"IF(C54=\"\",\"\",IFERROR(IF(VLOOKUP(C54,'報告書② 第1年度(取組）'!$C$45:$F$64,4,0)=\"\",\"未入力\",VLOOKUP(C54,'報告書② 第1年度(取組）'!$C$45:$F$64,4,0)),\"-------\"))","v":""}]
[11,null,{"$f":"対策リスト!AU12&\"\"","v":""},"",{"$f":"IF(C55=\"\",\"\",IFERROR(IF(VLOOKUP(C55,'報告書② 第1年度(取組）'!$C$45:$F$64,3,0)=\"\",\"未入力\",VLOOKUP(C55,'報告書② 第1年度(取組）'!$C$45:$F$64,3,0)),\"-------\"))","v":""},{"$f":"IF(C55=\"\",\"\",IFERROR(IF(VLOOKUP(C55,'報告書② 第1年度(取組）'!$C$45:$F$64,4,0)=\"\",\"未入力\",VLOOKUP(C55,'報告書② 第1年度(取組）'!$C$45:$F$64,4,0)),\"-------\"))","v":""}]
[12,null,{"$f":"対策リスト!AU13&\"\"","v":""},"",{"$f":"IF(C56=\"\",\"\",IFERROR(IF(VLOOKUP(C56,'報告書② 第1年度(取組）'!$C$45:$F$64,3,0)=\"\",\"未入力\",VLOOKUP(C56,'報告書② 第1年度(取組）'!$C$45:$F$64,3,0)),\"-------\"))","v":""},{"$f":"IF(C56=\"\",\"\",IFERROR(IF(VLOOKUP(C56,'報告書② 第1年度(取組）'!$C$45:$F$64,4,0)=\"\",\"未入力\",VLOOKUP(C56,'報告書② 第1年度(取組）'!$C$45:$F$64,4,0)),\"-------\"))","v":""}]
[13,null,{"$f":"対策リスト!AU14&\"\"","v":""},"",{"$f":"IF(C57=\"\",\"\",IFERROR(IF(VLOOKUP(C57,'報告書② 第1年度(取組）'!$C$45:$F$64,3,0)=\"\",\"未入力\",VLOOKUP(C57,'報告書② 第1年度(取組）'!$C$45:$F$64,3,0)),\"-------\"))","v":""},{"$f":"IF(C57=\"\",\"\",IFERROR(IF(VLOOKUP(C57,'報告書② 第1年度(取組）'!$C$45:$F$64,4,0)=\"\",\"未入力\",VLOOKUP(C57,'報告書② 第1年度(取組）'!$C$45:$F$64,4,0)),\"-------\"))","v":""}]
[14,null,{"$f":"対策リスト!AU15&\"\"","v":""},"",{"$f":"IF(C58=\"\",\"\",IFERROR(IF(VLOOKUP(C58,'報告書② 第1年度(取組）'!$C$45:$F$64,3,0)=\"\",\"未入力\",VLOOKUP(C58,'報告書② 第1年度(取組）'!$C$45:$F$64,3,0)),\"-------\"))","v":""},{"$f":"IF(C58=\"\",\"\",IFERROR(IF(VLOOKUP(C58,'報告書② 第1年度(取組）'!$C$45:$F$64,4,0)=\"\",\"未入力\",VLOOKUP(C58,'報告書② 第1年度(取組）'!$C$45:$F$64,4,0)),\"-------\"))","v":""}]
[15,null,{"$f":"対策リスト!AU16&\"\"","v":""},"",{"$f":"IF(C59=\"\",\"\",IFERROR(IF(VLOOKUP(C59,'報告書② 第1年度(取組）'!$C$45:$F$64,3,0)=\"\",\"未入力\",VLOOKUP(C59,'報告書② 第1年度(取組）'!$C$45:$F$64,3,0)),\"-------\"))","v":""},{"$f":"IF(C59=\"\",\"\",IFERROR(IF(VLOOKUP(C59,'報告書② 第1年度(取組）'!$C$45:$F$64,4,0)=\"\",\"未入力\",VLOOKUP(C59,'報告書② 第1年度(取組）'!$C$45:$F$64,4,0)),\"-------\"))","v":""}]
[16,null,{"$f":"対策リスト!AU17&\"\"","v":""},{"$f":"IFERROR(VLOOKUP(C60,選択対策,2,0),\"\")","v":""},{"$f":"IF(C60=\"\",\"\",IFERROR(IF(VLOOKUP(C60,'報告書② 第1年度(取組）'!$C$45:$F$64,3,0)=\"\",\"未入力\",VLOOKUP(C60,'報告書② 第1年度(取組）'!$C$45:$F$64,3,0)),\"-------\"))","v":""},{"$f":"IF(C60=\"\",\"\",IFERROR(IF(VLOOKUP(C60,'報告書② 第1年度(取組）'!$C$45:$F$64,4,0)=\"\",\"未入力\",VLOOKUP(C60,'報告書② 第1年度(取組）'!$C$45:$F$64,4,0)),\"-------\"))","v":""}]
[17,null,{"$f":"対策リスト!AU18&\"\"","v":""},{"$f":"IFERROR(VLOOKUP(C61,選択対策,2,0),\"\")","v":""},{"$f":"IF(C61=\"\",\"\",IFERROR(IF(VLOOKUP(C61,'報告書② 第1年度(取組）'!$C$45:$F$64,3,0)=\"\",\"未入力\",VLOOKUP(C61,'報告書② 第1年度(取組）'!$C$45:$F$64,3,0)),\"-------\"))","v":""},{"$f":"IF(C61=\"\",\"\",IFERROR(IF(VLOOKUP(C61,'報告書② 第1年度(取組）'!$C$45:$F$64,4,0)=\"\",\"未入力\",VLOOKUP(C61,'報告書② 第1年度(取組）'!$C$45:$F$64,4,0)),\"-------\"))","v":""}]
[18,null,{"$f":"対策リスト!AU19&\"\"","v":""},{"$f":"IFERROR(VLOOKUP(C62,選択対策,2,0),\"\")","v":""},{"$f":"IF(C62=\"\",\"\",IFERROR(IF(VLOOKUP(C62,'報告書② 第1年度(取組）'!$C$45:$F$64,3,0)=\"\",\"未入力\",VLOOKUP(C62,'報告書② 第1年度(取組）'!$C$45:$F$64,3,0)),\"-------\"))","v":""},{"$f":"IF(C62=\"\",\"\",IFERROR(IF(VLOOKUP(C62,'報告書② 第1年度(取組）'!$C$45:$F$64,4,0)=\"\",\"未入力\",VLOOKUP(C62,'報告書② 第1年度(取組）'!$C$45:$F$64,4,0)),\"-------\"))","v":""}]
[19,null,{"$f":"対策リスト!AU20&\"\"","v":""},{"$f":"IFERROR(VLOOKUP(C63,選択対策,2,0),\"\")","v":""},{"$f":"IF(C63=\"\",\"\",IFERROR(IF(VLOOKUP(C63,'報告書② 第1年度(取組）'!$C$45:$F$64,3,0)=\"\",\"未入力\",VLOOKUP(C63,'報告書② 第1年度(取組）'!$C$45:$F$64,3,0)),\"-------\"))","v":""},{"$f":"IF(C63=\"\",\"\",IFERROR(IF(VLOOKUP(C63,'報告書② 第1年度(取組）'!$C$45:$F$64,4,0)=\"\",\"未入力\",VLOOKUP(C63,'報告書② 第1年度(取組）'!$C$45:$F$64,4,0)),\"-------\"))","v":""}]
[20,null,{"$f":"対策リスト!AU21&\"\"","v":""},{"$f":"IFERROR(VLOOKUP(C64,選択対策,2,0),\"\")","v":""},{"$f":"IF(C64=\"\",\"\",IFERROR(IF(VLOOKUP(C64,'報告書② 第1年度(取組）'!$C$45:$F$64,3,0)=\"\",\"未入力\",VLOOKUP(C64,'報告書② 第1年度(取組）'!$C$45:$F$64,3,0)),\"-------\"))","v":""},{"$f":"IF(C64=\"\",\"\",IFERROR(IF(VLOOKUP(C64,'報告書② 第1年度(取組）'!$C$45:$F$64,4,0)=\"\",\"未入力\",VLOOKUP(C64,'報告書② 第1年度(取組）'!$C$45:$F$64,4,0)),\"-------\"))","v":""}]
[]
[]
["２の３　重点的に実施する取組の実施状況（その他の対策）"]
["番号","項目",null,"具体的な取組内容","実施状況"]
[null,null,null,null,"基準年度","第１年度","第２年度","第３年度"]
[1,null,{"$f":"対策リスト!BU2&\"\"","v":""},{"$f":"対策リスト!BX2&\"\"","v":""},{"$f":"IF(C70=\"\",\"\",IF(対策リスト!CD2=\"\",\"-------\",対策リスト!CD2))","v":""},{"$f":"IF(C70=\"\",\"\",IF(対策リスト!CC2=\"\",\"-------\",対策リスト!CC2))","v":""}]
[2,null,{"$f":"対策リスト!BU3&\"\"","v":""},{"$f":"対策リスト!BX3&\"\"","v":""},{"$f":"IF(C71=\"\",\"\",IF(対策リスト!CD3=\"\",\"-------\",対策リスト!CD3))","v":""},{"$f":"IF(C71=\"\",\"\",IF(対策リスト!CC3=\"\",\"-------\",対策リスト!CC3))","v":""}]
[3,null,{"$f":"対策リスト!BU4&\"\"","v":""},{"$f":"対策リスト!BX4&\"\"","v":""},{"$f":"IF(C72=\"\",\"\",IF(対策リスト!CD4=\"\",\"-------\",対策リスト!CD4))","v":""},{"$f":"IF(C72=\"\",\"\",IF(対策リスト!CC4=\"\",\"-------\",対策リスト!CC4))","v":""}]
[4,null,{"$f":"対策リスト!BU5&\"\"","v":""},{"$f":"対策リスト!BX5&\"\"","v":""},{"$f":"IF(C73=\"\",\"\",IF(対策リスト!CD5=\"\",\"-------\",対策リスト!CD5))","v":""},{"$f":"IF(C73=\"\",\"\",IF(対策リスト!CC5=\"\",\"-------\",対策リスト!CC5))","v":""}]
[5,null,{"$f":"対策リスト!BU6&\"\"","v":""},{"$f":"対策リスト!BX6&\"\"","v":""},{"$f":"IF(C74=\"\",\"\",IF(対策リスト!CD6=\"\",\"-------\",対策リスト!CD6))","v":""},{"$f":"IF(C74=\"\",\"\",IF(対策リスト!CC6=\"\",\"-------\",対策リスト!CC6))","v":""}]
[6,null,{"$f":"対策リスト!BU7&\"\"","v":""},{"$f":"対策リスト!BX7&\"\"","v":""},{"$f":"IF(C75=\"\",\"\",IF(対策リスト!CD7=\"\",\"-------\",対策リスト!CD7))","v":""},{"$f":"IF(C75=\"\",\"\",IF(対策リスト!CC7=\"\",\"-------\",対策リスト!CC7))","v":""}]
[7,null,{"$f":"対策リスト!BU8&\"\"","v":""},{"$f":"対策リスト!BX8&\"\"","v":""},{"$f":"IF(C76=\"\",\"\",IF(対策リスト!CD8=\"\",\"-------\",対策リスト!CD8))","v":""},{"$f":"IF(C76=\"\",\"\",IF(対策リスト!CC8=\"\",\"-------\",対策リスト!CC8))","v":""}]
[8,null,{"$f":"対策リスト!BU9&\"\"","v":""},{"$f":"対策リスト!BX9&\"\"","v":""},{"$f":"IF(C77=\"\",\"\",IF(対策リスト!CD9=\"\",\"-------\",対策リスト!CD9))","v":""},{"$f":"IF(C77=\"\",\"\",IF(対策リスト!CC9=\"\",\"-------\",対策リスト!CC9))","v":""}]
[9,null,{"$f":"対策リスト!BU10&\"\"","v":""},{"$f":"対策リスト!BX10&\"\"","v":""},{"$f":"IF(C78=\"\",\"\",IF(対策リスト!CD10=\"\",\"-------\",対策リスト!CD10))","v":""},{"$f":"IF(C78=\"\",\"\",IF(対策リスト!CC10=\"\",\"-------\",対策リスト!CC10))","v":""}]
[10,null,{"$f":"対策リスト!BU11&\"\"","v":""},{"$f":"対策リスト!BX11&\"\"","v":""},{"$f":"IF(C79=\"\",\"\",IF(対策リスト!CD11=\"\",\"-------\",対策リスト!CD11))","v":""},{"$f":"IF(C79=\"\",\"\",IF(対策リスト!CC11=\"\",\"-------\",対策リスト!CC11))","v":""}]
[]
[]
[]
[]
[]
[]
[]
[]
[]
[]
[null,null,"第２年度追加（選択対策）"]
[1]
[2]
[3]
[4]
[5]
[6]
[7]
[8]
[9]
[10]
[11]
[12]
[13]
[14]
[15]
[16]
[17]
[18]
[19]
[20]
[]
[]
[]
[]
[]
[]
[]
[]
[null,null,"第２年度追加（その他の対策）"]
[null,null,null,"具体的な取組内容"]
[1]
[2]
[3]
[4]
[5]
[6]
[7]
[8]
[9]
[10]

{"sheet":"報告書② 第3年度(取組）","index":12,"n_rows":130,"n_cols":21,"rows_kept":130,"cut":false,"hidden":true,"merged":[[66,16,66,17],[67,0,68,0],[67,1,68,2],[67,3,68,3],[67,4,67,7],[38,0,38,2],[38,3,38,5],[39,0,39,2],[39,3,39,5],[42,0,43,0],[42,1,43,1],[42,2,43,2],[42,3,43,3],[42,4,42,7],[37,0,37,2],[37,3,37,5],[3,0,4,0],[3,1,4,1],[3,2,4,2],[3,3,4,3],[3,4,3,7]]}
[]
[null,null,null,null,null,null,null,null,null,{"$f":"はじめに!F29","v":0}]
["２の１　重点的に実施する取組の実施状況（基本対策）"]
["番号","分類","項目","対策内容","実施状況"]
[null,null,null,null,"基準年度","第１年度","第２年度","第３年度",null,null,"第３年度状況","項目数","評価指標",null,"実施状況","項目数","実施済","未実施","非該当"]
[1,"一般管理事項","エネルギー管理推進体制の整備","エネルギー管理推進体制が整備されている。エネルギー管理推進体制の中で、エネルギー管理が推進されている。",{"$f":"IF('計画書② (取組）'!E5=\"\",\"\",'計画書② (取組）'!E5)","v":""},{"$f":"IF(C6=\"\",\"\",IFERROR(IF(VLOOKUP(C6,'報告書② 第2年度(取組）'!$C$6:$G35,4,0)=\"\",\"未入力\",VLOOKUP(C6,'報告書② 第2年度(取組）'!$C$6:$G$35,4,0)),\"------\"))","v":"未入力"},{"$f":"IF(C6=\"\",\"\",IFERROR(IF(VLOOKUP(C6,'報告書② 第2年度(取組）'!$C$6:$G35,5,0)=\"\",\"未入力\",VLOOKUP(C6,'報告書② 第2年度(取組）'!$C$6:$G$35,5,0)),\"------\"))","v":"未入力"},null,null,null,"実施済",{"$f":"COUNTIFS($H$6:$H$35,$K6,$E$6:$E$35,\"<>非該当\")","v":0},5,null,"第1年度",{"$f":"IF($J$2>0,$L$9,\"\")","v":""},{"$f":"IF($J$2>0,COUNTIFS($F$6:$F$18,Q$5),\"\")","v":""},{"$f":"IF($J$2>0,COUNTIFS($F$6:$F$18,R$5),\"\")","v":""},{"$f":"IF($J$2>0,COUNTIFS($F$6:$F$18,S$5),\"\")","v":""},{"$f":"IFERROR(IF(P6=\"\",\"\",Q6/(P6-S6)),0)","v":""},{"$f":"IF(P6=\"\",\"\",ROUNDUP($T6*$M$9,0))","v":""}]
[2,"一般管理事項","エネルギー使用量の把握","主要なエネルギー使用先のエネルギー使用量を、エネルギー種類別に計測している。計測結果が集計され、記録されている。",{"$f":"IF('計画書② (取組）'!E6=\"\",\"\",'計画書② (取組）'!E6)","v":""},{"$f":"IF(C7=\"\",\"\",IFERROR(IF(VLOOKUP(C7,'報告書② 第2年度(取組）'!$C$6:$G36,4,0)=\"\",\"未入力\",VLOOKUP(C7,'報告書② 第2年度(取組）'!$C$6:$G$35,4,0)),\"------\"))","v":"未入力"},{"$f":"IF(C7=\"\",\"\",IFERROR(IF(VLOOKUP(C7,'報告書② 第2年度(取組）'!$C$6:$G36,5,0)=\"\",\"未入力\",VLOOKUP(C7,'報告書② 第2年度(取組）'!$C$6:$G$35,5,0)),\"------\"))","v":"未入力"},null,null,null,"未実施",{"$f":"COUNTIFS($H$6:$H$35,$K7,$E$6:$E$35,\"<>非該当\")","v":0},0,null,"第2年度",{"$f":"IF($J$2>1,$L$9,\"\")","v":""},{"$f":"IF($J$2>0,COUNTIFS($G$6:$G$18,Q$5),\"\")","v":""},{"$f":"IF($J$2>0,COUNTIFS($G$6:$G$18,R$5),\"\")","v":""},{"$f":"IF($J$2>0,COUNTIFS($G$6:$G$18,S$5),\"\")","v":""},{"$f":"IFERROR(IF(P7=\"\",\"\",Q7/(P7-S7)),0)","v":""},{"$f":"IF(P7=\"\",\"\",ROUNDUP($T7*$M$9,0))","v":""}]
[3,"一般管理事項","省エネルギー教育の実施","省エネルギー、地球温暖化防止に関する研修、教育を定期的に実施し、実施記録を残している。",{"$f":"IF('計画書② (取組）'!E7=\"\",\"\",'計画書② (取組）'!E7)","v":""},{"$f":"IF(C8=\"\",\"\",IFERROR(IF(VLOOKUP(C8,'報告書② 第2年度(取組）'!$C$6:$G37,4,0)=\"\",\"未入力\",VLOOKUP(C8,'報告書② 第2年度(取組）'!$C$6:$G$35,4,0)),\"------\"))","v":"未入力"},{"$f":"IF(C8=\"\",\"\",IFERROR(IF(VLOOKUP(C8,'報告書② 第2年度(取組）'!$C$6:$G37,5,0)=\"\",\"未入力\",VLOOKUP(C8,'報告書② 第2年度(取組）'!$C$6:$G$35,5,0)),\"------\"))","v":"未入力"},null,null,null,"非該当",{"$f":"COUNTIF($H$6:$H$35,$K8)+COUNTIF($E$6:$E$35,$K8)","v":0},"-",null,"第3年度",{"$f":"IF($J$2>2,$L$9,\"\")","v":""},{"$f":"IF($J$2>0,COUNTIFS($H$6:$H$18,Q$5),\"\")","v":""},{"$f":"IF($J$2>0,COUNTIFS($H$6:$H$18,R$5),\"\")","v":""},{"$f":"IF($J$2>0,COUNTIFS($H$6:$H$18,S$5),\"\")","v":""},"",{"$f":"IF(P8=\"\",\"\",ROUNDUP($T8*$M$9,0))","v":""}]
[4,"一般管理事項","空調設定温度の管理","空調設定温度がルール化されている。空調を使用している場所の温度が記録されている。",{"$f":"IF('計画書② (取組）'!E8=\"\",\"\",'計画書② (取組）'!E8)","v":""},{"$f":"IF(C9=\"\",\"\",IFERROR(IF(VLOOKUP(C9,'報告書② 第2年度(取組）'!$C$6:$G38,4,0)=\"\",\"未入力\",VLOOKUP(C9,'報告書② 第2年度(取組）'!$C$6:$G$35,4,0)),\"------\"))","v":"未入力"},{"$f":"IF(C9=\"\",\"\",IFERROR(IF(VLOOKUP(C9,'報告書② 第2年度(取組）'!$C$6:$G38,5,0)=\"\",\"未入力\",VLOOKUP(C9,'報告書② 第2年度(取組）'!$C$6:$G$35,5,0)),\"------\"))","v":"未入力"},null,null,null,"合計",{"$f":"MAX(A6:A18)","v":13},50,null,"平均",{"$f":"IFERROR(ROUNDUP(AVERAGE(P6:P8),0),\"\")","v":""},{"$f":"IFERROR(ROUNDUP(AVERAGE(Q6:Q8),0),\"\")","v":""},{"$f":"IFERROR(ROUNDUP(AVERAGE(R6:R8),0),\"\")","v":""},{"$f":"IFERROR(ROUNDUP(AVERAGE(S6:S8),0),\"\")","v":""},{"$f":"IFERROR(AVERAGE(T6:T8),\"\")","v":""},{"$f":"IFERROR(ROUNDUP(AVERAGE(U6:U8),0),\"\")","v":""}]
[5,"一般管理事項","換気設備の適正管理","室内の二酸化炭素濃度を定期的に測定し、許容値を超えない範囲で窓開け換気の回数を減らしている。\n全熱交換型換気扇による機械換気が適切に実施されている。",{"$f":"IF('計画書② (取組）'!E9=\"\",\"\",'計画書② (取組）'!E9)","v":""},{"$f":"IF(C10=\"\",\"\",IFERROR(IF(VLOOKUP(C10,'報告書② 第2年度(取組）'!$C$6:$G39,4,0)=\"\",\"未入力\",VLOOKUP(C10,'報告書② 第2年度(取組）'!$C$6:$G$35,4,0)),\"------\"))","v":"未入力"},{"$f":"IF(C10=\"\",\"\",IFERROR(IF(VLOOKUP(C10,'報告書② 第2年度(取組）'!$C$6:$G39,5,0)=\"\",\"未入力\",VLOOKUP(C10,'報告書② 第2年度(取組）'!$C$6:$G$35,5,0)),\"------\"))","v":"未入力"},null,null,null,"最終年度",{"$f":"L6/(L9-L8)","v":0},{"$f":"ROUNDUP($L$10*$M$9,0)","v":0}]
[6,"ボイラー、工業炉、熱交換器等","空調機器の保全管理","空調機器、換気設備のフィルターを定期的に清掃・交換している。空調機器、換気設備のフィルターの清掃・交換記録がある。",{"$f":"IF('計画書② (取組）'!E10=\"\",\"\",'計画書② (取組）'!E10)","v":""},{"$f":"IF(C11=\"\",\"\",IFERROR(IF(VLOOKUP(C11,'報告書② 第2年度(取組）'!$C$6:$G40,4,0)=\"\",\"未入力\",VLOOKUP(C11,'報告書② 第2年度(取組）'!$C$6:$G$35,4,0)),\"------\"))","v":"未入力"},{"$f":"IF(C11=\"\",\"\",IFERROR(IF(VLOOKUP(C11,'報告書② 第2年度(取組）'!$C$6:$G40,5,0)=\"\",\"未入力\",VLOOKUP(C11,'報告書② 第2年度(取組）'!$C$6:$G$35,5,0)),\"------\"))","v":"未入力"}]
[7,"ボイラー、工業炉、熱交換器等","照明器具の点灯時間管理","照明器具の点灯時間がルール化されている。不要な照明の使用や消し忘れをチェックする仕組みがある。センサー等による制御が導入されている。",{"$f":"IF('計画書② (取組）'!E11=\"\",\"\",'計画書② (取組）'!E11)","v":""},{"$f":"IF(C12=\"\",\"\",IFERROR(IF(VLOOKUP(C12,'報告書② 第2年度(取組）'!$C$6:$G41,4,0)=\"\",\"未入力\",VLOOKUP(C12,'報告書② 第2年度(取組）'!$C$6:$G$35,4,0)),\"------\"))","v":"未入力"},{"$f":"IF(C12=\"\",\"\",IFERROR(IF(VLOOKUP(C12,'報告書② 第2年度(取組）'!$C$6:$G41,5,0)=\"\",\"未入力\",VLOOKUP(C12,'報告書② 第2年度(取組）'!$C$6:$G$35,5,0)),\"------\"))","v":"未入力"}]
[8,"ボイラー、工業炉、熱交換器等","ＬＥＤ照明器具の導入","照明の交換時期にあわせ、ＬＥＤ照明に交換している。事業所内の照明の80%（消費電力基準）以上がＬＥＤ照明になっている。",{"$f":"IF('計画書② (取組）'!E12=\"\",\"\",'計画書② (取組）'!E12)","v":""},{"$f":"IF(C13=\"\",\"\",IFERROR(IF(VLOOKUP(C13,'報告書② 第2年度(取組）'!$C$6:$G42,4,0)=\"\",\"未入力\",VLOOKUP(C13,'報告書② 第2年度(取組）'!$C$6:$G$35,4,0)),\"------\"))","v":"未入力"},{"$f":"IF(C13=\"\",\"\",IFERROR(IF(VLOOKUP(C13,'報告書② 第2年度(取組）'!$C$6:$G42,5,0)=\"\",\"未入力\",VLOOKUP(C13,'報告書② 第2年度(取組）'!$C$6:$G$35,5,0)),\"------\"))","v":"未入力"}]
[9,"ボイラー、工業炉、熱交換器等","給湯器の運転方法管理","給湯器の運転時間、季節毎の設定温度がルール化されている。給湯器がルールに従って運転されている。",{"$f":"IF('計画書② (取組）'!E13=\"\",\"\",'計画書② (取組）'!E13)","v":""},{"$f":"IF(C14=\"\",\"\",IFERROR(IF(VLOOKUP(C14,'報告書② 第2年度(取組）'!$C$6:$G43,4,0)=\"\",\"未入力\",VLOOKUP(C14,'報告書② 第2年度(取組）'!$C$6:$G$35,4,0)),\"------\"))","v":"未入力"},{"$f":"IF(C14=\"\",\"\",IFERROR(IF(VLOOKUP(C14,'報告書② 第2年度(取組）'!$C$6:$G43,5,0)=\"\",\"未入力\",VLOOKUP(C14,'報告書② 第2年度(取組）'!$C$6:$G$35,5,0)),\"------\"))","v":"未入力"}]
[10,"ボイラー、工業炉、熱交換器等","事務所機器の待機電力管理","PC、OA機器等の事務所機器が省エネモードに設定されており、長時間不使用の場合には電源を切ることがルール化されている。PC、OA機器等の事務所機器がルールに従って運転されている。",{"$f":"IF('計画書② (取組）'!E14=\"\",\"\",'計画書② (取組）'!E14)","v":""},{"$f":"IF(C15=\"\",\"\",IFERROR(IF(VLOOKUP(C15,'報告書② 第2年度(取組）'!$C$6:$G44,4,0)=\"\",\"未入力\",VLOOKUP(C15,'報告書② 第2年度(取組）'!$C$6:$G$35,4,0)),\"------\"))","v":"未入力"},{"$f":"IF(C15=\"\",\"\",IFERROR(IF(VLOOKUP(C15,'報告書② 第2年度(取組）'!$C$6:$G44,5,0)=\"\",\"未入力\",VLOOKUP(C15,'報告書② 第2年度(取組）'!$C$6:$G$35,5,0)),\"------\"))","v":"未入力"}]
[11,"ボイラー、工業炉、熱交換器等","日射エネルギーに起因する空調負荷の抑制","庇、ブラインド、カーテン等を季節や日射量に合わせ調整することがルール化されている。庇、ブラインド、カーテン等がルールに従って調整されている。",{"$f":"IF('計画書② (取組）'!E15=\"\",\"\",'計画書② (取組）'!E15)","v":""},{"$f":"IF(C16=\"\",\"\",IFERROR(IF(VLOOKUP(C16,'報告書② 第2年度(取組）'!$C$6:$G45,4,0)=\"\",\"未入力\",VLOOKUP(C16,'報告書② 第2年度(取組）'!$C$6:$G$35,4,0)),\"------\"))","v":"未入力"},{"$f":"IF(C16=\"\",\"\",IFERROR(IF(VLOOKUP(C16,'報告書② 第2年度(取組）'!$C$6:$G45,5,0)=\"\",\"未入力\",VLOOKUP(C16,'報告書② 第2年度(取組）'!$C$6:$G$35,5,0)),\"------\"))","v":"未入力"}]
[12,"空気調和設備、換気設備","車両の点検整備","定期的に車両の点検整備を行い、その記録がある。必要により整備管理者が選任されている。",{"$f":"IF('計画書② (取組）'!E16=\"\",\"\",'計画書② (取組）'!E16)","v":""},{"$f":"IF(C17=\"\",\"\",IFERROR(IF(VLOOKUP(C17,'報告書② 第2年度(取組）'!$C$6:$G46,4,0)=\"\",\"未入力\",VLOOKUP(C17,'報告書② 第2年度(取組）'!$C$6:$G$35,4,0)),\"------\"))","v":"未入力"},{"$f":"IF(C17=\"\",\"\",IFERROR(IF(VLOOKUP(C17,'報告書② 第2年度(取組）'!$C$6:$G46,5,0)=\"\",\"未入力\",VLOOKUP(C17,'報告書② 第2年度(取組）'!$C$6:$G$35,5,0)),\"------\"))","v":"未入力"}]
[13,"空気調和設備、換気設備","エコドライブ実践","車両を運転する可能性のある全ての担当者を対象としてエコドライブ教育を実施し、その記録がある。「エコドライブ実践状況チェックシート」を運用している。",{"$f":"IF('計画書② (取組）'!E17=\"\",\"\",'計画書② (取組）'!E17)","v":""},{"$f":"IF(C18=\"\",\"\",IFERROR(IF(VLOOKUP(C18,'報告書② 第2年度(取組）'!$C$6:$G47,4,0)=\"\",\"未入力\",VLOOKUP(C18,'報告書② 第2年度(取組）'!$C$6:$G$35,4,0)),\"------\"))","v":"未入力"},{"$f":"IF(C18=\"\",\"\",IFERROR(IF(VLOOKUP(C18,'報告書② 第2年度(取組）'!$C$6:$G47,5,0)=\"\",\"未入力\",VLOOKUP(C18,'報告書② 第2年度(取組）'!$C$6:$G$35,5,0)),\"------\"))","v":"未入力"}]
[14,"空気調和設備、換気設備",null,null,{"$f":"IF('計画書② (取組）'!E18=\"\",\"\",'計画書② (取組）'!E18)","v":""},{"$f":"IF(C19=\"\",\"\",IFERROR(IF(VLOOKUP(C19,'報告書② 第2年度(取組）'!$C$6:$G48,4,0)=\"\",\"未入力\",VLOOKUP(C19,'報告書② 第2年度(取組）'!$C$6:$G$35,4,0)),\"------\"))","v":""},{"$f":"IF(C19=\"\",\"\",IFERROR(IF(VLOOKUP(C19,'報告書② 第2年度(取組）'!$C$6:$G48,5,0)=\"\",\"未入力\",VLOOKUP(C19,'報告書② 第2年度(取組）'!$C$6:$G$35,5,0)),\"------\"))","v":""}]
[15,"空気調和設備、換気設備",null,null,{"$f":"IF('計画書② (取組）'!E19=\"\",\"\",'計画書② (取組）'!E19)","v":""},{"$f":"IF(C20=\"\",\"\",IFERROR(IF(VLOOKUP(C20,'報告書② 第2年度(取組）'!$C$6:$G49,4,0)=\"\",\"未入力\",VLOOKUP(C20,'報告書② 第2年度(取組）'!$C$6:$G$35,4,0)),\"------\"))","v":""},{"$f":"IF(C20=\"\",\"\",IFERROR(IF(VLOOKUP(C20,'報告書② 第2年度(取組）'!$C$6:$G49,5,0)=\"\",\"未入力\",VLOOKUP(C20,'報告書② 第2年度(取組）'!$C$6:$G$35,5,0)),\"------\"))","v":""}]
[16,"熱源設備、熱搬送設備",null,null,{"$f":"IF('計画書② (取組）'!E20=\"\",\"\",'計画書② (取組）'!E20)","v":""},{"$f":"IF(C21=\"\",\"\",IFERROR(IF(VLOOKUP(C21,'報告書② 第2年度(取組）'!$C$6:$G50,4,0)=\"\",\"未入力\",VLOOKUP(C21,'報告書② 第2年度(取組）'!$C$6:$G$35,4,0)),\"------\"))","v":""},{"$f":"IF(C21=\"\",\"\",IFERROR(IF(VLOOKUP(C21,'報告書② 第2年度(取組）'!$C$6:$G50,5,0)=\"\",\"未入力\",VLOOKUP(C21,'報告書② 第2年度(取組）'!$C$6:$G$35,5,0)),\"------\"))","v":""}]
[17,"熱源設備、熱搬送設備",null,null,{"$f":"IF('計画書② (取組）'!E21=\"\",\"\",'計画書② (取組）'!E21)","v":""},{"$f":"IF(C22=\"\",\"\",IFERROR(IF(VLOOKUP(C22,'報告書② 第2年度(取組）'!$C$6:$G51,4,0)=\"\",\"未入力\",VLOOKUP(C22,'報告書② 第2年度(取組）'!$C$6:$G$35,4,0)),\"------\"))","v":""},{"$f":"IF(C22=\"\",\"\",IFERROR(IF(VLOOKUP(C22,'報告書② 第2年度(取組）'!$C$6:$G51,5,0)=\"\",\"未入力\",VLOOKUP(C22,'報告書② 第2年度(取組）'!$C$6:$G$35,5,0)),\"------\"))","v":""}]
[18,"熱源設備、熱搬送設備",null,null,{"$f":"IF('計画書② (取組）'!E22=\"\",\"\",'計画書② (取組）'!E22)","v":""},{"$f":"IF(C23=\"\",\"\",IFERROR(IF(VLOOKUP(C23,'報告書② 第2年度(取組）'!$C$6:$G52,4,0)=\"\",\"未入力\",VLOOKUP(C23,'報告書② 第2年度(取組）'!$C$6:$G$35,4,0)),\"------\"))","v":""},{"$f":"IF(C23=\"\",\"\",IFERROR(IF(VLOOKUP(C23,'報告書② 第2年度(取組）'!$C$6:$G52,5,0)=\"\",\"未入力\",VLOOKUP(C23,'報告書② 第2年度(取組）'!$C$6:$G$35,5,0)),\"------\"))","v":""}]
[19,"ポンプ",null,null,{"$f":"IF('計画書② (取組）'!E23=\"\",\"\",'計画書② (取組）'!E23)","v":""},{"$f":"IF(C24=\"\",\"\",IFERROR(IF(VLOOKUP(C24,'報告書② 第2年度(取組）'!$C$6:$G53,4,0)=\"\",\"未入力\",VLOOKUP(C24,'報告書② 第2年度(取組）'!$C$6:$G$35,4,0)),\"------\"))","v":""},{"$f":"IF(C24=\"\",\"\",IFERROR(IF(VLOOKUP(C24,'報告書② 第2年度(取組）'!$C$6:$G53,5,0)=\"\",\"未入力\",VLOOKUP(C24,'報告書② 第2年度(取組）'!$C$6:$G$35,5,0)),\"------\"))","v":""}]
[20,"コンプレッサ",null,null,{"$f":"IF('計画書② (取組）'!E24=\"\",\"\",'計画書② (取組）'!E24)","v":""},{"$f":"IF(C25=\"\",\"\",IFERROR(IF(VLOOKUP(C25,'報告書② 第2年度(取組）'!$C$6:$G54,4,0)=\"\",\"未入力\",VLOOKUP(C25,'報告書② 第2年度(取組）'!$C$6:$G$35,4,0)),\"------\"))","v":""},{"$f":"IF(C25=\"\",\"\",IFERROR(IF(VLOOKUP(C25,'報告書② 第2年度(取組）'!$C$6:$G54,5,0)=\"\",\"未入力\",VLOOKUP(C25,'報告書② 第2年度(取組）'!$C$6:$G$35,5,0)),\"------\"))","v":""}]
[21,"コンプレッサ",null,null,{"$f":"IF('計画書② (取組）'!E25=\"\",\"\",'計画書② (取組）'!E25)","v":""},{"$f":"IF(C26=\"\",\"\",IFERROR(IF(VLOOKUP(C26,'報告書② 第2年度(取組）'!$C$6:$G55,4,0)=\"\",\"未入力\",VLOOKUP(C26,'報告書② 第2年度(取組）'!$C$6:$G$35,4,0)),\"------\"))","v":""},{"$f":"IF(C26=\"\",\"\",IFERROR(IF(VLOOKUP(C26,'報告書② 第2年度(取組）'!$C$6:$G55,5,0)=\"\",\"未入力\",VLOOKUP(C26,'報告書② 第2年度(取組）'!$C$6:$G$35,5,0)),\"------\"))","v":""}]
[22,"コンプレッサ",null,null,{"$f":"IF('計画書② (取組）'!E26=\"\",\"\",'計画書② (取組）'!E26)","v":""},{"$f":"IF(C27=\"\",\"\",IFERROR(IF(VLOOKUP(C27,'報告書② 第2年度(取組）'!$C$6:$G56,4,0)=\"\",\"未入力\",VLOOKUP(C27,'報告書② 第2年度(取組）'!$C$6:$G$35,4,0)),\"------\"))","v":""},{"$f":"IF(C27=\"\",\"\",IFERROR(IF(VLOOKUP(C27,'報告書② 第2年度(取組）'!$C$6:$G56,5,0)=\"\",\"未入力\",VLOOKUP(C27,'報告書② 第2年度(取組）'!$C$6:$G$35,5,0)),\"------\"))","v":""}]
[23,"照明器具",null,null,{"$f":"IF('計画書② (取組）'!E27=\"\",\"\",'計画書② (取組）'!E27)","v":""},{"$f":"IF(C28=\"\",\"\",IFERROR(IF(VLOOKUP(C28,'報告書② 第2年度(取組）'!$C$6:$G57,4,0)=\"\",\"未入力\",VLOOKUP(C28,'報告書② 第2年度(取組）'!$C$6:$G$35,4,0)),\"------\"))","v":""},{"$f":"IF(C28=\"\",\"\",IFERROR(IF(VLOOKUP(C28,'報告書② 第2年度(取組）'!$C$6:$G57,5,0)=\"\",\"未入力\",VLOOKUP(C28,'報告書② 第2年度(取組）'!$C$6:$G$35,5,0)),\"------\"))","v":""}]
[24,"照明器具",null,null,{"$f":"IF('計画書② (取組）'!E28=\"\",\"\",'計画書② (取組）'!E28)","v":""},{"$f":"IF(C29=\"\",\"\",IFERROR(IF(VLOOKUP(C29,'報告書② 第2年度(取組）'!$C$6:$G58,4,0)=\"\",\"未入力\",VLOOKUP(C29,'報告書② 第2年度(取組）'!$C$6:$G$35,4,0)),\"------\"))","v":""},{"$f":"IF(C29=\"\",\"\",IFERROR(IF(VLOOKUP(C29,'報告書② 第2年度(取組）'!$C$6:$G58,5,0)=\"\",\"未入力\",VLOOKUP(C29,'報告書② 第2年度(取組）'!$C$6:$G$35,5,0)),\"------\"))","v":""}]
[25,"コージェネレーション設備",null,null,{"$f":"IF('計画書② (取組）'!E29=\"\",\"\",'計画書② (取組）'!E29)","v":""},{"$f":"IF(C30=\"\",\"\",IFERROR(IF(VLOOKUP(C30,'報告書② 第2年度(取組）'!$C$6:$G59,4,0)=\"\",\"未入力\",VLOOKUP(C30,'報告書② 第2年度(取組）'!$C$6:$G$35,4,0)),\"------\"))","v":""},{"$f":"IF(C30=\"\",\"\",IFERROR(IF(VLOOKUP(C30,'報告書② 第2年度(取組）'!$C$6:$G59,5,0)=\"\",\"未入力\",VLOOKUP(C30,'報告書② 第2年度(取組）'!$C$6:$G$35,5,0)),\"------\"))","v":""}]
[26,"給湯",null,null,{"$f":"IF('計画書② (取組）'!E30=\"\",\"\",'計画書② (取組）'!E30)","v":""},{"$f":"IF(C31=\"\",\"\",IFERROR(IF(VLOOKUP(C31,'報告書② 第2年度(取組）'!$C$6:$G60,4,0)=\"\",\"未入力\",VLOOKUP(C31,'報告書② 第2年度(取組）'!$C$6:$G$35,4,0)),\"------\"))","v":""},{"$f":"IF(C31=\"\",\"\",IFERROR(IF(VLOOKUP(C31,'報告書② 第2年度(取組）'!$C$6:$G60,5,0)=\"\",\"未入力\",VLOOKUP(C31,'報告書② 第2年度(取組）'!$C$6:$G$35,5,0)),\"------\"))","v":""}]
[27,"事務用機器等",null,null,{"$f":"IF('計画書② (取組）'!E31=\"\",\"\",'計画書② (取組）'!E31)","v":""},{"$f":"IF(C32=\"\",\"\",IFERROR(IF(VLOOKUP(C32,'報告書② 第2年度(取組）'!$C$6:$G61,4,0)=\"\",\"未入力\",VLOOKUP(C32,'報告書② 第2年度(取組）'!$C$6:$G$35,4,0)),\"------\"))","v":""},{"$f":"IF(C32=\"\",\"\",IFERROR(IF(VLOOKUP(C32,'報告書② 第2年度(取組）'!$C$6:$G61,5,0)=\"\",\"未入力\",VLOOKUP(C32,'報告書② 第2年度(取組）'!$C$6:$G$35,5,0)),\"------\"))","v":""}]
[28,"建物",null,null,{"$f":"IF('計画書② (取組）'!E32=\"\",\"\",'計画書② (取組）'!E32)","v":""},{"$f":"IF(C33=\"\",\"\",IFERROR(IF(VLOOKUP(C33,'報告書② 第2年度(取組）'!$C$6:$G62,4,0)=\"\",\"未入力\",VLOOKUP(C33,'報告書② 第2年度(取組）'!$C$6:$G$35,4,0)),\"------\"))","v":""},{"$f":"IF(C33=\"\",\"\",IFERROR(IF(VLOOKUP(C33,'報告書② 第2年度(取組）'!$C$6:$G62,5,0)=\"\",\"未入力\",VLOOKUP(C33,'報告書② 第2年度(取組）'!$C$6:$G$35,5,0)),\"------\"))","v":""}]
[29,"車両",null,null,{"$f":"IF('計画書② (取組）'!E33=\"\",\"\",'計画書② (取組）'!E33)","v":""},{"$f":"IF(C34=\"\",\"\",IFERROR(IF(VLOOKUP(C34,'報告書② 第2年度(取組）'!$C$6:$G63,4,0)=\"\",\"未入力\",VLOOKUP(C34,'報告書② 第2年度(取組）'!$C$6:$G$35,4,0)),\"------\"))","v":""},{"$f":"IF(C34=\"\",\"\",IFERROR(IF(VLOOKUP(C34,'報告書② 第2年度(取組）'!$C$6:$G63,5,0)=\"\",\"未入力\",VLOOKUP(C34,'報告書② 第2年度(取組）'!$C$6:$G$35,5,0)),\"------\"))","v":""}]
[30,"車両",null,null,{"$f":"IF('計画書② (取組）'!E34=\"\",\"\",'計画書② (取組）'!E34)","v":""},{"$f":"IF(C35=\"\",\"\",IFERROR(IF(VLOOKUP(C35,'報告書② 第2年度(取組）'!$C$6:$G64,4,0)=\"\",\"未入力\",VLOOKUP(C35,'報告書② 第2年度(取組）'!$C$6:$G$35,4,0)),\"------\"))","v":""},{"$f":"IF(C35=\"\",\"\",IFERROR(IF(VLOOKUP(C35,'報告書② 第2年度(取組）'!$C$6:$G64,5,0)=\"\",\"未入力\",VLOOKUP(C35,'報告書② 第2年度(取組）'!$C$6:$G$35,5,0)),\"------\"))","v":""}]
[]
["基本対策の実施状況に関する説明・特記事項など"]
["第１年度",null,null,{"$f":"'報告書② 第1年度(取組）'!D38&\"\"","v":""}]
["第２年度",null,null,{"$f":"'報告書② 第2年度(取組）'!D39&\"\"","v":""}]
["第３年度"]
[]
["２の２　重点的に実施する取組の実施状況（選択対策）"]
["番号","分類","項目","対策内容","実施状況",null,null,null,null,null,"第３年度"]
[null,null,null,null,"基準年度","第１年度","第２年度","第３年度",null,null,"状況","項目数","評価指標",null,"実施状況","項目数","実施済","一部実施済","未実施","評価点"]
[1,null,{"$f":"対策リスト!AT2&\"\"","v":""},{"$f":"IFERROR(VLOOKUP(C45,選択対策,2,0),\"\")","v":""},{"$f":"IF(C45=\"\",\"\",IFERROR(IF(VLOOKUP(C45,'報告書② 第2年度(取組）'!$C$45:$G$64,3,0)=\"\",\"未入力\",VLOOKUP(C45,'報告書② 第2年度(取組）'!$C$45:$G$64,3,0)),\"------\"))","v":""},{"$f":"IF(C45=\"\",\"\",IFERROR(IF(VLOOKUP(C45,'報告書② 第2年度(取組）'!$C$45:$G$64,4,0)=\"\",\"未入力\",VLOOKUP(C45,'報告書② 第2年度(取組）'!$C$45:$G$64,4,0)),\"------\"))","v":""},{"$f":"IF(C45=\"\",\"\",IFERROR(IF(VLOOKUP(C45,'報告書② 第2年度(取組）'!$C$45:$G$64,5,0)=\"\",\"未入力\",VLOOKUP(C45,'報告書② 第2年度(取組）'!$C$45:$G$64,5,0)),\"------\"))","v":""},null,null,null,"実施済",{"$f":"COUNTIF($H$45:$H$64,$K45)","v":0},5,null,"第1年度",{"$f":"IF($J$2>0,SUM(Q45:S45),\"\")","v":""},{"$f":"IF($J$2>0,COUNTIF($F$45:$F$64,Q$44),\"\")","v":""},{"$f":"IF($J$2>0,COUNTIF($F$45:$F$64,R$44),\"\")","v":""},{"$f":"IF($J$2>0,COUNTIF($F$45:$F$64,S$44),\"\")","v":""},{"$f":"IF($J$2>0,Q45*$M$45+R45*$M$46,\"\")","v":""}]
[2,null,{"$f":"対策リスト!AT3&\"\"","v":""},"",{"$f":"IF(C46=\"\",\"\",IFERROR(IF(VLOOKUP(C46,'報告書② 第2年度(取組）'!$C$45:$G$64,3,0)=\"\",\"未入力\",VLOOKUP(C46,'報告書② 第2年度(取組）'!$C$45:$G$64,3,0)),\"------\"))","v":""},{"$f":"IF(C46=\"\",\"\",IFERROR(IF(VLOOKUP(C46,'報告書② 第2年度(取組）'!$C$45:$G$64,4,0)=\"\",\"未入力\",VLOOKUP(C46,'報告書② 第2年度(取組）'!$C$45:$G$64,4,0)),\"------\"))","v":""},{"$f":"IF(C46=\"\",\"\",IFERROR(IF(VLOOKUP(C46,'報告書② 第2年度(取組）'!$C$45:$G$64,5,0)=\"\",\"未入力\",VLOOKUP(C46,'報告書② 第2年度(取組）'!$C$45:$G$64,5,0)),\"------\"))","v":""},null,null,null,"一部実施済",{"$f":"COUNTIF($H$45:$H$64,$K46)","v":0},3,null,"第2年度",{"$f":"IF($J$2>1,SUM(Q46:S46),\"\")","v":""},{"$f":"IF($J$2>1,COUNTIF($G$45:$G$64,Q$44),\"\")","v":""},{"$f":"IF($J$2>1,COUNTIF($G$45:$G$64,R$44),\"\")","v":""},{"$f":"IF($J$2>1,COUNTIF($G$45:$G$64,S$44),\"\")","v":""},{"$f":"IF($J$2>1,Q46*$M$45+R46*$M$46,\"\")","v":""}]
[3,null,{"$f":"対策リスト!AT4&\"\"","v":""},"",{"$f":"IF(C47=\"\",\"\",IFERROR(IF(VLOOKUP(C47,'報告書② 第2年度(取組）'!$C$45:$G$64,3,0)=\"\",\"未入力\",VLOOKUP(C47,'報告書② 第2年度(取組）'!$C$45:$G$64,3,0)),\"------\"))","v":""},{"$f":"IF(C47=\"\",\"\",IFERROR(IF(VLOOKUP(C47,'報告書② 第2年度(取組）'!$C$45:$G$64,4,0)=\"\",\"未入力\",VLOOKUP(C47,'報告書② 第2年度(取組）'!$C$45:$G$64,4,0)),\"------\"))","v":""},{"$f":"IF(C47=\"\",\"\",IFERROR(IF(VLOOKUP(C47,'報告書② 第2年度(取組）'!$C$45:$G$64,5,0)=\"\",\"未入力\",VLOOKUP(C47,'報告書② 第2年度(取組）'!$C$45:$G$64,5,0)),\"------\"))","v":""},null,null,null,"未実施",{"$f":"COUNTIF($H$45:$H$64,$K47)","v":0},0,null,"第3年度",{"$f":"IF($J$2>2,SUM(Q47:S47),\"\")","v":""},{"$f":"IF($J$2>2,COUNTIF($H$45:$H$64,Q$44),\"\")","v":""},{"$f":"IF($J$2>2,COUNTIF($H$45:$H$64,R$44),\"\")","v":""},{"$f":"IF($J$2>2,COUNTIF($H$45:$H$64,S$44),\"\")","v":""},{"$f":"IF($J$2>2,Q47*$M$45+R47*$M$46,\"\")","v":""}]
[4,null,{"$f":"対策リスト!AT5&\"\"","v":""},"",{"$f":"IF(C48=\"\",\"\",IFERROR(IF(VLOOKUP(C48,'報告書② 第2年度(取組）'!$C$45:$G$64,3,0)=\"\",\"未入力\",VLOOKUP(C48,'報告書② 第2年度(取組）'!$C$45:$G$64,3,0)),\"------\"))","v":""},{"$f":"IF(C48=\"\",\"\",IFERROR(IF(VLOOKUP(C48,'報告書② 第2年度(取組）'!$C$45:$G$64,4,0)=\"\",\"未入力\",VLOOKUP(C48,'報告書② 第2年度(取組）'!$C$45:$G$64,4,0)),\"------\"))","v":""},{"$f":"IF(C48=\"\",\"\",IFERROR(IF(VLOOKUP(C48,'報告書② 第2年度(取組）'!$C$45:$G$64,5,0)=\"\",\"未入力\",VLOOKUP(C48,'報告書② 第2年度(取組）'!$C$45:$G$64,5,0)),\"------\"))","v":""},null,null,null,"合計",{"$f":"SUM(L45:L47)","v":0},50,null,"平均",{"$f":"IFERROR(ROUNDUP(AVERAGE(P45:P47),0),\"\")","v":""},{"$f":"IFERROR(ROUNDUP(AVERAGE(Q45:Q47),0),\"\")","v":""},{"$f":"IFERROR(ROUNDUP(AVERAGE(R45:R47),0),\"\")","v":""},{"$f":"IFERROR(ROUNDUP(AVERAGE(S45:S47),0),\"\")","v":""},{"$f":"IFERROR(ROUNDUP(AVERAGE(T45:T47),0),\"\")","v":""}]
[5,null,{"$f":"対策リスト!AT6&\"\"","v":""},"",{"$f":"IF(C49=\"\",\"\",IFERROR(IF(VLOOKUP(C49,'報告書② 第2年度(取組）'!$C$45:$G$64,3,0)=\"\",\"未入力\",VLOOKUP(C49,'報告書② 第2年度(取組）'!$C$45:$G$64,3,0)),\"------\"))","v":""},{"$f":"IF(C49=\"\",\"\",IFERROR(IF(VLOOKUP(C49,'報告書② 第2年度(取組）'!$C$45:$G$64,4,0)=\"\",\"未入力\",VLOOKUP(C49,'報告書② 第2年度(取組）'!$C$45:$G$64,4,0)),\"------\"))","v":""},{"$f":"IF(C49=\"\",\"\",IFERROR(IF(VLOOKUP(C49,'報告書② 第2年度(取組）'!$C$45:$G$64,5,0)=\"\",\"未入力\",VLOOKUP(C49,'報告書② 第2年度(取組）'!$C$45:$G$64,5,0)),\"------\"))","v":""},null,null,null,"最終年度\n評価点",{"$f":"IF(L45*M45+L46*M46>M48,M48,L45*M45+L46*M46)","v":0}]
[6,null,{"$f":"対策リスト!AT7&\"\"","v":""},"",{"$f":"IF(C50=\"\",\"\",IFERROR(IF(VLOOKUP(C50,'報告書② 第2年度(取組）'!$C$45:$G$64,3,0)=\"\",\"未入力\",VLOOKUP(C50,'報告書② 第2年度(取組）'!$C$45:$G$64,3,0)),\"------\"))","v":""},{"$f":"IF(C50=\"\",\"\",IFERROR(IF(VLOOKUP(C50,'報告書② 第2年度(取組）'!$C$45:$G$64,4,0)=\"\",\"未入力\",VLOOKUP(C50,'報告書② 第2年度(取組）'!$C$45:$G$64,4,0)),\"------\"))","v":""},{"$f":"IF(C50=\"\",\"\",IFERROR(IF(VLOOKUP(C50,'報告書② 第2年度(取組）'!$C$45:$G$64,5,0)=\"\",\"未入力\",VLOOKUP(C50,'報告書② 第2年度(取組）'!$C$45:$G$64,5,0)),\"------\"))","v":""}]
[7,null,{"$f":"対策リスト!AT8&\"\"","v":""},"",{"$f":"IF(C51=\"\",\"\",IFERROR(IF(VLOOKUP(C51,'報告書② 第2年度(取組）'!$C$45:$G$64,3,0)=\"\",\"未入力\",VLOOKUP(C51,'報告書② 第2年度(取組）'!$C$45:$G$64,3,0)),\"------\"))","v":""},{"$f":"IF(C51=\"\",\"\",IFERROR(IF(VLOOKUP(C51,'報告書② 第2年度(取組）'!$C$45:$G$64,4,0)=\"\",\"未入力\",VLOOKUP(C51,'報告書② 第2年度(取組）'!$C$45:$G$64,4,0)),\"------\"))","v":""},{"$f":"IF(C51=\"\",\"\",IFERROR(IF(VLOOKUP(C51,'報告書② 第2年度(取組）'!$C$45:$G$64,5,0)=\"\",\"未入力\",VLOOKUP(C51,'報告書② 第2年度(取組）'!$C$45:$G$64,5,0)),\"------\"))","v":""}]
[8,null,{"$f":"対策リスト!AT9&\"\"","v":""},"",{"$f":"IF(C52=\"\",\"\",IFERROR(IF(VLOOKUP(C52,'報告書② 第2年度(取組）'!$C$45:$G$64,3,0)=\"\",\"未入力\",VLOOKUP(C52,'報告書② 第2年度(取組）'!$C$45:$G$64,3,0)),\"------\"))","v":""},{"$f":"IF(C52=\"\",\"\",IFERROR(IF(VLOOKUP(C52,'報告書② 第2年度(取組）'!$C$45:$G$64,4,0)=\"\",\"未入力\",VLOOKUP(C52,'報告書② 第2年度(取組）'!$C$45:$G$64,4,0)),\"------\"))","v":""},{"$f":"IF(C52=\"\",\"\",IFERROR(IF(VLOOKUP(C52,'報告書② 第2年度(取組）'!$C$45:$G$64,5,0)=\"\",\"未入力\",VLOOKUP(C52,'報告書② 第2年度(取組）'!$C$45:$G$64,5,0)),\"------\"))","v":""}]
[9,null,{"$f":"対策リスト!AT10&\"\"","v":""},"",{"$f":"IF(C53=\"\",\"\",IFERROR(IF(VLOOKUP(C53,'報告書② 第2年度(取組）'!$C$45:$G$64,3,0)=\"\",\"未入力\",VLOOKUP(C53,'報告書② 第2年度(取組）'!$C$45:$G$64,3,0)),\"------\"))","v":""},{"$f":"IF(C53=\"\",\"\",IFERROR(IF(VLOOKUP(C53,'報告書② 第2年度(取組）'!$C$45:$G$64,4,0)=\"\",\"未入力\",VLOOKUP(C53,'報告書② 第2年度(取組）'!$C$45:$G$64,4,0)),\"------\"))","v":""},{"$f":"IF(C53=\"\",\"\",IFERROR(IF(VLOOKUP(C53,'報告書② 第2年度(取組）'!$C$45:$G$64,5,0)=\"\",\"未入力\",VLOOKUP(C53,'報告書② 第2年度(取組）'!$C$45:$G$64,5,0)),\"------\"))","v":""}]
[10,null,{"$f":"対策リスト!AT11&\"\"","v":""},"",{"$f":"IF(C54=\"\",\"\",IFERROR(IF(VLOOKUP(C54,'報告書② 第2年度(取組）'!$C$45:$G$64,3,0)=\"\",\"未入力\",VLOOKUP(C54,'報告書② 第2年度(取組）'!$C$45:$G$64,3,0)),\"------\"))","v":""},{"$f":"IF(C54=\"\",\"\",IFERROR(IF(VLOOKUP(C54,'報告書② 第2年度(取組）'!$C$45:$G$64,4,0)=\"\",\"未入力\",VLOOKUP(C54,'報告書② 第2年度(取組）'!$C$45:$G$64,4,0)),\"------\"))","v":""},{"$f":"IF(C54=\"\",\"\",IFERROR(IF(VLOOKUP(C54,'報告書② 第2年度(取組）'!$C$45:$G$64,5,0)=\"\",\"未入力\",VLOOKUP(C54,'報告書② 第2年度(取組）'!$C$45:$G$64,5,0)),\"------\"))","v":""}]
[11,null,{"$f":"対策リスト!AT12&\"\"","v":""},"",{"$f":"IF(C55=\"\",\"\",IFERROR(IF(VLOOKUP(C55,'報告書② 第2年度(取組）'!$C$45:$G$64,3,0)=\"\",\"未入力\",VLOOKUP(C55,'報告書② 第2年度(取組）'!$C$45:$G$64,3,0)),\"------\"))","v":""},{"$f":"IF(C55=\"\",\"\",IFERROR(IF(VLOOKUP(C55,'報告書② 第2年度(取組）'!$C$45:$G$64,4,0)=\"\",\"未入力\",VLOOKUP(C55,'報告書② 第2年度(取組）'!$C$45:$G$64,4,0)),\"------\"))","v":""},{"$f":"IF(C55=\"\",\"\",IFERROR(IF(VLOOKUP(C55,'報告書② 第2年度(取組）'!$C$45:$G$64,5,0)=\"\",\"未入力\",VLOOKUP(C55,'報告書② 第2年度(取組）'!$C$45:$G$64,5,0)),\"------\"))","v":""}]
[12,null,{"$f":"対策リスト!AT13&\"\"","v":""},"",{"$f":"IF(C56=\"\",\"\",IFERROR(IF(VLOOKUP(C56,'報告書② 第2年度(取組）'!$C$45:$G$64,3,0)=\"\",\"未入力\",VLOOKUP(C56,'報告書② 第2年度(取組）'!$C$45:$G$64,3,0)),\"------\"))","v":""},{"$f":"IF(C56=\"\",\"\",IFERROR(IF(VLOOKUP(C56,'報告書② 第2年度(取組）'!$C$45:$G$64,4,0)=\"\",\"未入力\",VLOOKUP(C56,'報告書② 第2年度(取組）'!$C$45:$G$64,4,0)),\"------\"))","v":""},{"$f":"IF(C56=\"\",\"\",IFERROR(IF(VLOOKUP(C56,'報告書② 第2年度(取組）'!$C$45:$G$64,5,0)=\"\",\"未入力\",VLOOKUP(C56,'報告書② 第2年度(取組）'!$C$45:$G$64,5,0)),\"------\"))","v":""}]
[13,null,{"$f":"対策リスト!AT14&\"\"","v":""},"",{"$f":"IF(C57=\"\",\"\",IFERROR(IF(VLOOKUP(C57,'報告書② 第2年度(取組）'!$C$45:$G$64,3,0)=\"\",\"未入力\",VLOOKUP(C57,'報告書② 第2年度(取組）'!$C$45:$G$64,3,0)),\"------\"))","v":""},{"$f":"IF(C57=\"\",\"\",IFERROR(IF(VLOOKUP(C57,'報告書② 第2年度(取組）'!$C$45:$G$64,4,0)=\"\",\"未入力\",VLOOKUP(C57,'報告書② 第2年度(取組）'!$C$45:$G$64,4,0)),\"------\"))","v":""},{"$f":"IF(C57=\"\",\"\",IFERROR(IF(VLOOKUP(C57,'報告書② 第2年度(取組）'!$C$45:$G$64,5,0)=\"\",\"未入力\",VLOOKUP(C57,'報告書② 第2年度(取組）'!$C$45:$G$64,5,0)),\"------\"))","v":""}]
[14,null,{"$f":"対策リスト!AT15&\"\"","v":""},"",{"$f":"IF(C58=\"\",\"\",IFERROR(IF(VLOOKUP(C58,'報告書② 第2年度(取組）'!$C$45:$G$64,3,0)=\"\",\"未入力\",VLOOKUP(C58,'報告書② 第2年度(取組）'!$C$45:$G$64,3,0)),\"------\"))","v":""},{"$f":"IF(C58=\"\",\"\",IFERROR(IF(VLOOKUP(C58,'報告書② 第2年度(取組）'!$C$45:$G$64,4,0)=\"\",\"未入力\",VLOOKUP(C58,'報告書② 第2年度(取組）'!$C$45:$G$64,4,0)),\"------\"))","v":""},{"$f":"IF(C58=\"\",\"\",IFERROR(IF(VLOOKUP(C58,'報告書② 第2年度(取組）'!$C$45:$G$64,5,0)=\"\",\"未入力\",VLOOKUP(C58,'報告書② 第2年度(取組）'!$C$45:$G$64,5,0)),\"------\"))","v":""}]
[15,null,{"$f":"対策リスト!AT16&\"\"","v":""},"",{"$f":"IF(C59=\"\",\"\",IFERROR(IF(VLOOKUP(C59,'報告書② 第2年度(取組）'!$C$45:$G$64,3,0)=\"\",\"未入力\",VLOOKUP(C59,'報告書② 第2年度(取組）'!$C$45:$G$64,3,0)),\"------\"))","v":""},{"$f":"IF(C59=\"\",\"\",IFERROR(IF(VLOOKUP(C59,'報告書② 第2年度(取組）'!$C$45:$G$64,4,0)=\"\",\"未入力\",VLOOKUP(C59,'報告書② 第2年度(取組）'!$C$45:$G$64,4,0)),\"------\"))","v":""},{"$f":"IF(C59=\"\",\"\",IFERROR(IF(VLOOKUP(C59,'報告書② 第2年度(取組）'!$C$45:$G$64,5,0)=\"\",\"未入力\",VLOOKUP(C59,'報告書② 第2年度(取組）'!$C$45:$G$64,5,0)),\"------\"))","v":""}]
[16,null,{"$f":"対策リスト!AT17&\"\"","v":""},{"$f":"IFERROR(VLOOKUP(C60,選択対策,2,0),\"\")","v":""},{"$f":"IF(C60=\"\",\"\",IFERROR(IF(VLOOKUP(C60,'報告書② 第2年度(取組）'!$C$45:$G$64,3,0)=\"\",\"未入力\",VLOOKUP(C60,'報告書② 第2年度(取組）'!$C$45:$G$64,3,0)),\"------\"))","v":""},{"$f":"IF(C60=\"\",\"\",IFERROR(IF(VLOOKUP(C60,'報告書② 第2年度(取組）'!$C$45:$G$64,4,0)=\"\",\"未入力\",VLOOKUP(C60,'報告書② 第2年度(取組）'!$C$45:$G$64,4,0)),\"------\"))","v":""},{"$f":"IF(C60=\"\",\"\",IFERROR(IF(VLOOKUP(C60,'報告書② 第2年度(取組）'!$C$45:$G$64,5,0)=\"\",\"未入力\",VLOOKUP(C60,'報告書② 第2年度(取組）'!$C$45:$G$64,5,0)),\"------\"))","v":""}]
[17,null,{"$f":"対策リスト!AT18&\"\"","v":""},{"$f":"IFERROR(VLOOKUP(C61,選択対策,2,0),\"\")","v":""},{"$f":"IF(C61=\"\",\"\",IFERROR(IF(VLOOKUP(C61,'報告書② 第2年度(取組）'!$C$45:$G$64,3,0)=\"\",\"未入力\",VLOOKUP(C61,'報告書② 第2年度(取組）'!$C$45:$G$64,3,0)),\"------\"))","v":""},{"$f":"IF(C61=\"\",\"\",IFERROR(IF(VLOOKUP(C61,'報告書② 第2年度(取組）'!$C$45:$G$64,4,0)=\"\",\"未入力\",VLOOKUP(C61,'報告書② 第2年度(取組）'!$C$45:$G$64,4,0)),\"------\"))","v":""},{"$f":"IF(C61=\"\",\"\",IFERROR(IF(VLOOKUP(C61,'報告書② 第2年度(取組）'!$C$45:$G$64,5,0)=\"\",\"未入力\",VLOOKUP(C61,'報告書② 第2年度(取組）'!$C$45:$G$64,5,0)),\"------\"))","v":""}]
[18,null,{"$f":"対策リスト!AT19&\"\"","v":""},{"$f":"IFERROR(VLOOKUP(C62,選択対策,2,0),\"\")","v":""},{"$f":"IF(C62=\"\",\"\",IFERROR(IF(VLOOKUP(C62,'報告書② 第2年度(取組）'!$C$45:$G$64,3,0)=\"\",\"未入力\",VLOOKUP(C62,'報告書② 第2年度(取組）'!$C$45:$G$64,3,0)),\"------\"))","v":""},{"$f":"IF(C62=\"\",\"\",IFERROR(IF(VLOOKUP(C62,'報告書② 第2年度(取組）'!$C$45:$G$64,4,0)=\"\",\"未入力\",VLOOKUP(C62,'報告書② 第2年度(取組）'!$C$45:$G$64,4,0)),\"------\"))","v":""},{"$f":"IF(C62=\"\",\"\",IFERROR(IF(VLOOKUP(C62,'報告書② 第2年度(取組）'!$C$45:$G$64,5,0)=\"\",\"未入力\",VLOOKUP(C62,'報告書② 第2年度(取組）'!$C$45:$G$64,5,0)),\"------\"))","v":""}]
[19,null,{"$f":"対策リスト!AT20&\"\"","v":""},{"$f":"IFERROR(VLOOKUP(C63,選択対策,2,0),\"\")","v":""},{"$f":"IF(C63=\"\",\"\",IFERROR(IF(VLOOKUP(C63,'報告書② 第2年度(取組）'!$C$45:$G$64,3,0)=\"\",\"未入力\",VLOOKUP(C63,'報告書② 第2年度(取組）'!$C$45:$G$64,3,0)),\"------\"))","v":""},{"$f":"IF(C63=\"\",\"\",IFERROR(IF(VLOOKUP(C63,'報告書② 第2年度(取組）'!$C$45:$G$64,4,0)=\"\",\"未入力\",VLOOKUP(C63,'報告書② 第2年度(取組）'!$C$45:$G$64,4,0)),\"------\"))","v":""},{"$f":"IF(C63=\"\",\"\",IFERROR(IF(VLOOKUP(C63,'報告書② 第2年度(取組）'!$C$45:$G$64,5,0)=\"\",\"未入力\",VLOOKUP(C63,'報告書② 第2年度(取組）'!$C$45:$G$64,5,0)),\"------\"))","v":""}]
[20,null,{"$f":"対策リスト!AT21&\"\"","v":""},{"$f":"IFERROR(VLOOKUP(C64,選択対策,2,0),\"\")","v":""},{"$f":"IF(C64=\"\",\"\",IFERROR(IF(VLOOKUP(C64,'報告書② 第2年度(取組）'!$C$45:$G$64,3,0)=\"\",\"未入力\",VLOOKUP(C64,'報告書② 第2年度(取組）'!$C$45:$G$64,3,0)),\"------\"))","v":""},{"$f":"IF(C64=\"\",\"\",IFERROR(IF(VLOOKUP(C64,'報告書② 第2年度(取組）'!$C$45:$G$64,4,0)=\"\",\"未入力\",VLOOKUP(C64,'報告書② 第2年度(取組）'!$C$45:$G$64,4,0)),\"------\"))","v":""},{"$f":"IF(C64=\"\",\"\",IFERROR(IF(VLOOKUP(C64,'報告書② 第2年度(取組）'!$C$45:$G$64,5,0)=\"\",\"未入力\",VLOOKUP(C64,'報告書② 第2年度(取組）'!$C$45:$G$64,5,0)),\"------\"))","v":""}]
[]
[]
["２の３　重点的に実施する取組の実施状況（その他の対策）"]
["番号","項目",null,"具体的な取組内容","実施状況",null,null,null,null,null,"第３年度"]
[null,null,null,null,"基準年度","第１年度","第２年度","第３年度",null,null,"状況","項目数","評価指標",null,"実施状況","項目数","実施済","未実施","評価点"]
[1,null,{"$f":"対策リスト!BT2&\"\"","v":""},{"$f":"対策リスト!BW2&\"\"","v":""},{"$f":"IF(C70=\"\",\"\",IF(対策リスト!CD2=\"\",\"-------\",対策リスト!CD2))","v":""},{"$f":"IF(C70=\"\",\"\",IF(対策リスト!CC2=\"\",\"-------\",対策リスト!CC2))","v":""},{"$f":"IF(C70=\"\",\"\",IF(対策リスト!CB2=\"\",\"-------\",対策リスト!CB2))","v":""},null,null,null,"実施済",{"$f":"COUNTIF($H$70:$H$79,$K70)","v":0},5,null,"第1年度",{"$f":"IF($J$2>0,SUM(Q70:R70),\"\")","v":""},{"$f":"IF($J$2>0,COUNTIF($F$70:$F$79,Q$69),\"\")","v":""},{"$f":"IF($J$2>0,COUNTIF($F$70:$F$79,R$69),\"\")","v":""},{"$f":"IF($J$2>0,Q70*$M$70,\"\")","v":""}]
[2,null,{"$f":"対策リスト!BT3&\"\"","v":""},{"$f":"対策リスト!BW3&\"\"","v":""},{"$f":"IF(C71=\"\",\"\",IF(対策リスト!CD3=\"\",\"-------\",対策リスト!CD3))","v":""},{"$f":"IF(C71=\"\",\"\",IF(対策リスト!CC3=\"\",\"-------\",対策リスト!CC3))","v":""},{"$f":"IF(C71=\"\",\"\",IF(対策リスト!CB3=\"\",\"-------\",対策リスト!CB3))","v":""},null,null,null,"未実施",{"$f":"COUNTIF($H$70:$H$79,$K71)","v":0},0,null,"第2年度",{"$f":"IF($J$2>1,SUM(Q71:R71),\"\")","v":""},{"$f":"IF($J$2>1,COUNTIF($G$70:$G$79,Q$69),\"\")","v":""},{"$f":"IF($J$2>1,COUNTIF($G$70:$G$79,R$69),\"\")","v":""},{"$f":"IF($J$2>1,Q71*$M$70,\"\")","v":""}]
[3,null,{"$f":"対策リスト!BT4&\"\"","v":""},{"$f":"対策リスト!BW4&\"\"","v":""},{"$f":"IF(C72=\"\",\"\",IF(対策リスト!CD4=\"\",\"-------\",対策リスト!CD4))","v":""},{"$f":"IF(C72=\"\",\"\",IF(対策リスト!CC4=\"\",\"-------\",対策リスト!CC4))","v":""},{"$f":"IF(C72=\"\",\"\",IF(対策リスト!CB4=\"\",\"-------\",対策リスト!CB4))","v":""},null,null,null,"合計",{"$f":"SUM(L70:L71)","v":0},25,null,"第3年度",{"$f":"IF($J$2>2,SUM(Q72:R72),\"\")","v":""},{"$f":"IF($J$2>2,COUNTIF($H$70:$H$79,Q$69),\"\")","v":""},{"$f":"IF($J$2>2,COUNTIF($H$70:$H$79,R$69),\"\")","v":""},{"$f":"IF($J$2>2,Q72*$M$70,\"\")","v":""}]
[4,null,{"$f":"対策リスト!BT5&\"\"","v":""},{"$f":"対策リスト!BW5&\"\"","v":""},{"$f":"IF(C73=\"\",\"\",IF(対策リスト!CD5=\"\",\"-------\",対策リスト!CD5))","v":""},{"$f":"IF(C73=\"\",\"\",IF(対策リスト!CC5=\"\",\"-------\",対策リスト!CC5))","v":""},{"$f":"IF(C73=\"\",\"\",IF(対策リスト!CB5=\"\",\"-------\",対策リスト!CB5))","v":""},null,null,null,"最終年度\n評価点",{"$f":"IF(L70*M70>M72,M72,L70*M70)","v":0},null,null,"平均",{"$f":"IFERROR(ROUNDUP(AVERAGE(P70:P72),0),\"\")","v":""},{"$f":"IFERROR(ROUNDUP(AVERAGE(Q70:Q72),0),\"\")","v":""},{"$f":"IFERROR(ROUNDUP(AVERAGE(R70:R72),0),\"\")","v":""},{"$f":"IFERROR(ROUNDUP(AVERAGE(S70:S72),0),\"\")","v":""}]
[5,null,{"$f":"対策リスト!BT6&\"\"","v":""},{"$f":"対策リスト!BW6&\"\"","v":""},{"$f":"IF(C74=\"\",\"\",IF(対策リスト!CD6=\"\",\"-------\",対策リスト!CD6))","v":""},{"$f":"IF(C74=\"\",\"\",IF(対策リスト!CC6=\"\",\"-------\",対策リスト!CC6))","v":""},{"$f":"IF(C74=\"\",\"\",IF(対策リスト!CB6=\"\",\"-------\",対策リスト!CB6))","v":""}]
[6,null,{"$f":"対策リスト!BT7&\"\"","v":""},{"$f":"対策リスト!BW7&\"\"","v":""},{"$f":"IF(C75=\"\",\"\",IF(対策リスト!CD7=\"\",\"-------\",対策リスト!CD7))","v":""},{"$f":"IF(C75=\"\",\"\",IF(対策リスト!CC7=\"\",\"-------\",対策リスト!CC7))","v":""},{"$f":"IF(C75=\"\",\"\",IF(対策リスト!CB7=\"\",\"-------\",対策リスト!CB7))","v":""}]
[7,null,{"$f":"対策リスト!BT8&\"\"","v":""},{"$f":"対策リスト!BW8&\"\"","v":""},{"$f":"IF(C76=\"\",\"\",IF(対策リスト!CD8=\"\",\"-------\",対策リスト!CD8))","v":""},{"$f":"IF(C76=\"\",\"\",IF(対策リスト!CC8=\"\",\"-------\",対策リスト!CC8))","v":""},{"$f":"IF(C76=\"\",\"\",IF(対策リスト!CB8=\"\",\"-------\",対策リスト!CB8))","v":""}]
[8,null,{"$f":"対策リスト!BT9&\"\"","v":""},{"$f":"対策リスト!BW9&\"\"","v":""},{"$f":"IF(C77=\"\",\"\",IF(対策リスト!CD9=\"\",\"-------\",対策リスト!CD9))","v":""},{"$f":"IF(C77=\"\",\"\",IF(対策リスト!CC9=\"\",\"-------\",対策リスト!CC9))","v":""},{"$f":"IF(C77=\"\",\"\",IF(対策リスト!CB9=\"\",\"-------\",対策リスト!CB9))","v":""}]
[9,null,{"$f":"対策リスト!BT10&\"\"","v":""},{"$f":"対策リスト!BW10&\"\"","v":""},{"$f":"IF(C78=\"\",\"\",IF(対策リスト!CD10=\"\",\"-------\",対策リスト!CD10))","v":""},{"$f":"IF(C78=\"\",\"\",IF(対策リスト!CC10=\"\",\"-------\",対策リスト!CC10))","v":""},{"$f":"IF(C78=\"\",\"\",IF(対策リスト!CB10=\"\",\"-------\",対策リスト!CB10))","v":""}]
[10,null,{"$f":"対策リスト!BT11&\"\"","v":""},{"$f":"対策リスト!BW11&\"\"","v":""},{"$f":"IF(C79=\"\",\"\",IF(対策リスト!CD11=\"\",\"-------\",対策リスト!CD11))","v":""},{"$f":"IF(C79=\"\",\"\",IF(対策リスト!CC11=\"\",\"-------\",対策リスト!CC11))","v":""},{"$f":"IF(C79=\"\",\"\",IF(対策リスト!CB11=\"\",\"-------\",対策リスト!CB11))","v":""}]
[]
[]
[]
[]
[]
[]
[]
[]
[]
[]
[null,null,"第３年度追加（選択対策）"]
[1]
[2]
[3]
[4]
[5]
[6]
[7]
[8]
[9]
[10]
[11]
[12]
[13]
[14]
[15]
[16]
[17]
[18]
[19]
[20]
[]
[]
[]
[]
[]
[]
[]
[]
[null,null,"第３年度追加（その他の対策）"]
[null,null,null,"具体的な取組内容"]
[1]
[2]
[3]
[4]
[5]
[6]
[7]
[8]
[9]
[10]

{"sheet":"報告書③（任意記載）","index":13,"n_rows":13,"n_cols":6,"rows_kept":13,"cut":false,"hidden":true,"merged":[]}
[]
["参考１　計画期間内に実施した削減対策（詳細）"]
["番号","対策内容","実施年度","推計削減量\n（t-CO2/年）",null,"写真"]
[1]
[2]
[3]
[4]
[5]
[6]
[7]
[8]
[9]
[10]

{"sheet":"計算シート（第１～第３年度）","index":14,"n_rows":66,"n_cols":22,"rows_kept":66,"cut":false,"hidden":true,"merged":[[62,0,63,0],[64,0,65,0],[40,0,41,0],[42,0,43,0],[18,0,19,0],[20,0,21,0],[24,0,24,1],[56,0,57,0],[58,0,59,0],[60,0,61,0],[33,0,33,1],[34,0,35,0],[36,0,37,0],[38,0,39,0],[46,0,46,1],[55,0,55,1],[2,0,2,1],[11,0,11,1],[12,0,13,0],[14,0,15,0],[16,0,17,0]]}
["（参考）エネルギー使用量計算シート"]
["第1年度"]
["燃料",null,"4月","5月","6月","7月","8月","9月","10月","11月","12月","1月","2月","3月","合計",null,"合計"]
["揮発油（ガソリン）","[リットル]",null,null,null,null,null,null,null,null,null,null,null,null,{"$f":"IF(COUNTBLANK(C4:N4)=12,\"\",SUM(C4:N4))","v":""},null,{"$f":"IF(COUNTBLANK(C4:N4)=12,\"\",O4/1000)","v":""},"ｋｌ"]
["灯油","[リットル]",null,null,null,null,null,null,null,null,null,null,null,null,{"$f":"IF(COUNTBLANK(C5:N5)=12,\"\",SUM(C5:N5))","v":""},null,{"$f":"IF(COUNTBLANK(C5:N5)=12,\"\",O5/1000)","v":""},"ｋｌ"]
["軽油","[リットル]",null,null,null,null,null,null,null,null,null,null,null,null,"",null,"","ｋｌ"]
["Ａ重油","[リットル]",null,null,null,null,null,null,null,null,null,null,null,null,"",null,"","ｋｌ"]
["Ｂ・Ｃ重油","[リットル]",null,null,null,null,null,null,null,null,null,null,null,null,"",null,"","ｋｌ"]
["液化石油ガス　(LPG)","[kg]",null,null,null,null,null,null,null,null,null,null,null,null,"",null,"","ｔ"]
["都市ガス","[m3]",null,null,null,null,null,null,null,null,null,null,null,null,"",null,"","千㎥"]
[]
["電気[kWh]",null,"4月","5月","6月","7月","8月","9月","10月","11月","12月","1月","2月","3月","合計",null,"合計"]
[{"$f":"'事業所排出量内訳 (第1年度)'!$U$42&\"\"","v":""},"昼間買電",null,null,null,null,null,null,null,null,null,null,null,null,{"$f":"IF(COUNTBLANK(C13:N13)=12,\"\",SUM(C13:N13))","v":""},null,{"$f":"IF(COUNTBLANK(C13:N13)=12,\"\",O13/1000)","v":""},"千kWh"]
[null,"夜間買電",null,null,null,null,null,null,null,null,null,null,null,null,{"$f":"IF(COUNTBLANK(C14:N14)=12,\"\",SUM(C14:N14))","v":""},null,{"$f":"IF(COUNTBLANK(C14:N14)=12,\"\",O14/1000)","v":""},"千kWh"]
[{"$f":"'事業所排出量内訳 (第1年度)'!$U$43&\"\"","v":""},"昼間買電",null,null,null,null,null,null,null,null,null,null,null,null,"",null,"","千kWh"]
[null,"夜間買電",null,null,null,null,null,null,null,null,null,null,null,null,"",null,"","千kWh"]
[{"$f":"'事業所排出量内訳 (第1年度)'!$U$44&\"\"","v":""},"昼間買電",null,null,null,null,null,null,null,null,null,null,null,null,"",null,"","千kWh"]
[null,"夜間買電",null,null,null,null,null,null,null,null,null,null,null,null,"",null,"","千kWh"]
[{"$f":"'事業所排出量内訳 (第1年度)'!$U$45&\"\"","v":""},"昼間買電",null,null,null,null,null,null,null,null,null,null,null,null,"",null,"","千kWh"]
[null,"夜間買電",null,null,null,null,null,null,null,null,null,null,null,null,"",null,"","千kWh"]
[{"$f":"'事業所排出量内訳 (第1年度)'!$U$46&\"\"","v":""},"昼間買電",null,null,null,null,null,null,null,null,null,null,null,null,"",null,"","千kWh"]
[null,"夜間買電",null,null,null,null,null,null,null,null,null,null,null,null,"",null,{"$f":"IF(COUNTBLANK(C22:N22)=12,\"\",O22/1000)","v":""},"千kWh"]
[]
["第2年度"]
["燃料",null,"4月","5月","6月","7月","8月","9月","10月","11月","12月","1月","2月","3月","合計",null,"合計"]
["揮発油（ガソリン）","[リットル]",null,null,null,null,null,null,null,null,null,null,null,null,{"$f":"IF(COUNTBLANK(C26:N26)=12,\"\",SUM(C26:N26))","v":""},null,{"$f":"IF(COUNTBLANK(C26:N26)=12,\"\",O26/1000)","v":""},"ｋｌ"]
["灯油","[リットル]",null,null,null,null,null,null,null,null,null,null,null,null,"",null,{"$f":"IF(COUNTBLANK(C27:N27)=12,\"\",O27/1000)","v":""},"ｋｌ"]
["軽油","[リットル]",null,null,null,null,null,null,null,null,null,null,null,null,"",null,"","ｋｌ"]
["Ａ重油","[リットル]",null,null,null,null,null,null,null,null,null,null,null,null,"",null,"","ｋｌ"]
["Ｂ・Ｃ重油","[リットル]",null,null,null,null,null,null,null,null,null,null,null,null,"",null,"","ｋｌ"]
["液化石油ガス　(LPG)","[kg]",null,null,null,null,null,null,null,null,null,null,null,null,"",null,"","ｔ"]
["都市ガス","[m3]",null,null,null,null,null,null,null,null,null,null,null,null,"",null,"","千㎥"]
[]
["電気[kWh]",null,"4月","5月","6月","7月","8月","9月","10月","11月","12月","1月","2月","3月","合計",null,"合計",null,null,null,null,"電気会社_アルファベット"]
[{"$f":"'事業所排出量内訳 (第2年度)'!$U$42&\"\"","v":""},"昼間買電",null,null,null,null,null,null,null,null,null,null,null,null,{"$f":"IF(COUNTBLANK(C35:N35)=12,\"\",SUM(C35:N35))","v":""},null,{"$f":"IF(COUNTBLANK(C35:N35)=12,\"\",O35/1000)","v":""},"千kWh",null,null,null,"電気会社_あ行"]
[null,"夜間買電",null,null,null,null,null,null,null,null,null,null,null,null,"",null,"","千kWh",null,null,null,"電気会社_か行"]
[{"$f":"'事業所排出量内訳 (第2年度)'!$U$43&\"\"","v":""},"昼間買電",null,null,null,null,null,null,null,null,null,null,null,null,"",null,"","千kWh",null,null,null,"電気会社_さ行"]
[null,"夜間買電",null,null,null,null,null,null,null,null,null,null,null,null,"",null,"","千kWh",null,null,null,"電気会社_た行"]
[{"$f":"'事業所排出量内訳 (第2年度)'!$U$44&\"\"","v":""},"昼間買電",null,null,null,null,null,null,null,null,null,null,null,null,"",null,"","千kWh",null,null,null,"電気会社_な行"]
[null,"夜間買電",null,null,null,null,null,null,null,null,null,null,null,null,"",null,"","千kWh",null,null,null,"電気会社_は行"]
[{"$f":"'事業所排出量内訳 (第2年度)'!$U$45&\"\"","v":""},"昼間買電",null,null,null,null,null,null,null,null,null,null,null,null,"",null,"","千kWh",null,null,null,"電気会社_ま行"]
[null,"夜間買電",null,null,null,null,null,null,null,null,null,null,null,null,"",null,"","千kWh",null,null,null,"電気会社_や行"]
[{"$f":"'事業所排出量内訳 (第2年度)'!$U$46&\"\"","v":""},"昼間買電",null,null,null,null,null,null,null,null,null,null,null,null,"",null,"","千kWh",null,null,null,"電気会社_ら行"]
[null,"夜間買電",null,null,null,null,null,null,null,null,null,null,null,null,"",null,"","千kWh",null,null,null,"電気会社_わ行"]
[]
["第3年度"]
["燃料",null,"4月","5月","6月","7月","8月","9月","10月","11月","12月","1月","2月","3月","合計",null,"合計"]
["揮発油（ガソリン）","[リットル]",null,null,null,null,null,null,null,null,null,null,null,null,{"$f":"IF(COUNTBLANK(C48:N48)=12,\"\",SUM(C48:N48))","v":""},null,{"$f":"IF(COUNTBLANK(C48:N48)=12,\"\",O48/1000)","v":""},"ｋｌ"]
["灯油","[リットル]",null,null,null,null,null,null,null,null,null,null,null,null,"",null,"","ｋｌ"]
["軽油","[リットル]",null,null,null,null,null,null,null,null,null,null,null,null,"",null,"","ｋｌ"]
["Ａ重油","[リットル]",null,null,null,null,null,null,null,null,null,null,null,null,"",null,"","ｋｌ"]
["Ｂ・Ｃ重油","[リットル]",null,null,null,null,null,null,null,null,null,null,null,null,"",null,"","ｋｌ"]
["液化石油ガス　(LPG)","[kg]",null,null,null,null,null,null,null,null,null,null,null,null,"",null,"","ｔ"]
["都市ガス","[m3]",null,null,null,null,null,null,null,null,null,null,null,null,"",null,"","千㎥"]
[]
["電気[kWh]",null,"4月","5月","6月","7月","8月","9月","10月","11月","12月","1月","2月","3月","合計",null,"合計"]
[{"$f":"'事業所排出量内訳 (第3年度)'!$U$42&\"\"","v":""},"昼間買電",null,null,null,null,null,null,null,null,null,null,null,null,{"$f":"IF(COUNTBLANK(C57:N57)=12,\"\",SUM(C57:N57))","v":""},null,{"$f":"IF(COUNTBLANK(C57:N57)=12,\"\",O57/1000)","v":""},"千kWh"]
[null,"夜間買電",null,null,null,null,null,null,null,null,null,null,null,null,"",null,"","千kWh"]
[{"$f":"'事業所排出量内訳 (第3年度)'!$U$43&\"\"","v":""},"昼間買電",null,null,null,null,null,null,null,null,null,null,null,null,"",null,"","千kWh"]
[null,"夜間買電",null,null,null,null,null,null,null,null,null,null,null,null,"",null,"","千kWh"]
[{"$f":"'事業所排出量内訳 (第3年度)'!$U$44&\"\"","v":""},"昼間買電",null,null,null,null,null,null,null,null,null,null,null,null,"",null,"","千kWh"]
[null,"夜間買電",null,null,null,null,null,null,null,null,null,null,null,null,"",null,"","千kWh"]
[{"$f":"'事業所排出量内訳 (第3年度)'!$U$45&\"\"","v":""},"昼間買電",null,null,null,null,null,null,null,null,null,null,null,null,"",null,"","千kWh"]
[null,"夜間買電",null,null,null,null,null,null,null,null,null,null,null,null,"",null,"","千kWh"]
[{"$f":"'事業所排出量内訳 (第3年度)'!$U$46&\"\"","v":""},"昼間買電",null,null,null,null,null,null,null,null,null,null,null,null,"",null,"","千kWh"]
[null,"夜間買電",null,null,null,null,null,null,null,null,null,null,null,null,"",null,"","千kWh"]

{"sheet":"事業所排出量内訳 (第1年度)","index":15,"n_rows":73,"n_cols":54,"rows_kept":73,"cut":false,"hidden":true,"merged":[[0,9,0,10],[3,8,4,8],[3,9,4,9],[3,10,4,10],[3,11,4,11],[3,12,4,12],[13,4,13,7],[13,20,14,20],[13,21,14,22],[14,4,14,7],[3,2,4,7],[14,23,14,24],[15,4,15,7],[3,13,4,13],[7,20,8,20],[7,21,8,22],[8,23,8,24],[9,23,9,24],[12,4,12,7],[16,4,16,7],[17,4,17,7],[18,4,18,7],[19,4,19,7],[21,2,21,7],[22,2,28,2],[22,3,22,7],[23,3,23,7],[24,3,24,7],[25,3,25,7],[26,3,26,7],[26,22,26,23],[27,3,27,7],[29,2,29,7],[30,8,31,8],[30,9,31,9],[30,10,31,10],[30,11,31,11],[30,12,31,12],[30,13,31,13],[30,2,31,7],[39,24,40,24],[39,25,40,25],[39,26,40,26],[41,2,41,7],[44,2,45,5],[44,6,45,7],[33,5,33,7],[34,5,34,7],[39,20,40,20],[39,21,40,21],[39,22,40,22],[39,23,40,23],[48,24,49,24],[48,25,49,25],[48,26,49,26],[48,27,49,27],[49,6,49,7],[50,6,50,7],[46,6,46,7],[47,6,47,7],[48,6,48,7],[48,20,49,21],[48,22,49,22],[48,23,49,23],[54,25,55,25],[54,26,55,26],[54,27,55,27],[51,6,51,7],[51,20,51,21],[52,6,52,7],[53,2,53,5],[53,6,53,7],[54,21,55,21],[56,2,57,5],[56,6,57,7],[58,2,58,5],[58,6,58,7],[59,2,59,5],[59,6,59,7],[54,22,55,22],[54,23,55,23],[54,24,55,24],[64,22,65,22],[65,2,65,5],[65,6,65,7],[60,24,61,24],[61,2,61,5],[61,6,61,7],[62,2,62,5],[62,6,62,7],[63,2,63,5],[63,6,63,7],[60,2,60,5],[60,6,60,7],[60,20,61,20],[60,21,61,21],[60,23,61,23],[60,22,61,22],[124,20,125,21],[68,2,69,7],[70,2,70,5],[70,6,70,7],[71,2,71,5],[71,6,71,7],[72,2,72,5],[72,6,72,7],[64,2,64,5],[64,6,64,7],[64,20,65,20],[64,21,65,21]]}
[null,null,"温室効果ガス排出量内訳",null,null,null,null,null,"第１年度",{"$f":"\"（\"&はじめに!E4+1&\"年度）\"","v":"（1年度）"},null,null,null,null,null,null,null,null,null,{"$f":"はじめに!E4+1","v":1},null,null,null,null,null,null,null,null,null,null,null,null,null,null,null,null,null,null,null,null,null,null,null,null,null,null,null,null,{"$f":"IF(T1=2022,AZ1,AZ2)","v":"一般その他化石2023"},{"$f":"IF(T1=2022,BB1,BB2)","v":"一般その他非化石2023"},null,"一般その他化石2022",null,"一般その他非化石2022"]
[null,null,null,null,null,null,null,null,null,null,null,null,null,{"$f":"はじめに!E4","v":0},null,null,null,null,null,null,null,null,null,null,null,null,null,null,null,null,null,null,null,2022,null,null,null,null,null,2023,null,null,null,null,null,null,null,null,null,null,null,"一般その他化石2023",null,"一般その他非化石2023"]
[null,null,"１．エネルギー起源二酸化炭素（CO2）排出量",null,null,null,null,null,null,null,null,null,null,null,null,null,null,null,null,null,"１．エネルギー起源二酸化炭素（CO2）排出量",null,null,null,null,null,null,null,null,null,null,null,null,null,"単位",null,null,null,null,null,"単位"]
[null,null,"燃料の種類",null,null,null,null,null,"使用量","外部\n供給量","実使用量","単位","熱量\n(GJ)","排出量\n(t-CO2)",null,null,null,{"$f":"IF(V4=0,0,1)","v":0},null,null,"熱量合計",{"$f":"SUM(M22,M30,M42)","v":0},"GJ",null,null,null,null,null,null,null,null,null,1,"揮発油","kl",{"$f":"SUMIFS($I$13:$I$19,$E$13:$E$19,$AN4)","v":0},{"$f":"SUMIFS($J$13:$J$19,$E$13:$E$19,$AN4)","v":0},null,1,"揮発油","kl",{"$f":"SUMIFS($I$13:$I$19,$E$13:$E$19,$AN4)","v":0},{"$f":"SUMIFS($J$13:$J$19,$E$13:$E$19,$AN4)","v":0},{"$f":"COUNTIF($AT$4:$AT$10,AN4)","v":1},null,"揮発油"]
[null,null,null,null,null,null,null,null,null,null,null,null,null,null,null,"エネルギー名称区分2022","エネルギー名称区分2023","単位発熱量","炭素排出係数",null,"原油換算",{"$f":"V4*0.0258","v":0},"KL",null,null,null,null,null,null,null,null,null,2,"灯油","t",0,0,null,2,"灯油","t",0,0,1,null,"灯油"]
[null,null,null,"揮発油（ガソリン）",null,null,null,null,{"$f":"'計算シート（第１～第３年度）'!Q4","v":""},null,{"$f":"IF(AND(I6=\"\",J6=\"\"),\"\",SUM(I6)-SUM(J6))","v":""},"kl",{"$f":"IFERROR(IF(K6=\"\",\"\",$K6*R6),\"-------------\")","v":""},{"$f":"IFERROR(IF(K6=\"\",\"\",$M6*S6*44/12),\"----------\")","v":""},null,"揮発油","揮発油",{"$f":"IF($T$1=2022,VLOOKUP(P6,係数2022,7,0),VLOOKUP(Q6,係数2023,7,0))","v":33.4},{"$f":"IF($T$1=2022,VLOOKUP(P6,係数2022,9,0),VLOOKUP(Q6,係数2023,9,0))","v":1.8700000000000001E-2},null,"排出量合計",{"$f":"ROUNDDOWN(SUM(N22,N30,N42),1)","v":0},"t-CO2",null,null,null,null,null,null,null,null,null,3,"軽油","千Nm3",0,0,null,3,"軽油","千Nm3",0,0,1,null,"軽油"]
[null,null,null,"灯油",null,null,null,null,{"$f":"'計算シート（第１～第３年度）'!Q5","v":""},null,{"$f":"IF(AND(I7=\"\",J7=\"\"),\"\",SUM(I7)-SUM(J7))","v":""},"kl","","",null,"灯油","灯油",36.5,1.8700000000000001E-2,null,null,null,null,null,null,null,null,null,null,null,null,null,4,"Ａ重油","kl",0,0,null,4,"Ａ重油","kl",0,0,1,null,"Ａ重油"]
[null,null,null,"軽油",null,null,null,null,{"$f":"'計算シート（第１～第３年度）'!Q6","v":""},null,"","kl","","",null,"軽油","軽油",{"$f":"IF($T$1=2022,VLOOKUP(P8,係数2022,7,0),VLOOKUP(Q8,係数2023,7,0))","v":38},1.8800000000000001E-2,null,"燃料等の種類","熱量内訳",null,null,null,null,null,null,null,null,null,null,5,"Ｂ・Ｃ重油","kl",0,0,null,5,"Ｂ・Ｃ重油","kl",0,0,1,null,"Ｂ・Ｃ重油"]
[null,null,null,"Ａ重油",null,null,null,null,{"$f":"'計算シート（第１～第３年度）'!Q7","v":""},null,"","kl","","",null,"Ａ重油","Ａ重油",38.9,1.9300000000000001E-2,null,null,null,null,"うち非化石熱量",null,"非化石割合",null,null,null,null,null,null,6,"液化石油ガス     (LPG)","t",0,0,null,6,"液化石油ガス     (LPG)","t",0,0,1,null,"液化石油ガス     (LPG)"]
[null,null,"化","Ｂ・Ｃ重油",null,null,null,null,{"$f":"'計算シート（第１～第３年度）'!Q8","v":""},null,"","kl","","",null,"Ｂ・Ｃ重油","Ｂ・Ｃ重油",41.8,2.0199999999999999E-2,null,"化石燃料・熱",{"$f":"M22","v":0},"GJ",null,null,null,null,null,null,null,null,null,7,"都市ガス","千Nm3",0,0,null,7,"都市ガス","千Nm3",0,0,1,null,"都市ガス"]
[null,null,"石","液化石油ガス     (LPG)",null,null,null,null,{"$f":"'計算シート（第１～第３年度）'!Q9","v":""},null,"","t","","",null,"液化石油ガス     (LPG)","液化石油ガス     (LPG)",50.1,1.6299999999999999E-2,null,"非化石燃料・非化石熱",{"$f":"IF(T1=2022,\"-------------------\",SUM(M30))","v":0},"GJ",{"$f":"V11","v":0},"GJ",{"$f":"IF(T1=2022,\"---------------\",IF(V11<>0,X11/V11,\"---------------\"))","v":"---------------"},null,null,null,null,null,null,8,"原油（コンデンセートを除く。）","kl",0,0,null,8,"原油（コンデンセートを除く。）","kl",0,0,0]
[null,null,"燃","都市ガス",null,null,null,null,{"$f":"'計算シート（第１～第３年度）'!Q10","v":""},null,"","千m3","","",null,"都市ガス","都市ガス",45,1.4E-2,null,"熱量合計（電気以外）",{"$f":"SUM(V10:V11)","v":0},"GJ",{"$f":"IF($T$1=2022,\"-------------------\",SUM(X11,X10))","v":0},"GJ",{"$f":"IF($T$1=2022,\"---------------\",IF(X12=0,0,X12/V12))","v":0},null,null,null,null,null,null,9,"原油のうちコンデンセート(NGL)","kl",0,0,null,9,"原油のうちコンデンセート(NGL)","kl",0,0,0]
[null,null,"料",null,null,null,null,null,null,null,{"$f":"IF(AND(I13=\"\",J13=\"\"),\"\",SUM(I13)-SUM(J13))","v":""},{"$f":"IF(E13=\"\",\"\",IF($T$1=2022,VLOOKUP(E13,係数2022,6,0),VLOOKUP(E13,係数2023,6,0)))","v":""},{"$f":"IFERROR(IF(K13=\"\",\"\",$K13*R13),\"----------\")","v":""},"",null,null,null,{"$f":"IF($T$1=2022,VLOOKUP(E13,係数2022,7,0),VLOOKUP(E13,係数2023,7,0))","v":{"$error":"#N/A"}},{"$f":"IF($T$1=2022,VLOOKUP(E13,係数2022,9,0),VLOOKUP(E13,係数2023,9,0))","v":{"$error":"#N/A"}},null,null,null,null,null,null,null,null,null,null,null,null,null,10,"ナフサ","kl",0,0,null,10,"ナフサ","kl",0,0,0]
[null,null,"・",null,null,null,null,null,null,null,{"$f":"IF(AND(I14=\"\",J14=\"\"),\"\",SUM(I14)-SUM(J14))","v":""},{"$f":"IF(E14=\"\",\"\",IF($T$1=2022,VLOOKUP(E14,係数2022,6,0),VLOOKUP(E14,係数2023,6,0)))","v":""},{"$f":"IFERROR(IF(K14=\"\",\"\",$K14*R14),\"----------\")","v":""},"",null,null,null,{"$error":"#N/A"},{"$error":"#N/A"},null,"燃料等の種類","電気使用量",null,null,null,null,null,null,null,null,null,null,11,"ジェット燃料油","kl",0,0,null,11,"ジェット燃料油","kl",0,0,0]
[null,null,"熱",null,null,null,null,null,null,null,"",{"$f":"IF(E15=\"\",\"\",IF($T$1=2022,VLOOKUP(E15,係数2022,6,0),VLOOKUP(E15,係数2023,6,0)))","v":""},{"$f":"IFERROR(IF(K15=\"\",\"\",$K15*R15),\"----------\")","v":""},"",null,null,null,{"$error":"#N/A"},{"$error":"#N/A"},null,null,null,null,"うち非化石電気使用量",null,"非化石割合",null,null,null,null,null,null,12,"石油アスファルト","kl",0,0,null,12,"石油アスファルト","kl",0,0,0]
[null,null,null,"そ",null,null,null,null,null,null,"",{"$f":"IF(E16=\"\",\"\",IF($T$1=2022,VLOOKUP(E16,係数2022,6,0),VLOOKUP(E16,係数2023,6,0)))","v":""},{"$f":"IFERROR(IF(K16=\"\",\"\",$K16*R16),\"----------\")","v":""},"",null,null,null,{"$error":"#N/A"},{"$error":"#N/A"},null,"電気",{"$f":"K42","v":0},"kWh ",{"$f":"K41","v":0},"kWh ",{"$f":"IF($T$1=2022,\"----------\",IF(V16=0,0,X16/V16))","v":0},null,null,null,null,null,null,13,"石油コークス","kl",0,0,null,13,"石油コークス","kl",0,0,0]
[null,null,null,"の",null,null,null,null,null,null,"",{"$f":"IF(E17=\"\",\"\",IF($T$1=2022,VLOOKUP(E17,係数2022,6,0),VLOOKUP(E17,係数2023,6,0)))","v":""},"","",null,null,null,{"$error":"#N/A"},{"$error":"#N/A"},null,null,null,null,null,null,null,null,null,null,null,null,null,14,"石油系炭化水素ガス","t",0,0,null,14,"石油系炭化水素ガス","t",0,0,0]
[null,null,null,"他","産業用以外の蒸気",null,null,null,null,null,"","GJ","",{"$f":"IF(K18=\"\",\"\",\n      IF($T$1=2022,K18*S18,\n                  IF(OR(W30=\"\",K18=\"\"),\"\",K18*W30)))","v":""},null,"産業用以外の蒸気","産業用以外の蒸気_化石",{"$f":"IF($T$1=2022,VLOOKUP(P18,係数2022,7,0),VLOOKUP(Q18,係数2023,7,0))","v":1.19},{"$f":"IF($T$1=2022,VLOOKUP(P18,係数2022,9,0),VLOOKUP(Q18,係数2023,9,0))","v":"ー"},null,"２．エネルギー起源二酸化炭素（CO2）以外の温室効果ガス排出量",null,null,null,null,null,null,null,null,null,null,null,15,"液化天然ガス     (LNG)","千Nm3",0,0,null,15,"液化天然ガス     (LNG)","千Nm3",0,0,0]
[null,null,null,null,"温水",null,null,null,null,null,"","GJ",{"$f":"IFERROR(IF(K19=\"\",\"\",$K19*R19),\"----------\")","v":""},{"$f":"IF(K19=\"\",\"\",\n      IF($T$1=2022,K19*S19,\n                  IF(OR(W31=\"\",K19=\"\"),\"\",K19*W31)))","v":""},null,"温水","温水_化石",{"$f":"IF($T$1=2022,VLOOKUP(P19,係数2022,7,0),VLOOKUP(Q19,係数2023,7,0))","v":1.19},"ー",null,"排出量合計",{"$f":"SUM(G54)","v":0},"t-CO2",null,null,null,null,null,null,null,null,null,16,"その他可燃性天然ガス","t",0,0,null,16,"その他可燃性天然ガス","t",0,0,0]
[null,null,null,null,"冷水",null,null,null,null,null,"","GJ",{"$f":"IFERROR(IF(K20=\"\",\"\",$K20*R20),\"----------\")","v":""},{"$f":"IF(K20=\"\",\"\",\n      IF($T$1=2022,K20*S20,\n                  IF(OR(W32=\"\",K20=\"\"),\"\",K20*W32)))","v":""},null,"冷水","冷水_化石",1.19,"ー",null,null,null,null,null,null,null,null,null,null,null,null,null,17,"原料炭","t",0,0,null,17,"輸入原料炭","t",0,0,0]
[null,null,null,null,{"$f":"\"その他（\"&U35&\"）\"","v":"その他（）"},null,null,null,null,null,{"$f":"IF(AND(I21=\"\",J21=\"\"),\"\",SUM(I21)-SUM(J21))","v":""},null,null,null,null,null,null,null,null,null,"３．クレジット等による削減量",null,null,null,null,null,null,null,null,null,null,null,18,"一般炭","t",{"$f":"SUMIFS($I$13:$I$19,$E$13:$E$19,$AV25)","v":0},{"$f":"SUMIFS($J$13:$J$19,$E$13:$E$19,$AV25)","v":0},null,18,"コークス用原料炭","t",0,0,0]
[null,null,"小　　　　　計",null,null,null,null,null,"－","－","－","－",{"$f":"SUM(M6:M21)","v":0},{"$f":"SUM(N6:N21)","v":0},null,null,null,null,null,null,"削減量合計",{"$f":"SUM(G66)","v":0},"t-CO2",null,null,null,null,null,null,null,null,null,19,"無煙炭","t",{"$f":"SUMIFS($I$13:$I$19,$E$13:$E$19,$AV26)","v":0},{"$f":"SUMIFS($J$13:$J$19,$E$13:$E$19,$AV26)","v":0},null,19,"吹込用原料炭","t",0,0,0]
[null,null,"非化石燃料・\n非化石熱",null,null,null,null,null,null,null,{"$f":"IF(AND(I23=\"\",J23=\"\"),\"\",SUM(I23)-SUM(J23))","v":""},{"$f":"IF(D23=\"\",\"\",IF($T$1=2022,\"----------\",VLOOKUP(D23,係数2023,6,0)))","v":""},{"$f":"IFERROR(IF(K23=\"\",\"\",$K23*R23),\"-------------\")","v":""},{"$f":"IFERROR(IF(K23=\"\",\"\",$M23*S23*44/12),\"----------\")","v":""},null,null,null,{"$f":"IF($T$1=2022,VLOOKUP(D23,係数2022,7,0),VLOOKUP(D23,係数2023,7,0))","v":{"$error":"#N/A"}},{"$f":"IF($T$1=2022,VLOOKUP(D23,係数2022,9,0),VLOOKUP(D23,係数2023,9,0))","v":{"$error":"#N/A"}},null,null,null,null,null,null,null,null,null,null,null,null,null,20,"石炭コークス","t",{"$f":"SUMIFS($I$13:$I$19,$E$13:$E$19,$AN26)","v":0},{"$f":"SUMIFS($J$13:$J$19,$E$13:$E$19,$AN26)","v":0},null,20,"輸入一般炭","t",0,0,0]
[null,null,null,null,null,null,null,null,null,null,"","","","",null,null,null,{"$error":"#N/A"},{"$error":"#N/A"},null,"温室効果ガス総排出量",{"$f":"V6+V19-V22","v":0},"t-CO2",null,null,null,null,null,null,null,null,null,21,"コールタール","t",{"$f":"SUMIFS($I$13:$I$19,$E$13:$E$19,$AN27)","v":0},{"$f":"SUMIFS($J$13:$J$19,$E$13:$E$19,$AN27)","v":0},null,21,"国産一般炭","t",0,0,0]
[null,null,null,null,null,null,null,null,null,null,"","","","",null,null,null,{"$error":"#N/A"},{"$error":"#N/A"},null,null,null,null,null,null,null,null,null,null,null,null,null,22,"コークス炉ガス","t",{"$f":"SUMIFS($I$13:$I$19,$E$13:$E$19,$AN28)","v":0},{"$f":"SUMIFS($J$13:$J$19,$E$13:$E$19,$AN28)","v":0},null,22,"輸入無煙炭","t",0,0,0]
[null,null,null,null,null,null,null,null,null,null,"","","",{"$f":"IFERROR(IF(K26=\"\",\"\",$M26*S26*44/12),\"----------\")","v":""},null,null,null,{"$error":"#N/A"},{"$error":"#N/A"},null,"４．原単位の指標",null,null,null,null,null,null,null,null,null,null,null,23,"高炉ガス","千Nm3",{"$f":"SUMIFS($I$13:$I$19,$E$13:$E$19,$AN29)","v":0},{"$f":"SUMIFS($J$13:$J$19,$E$13:$E$19,$AN29)","v":0},null,23,"石炭コークス","t",0,0,0]
[null,null,null,null,null,null,null,null,null,null,"","","","",null,null,null,{"$error":"#N/A"},{"$error":"#N/A"},null,"排出原単位",{"$f":"IF(V24=\"\",\"\",IFERROR(ROUND(V24/G73,3-INT(LOG(V24/G73))),))","v":0},{"$f":"\"t-CO2/\"&G72","v":"t-CO2/"},null,null,null,null,null,null,null,null,null,24,"転炉ガス","GJ",{"$f":"SUMIFS($I$13:$I$19,$E$13:$E$19,$AN31)","v":0},{"$f":"SUMIFS($J$13:$J$19,$E$13:$E$19,$AN31)","v":0},null,24,"コールタール","t",0,0,0]
[null,null,null,null,null,null,null,null,null,null,"","","","",null,null,null,{"$error":"#N/A"},{"$error":"#N/A"},null,null,null,null,null,null,null,null,null,null,null,null,null,25,"産業用蒸気","GJ",{"$f":"SUMIFS($I$13:$I$19,$E$13:$E$19,$AN36)","v":0},{"$f":"SUMIFS($J$13:$J$19,$E$13:$E$19,$AN36)","v":0},null,25,"コークス炉ガス","t",0,0,0]
[null,null,null,{"$f":"\"その他（\"&U38&\"）\"","v":"その他（）"},null,null,null,null,null,null,"",null,null,null,null,null,null,null,null,null,"熱の種類","換算係数","排出係数",null,null,null,null,null,null,null,null,null,26,"産業用以外の蒸気","GJ",{"$f":"SUMIFS($I$13:$I$19,$E$13:$E$19,$AN37)","v":0},{"$f":"SUMIFS($J$13:$J$19,$E$13:$E$19,$AN37)","v":0},null,26,"高炉ガス","千Nm3",0,0,0]
[null,null,"小　　　　　計",null,null,null,null,null,"－","－","－","－",{"$f":"SUM(M23:M29)","v":0},{"$f":"SUM(N23:N29)","v":0},null,null,null,null,null,null,"産業用以外の蒸気",null,null,null,null,null,null,null,null,null,null,null,27,"温水","GJ",{"$f":"SUMIFS($I$13:$I$19,$E$13:$E$19,$AN38)","v":0},{"$f":"SUMIFS($J$13:$J$19,$E$13:$E$19,$AN38)","v":0},null,27,"発電用高炉ガス","千m3",0,0,0]
[null,null,"電気の種類",null,null,null,null,null,"使用量","外部\n供給量","実使用量","単位","熱量\n(GJ)","排出量\n(t-CO2)",null,null,null,null,null,null,"温水",null,null,null,null,null,null,null,null,null,null,null,28,"冷水","GJ",{"$f":"SUMIFS($I$13:$I$19,$E$13:$E$19,$AN39)","v":0},{"$f":"SUMIFS($J$13:$J$19,$E$13:$E$19,$AN39)","v":0},null,28,"転炉ガス","GJ",0,0,0]
[null,null,null,null,null,null,null,null,null,null,null,null,null,null,null,"エネルギー名称区分2022","エネルギー名称区分2023","単位発熱量","炭素排出係数",null,"冷水",null,null,null,null,null,null,null,null,null,null,null,29,"---------------",null,null,null,null,29,"産業用蒸気_化石","GJ",0,0,0]
[null,null,null,"電気事業者からの買電",null,null,null,null,{"$f":"IF(COUNTBLANK(V42:W46)=10,\"\",SUM(I34:I35))","v":""},null,{"$f":"I33","v":""},"千kWh",{"$f":"IF(COUNTBLANK(V42:W46)=10,\"\",SUM(M34,M35))","v":""},{"$f":"IF(COUNTBLANK(V42:W46)=10,\"\",SUM(N34,N35))","v":""},null,null,null,null,null,null,null,null,null,null,null,null,null,null,null,null,null,null,null,null,null,null,null,null,30,"産業用以外の蒸気_化石","GJ",0,0,0]
[null,null,null,null,null,"昼間買電量\n(千kWh)",null,null,{"$f":"IF(COUNTBLANK(V42:V46)=10,\"\",V47)","v":""},null,{"$f":"I34","v":""},"千kWh",{"$f":"IFERROR(IF(K34=\"\",\"\",$K34*R34),\"-------------\")","v":""},{"$f":"IF(COUNTBLANK(V42:W46)=10,\"\",Z47)","v":""},null,"電気事業者_昼間買電","電気事業者_昼間買電",{"$f":"IF($T$1=2022,VLOOKUP($P34,係数2022,7,0),VLOOKUP($Q34,係数2023,7,0))","v":8.64},null,null,"その他の名称","換算係数","排出係数",null,null,null,null,null,null,null,null,null,null,null,null,null,null,null,31,"温水_化石","GJ",0,0,0]
[null,null,"電",null,null,"夜間買電量\n(千kWh)",null,null,{"$f":"IF(COUNTBLANK(V42:V46)=10,\"\",W47)","v":""},null,"","千kWh",{"$f":"IFERROR(IF(K35=\"\",\"\",$K35*R35),\"-------------\")","v":""},{"$f":"IF(COUNTBLANK(V42:W46)=10,\"\",AA47)","v":""},null,"電気事業者_夜間買電","電気事業者_夜間買電",8.64,null,null,null,null,null,null,null,null,null,null,null,null,null,null,null,null,null,null,null,null,32,"冷水_化石","GJ",0,0,{"$f":"COUNTIF($AT$4:$AT$10,AN35)","v":0}]
[null,null,null,null,null,"うち非化石",null,null,{"$f":"IF($T$1=2022,\"----------\",IF(COUNTBLANK(V42:W46)=10,\"\",SUMPRODUCT(V42:V46,X42:X46)+SUMPRODUCT(W42:W46,X42:X46)))","v":""},null,{"$f":"IF($T$1=2022,\"----------\",I36)","v":""},"千kWh",{"$f":"IF($T$1=2022,\"----------\",IF(M33<>\"\",K36*R36,\"\"))","v":""},null,null,null,"自己託送以外_電気事業者からの買電_非化石分",8.64,null,null,null,null,null,null,null,null,null,null,null,null,null,null,null,null,null,null,null,null,33,"黒液","t",0,0,{"$f":"COUNTIF($AT$4:$AT$10,AN36)","v":0}]
[null,null,null,"上記以外の買電",null,null,null,null,{"$f":"IF(COUNTBLANK(W51:W53)+COUNTBLANK(W57:W58)=5,\"\",W59)","v":""},null,{"$f":"I37","v":""},"千kWh",{"$f":"IF(K37=\"\",\"\",K37*R37)","v":""},{"$f":"IF(I37=\"\",\"\",SUMPRODUCT(W51:W53,Y51:Y53)+SUMPRODUCT(W57:W58,Y57:Y58))","v":""},null,"その他買電","その他買電",8.64,null,null,"その他の名称","換算係数",null,null,null,null,null,null,null,null,null,null,null,null,null,null,null,null,34,"木材","t",0,0,{"$f":"COUNTIF($AT$4:$AT$10,AN37)","v":0}]
[null,null,"気",null,null,"うち非化石",null,null,{"$f":"IF($T$1=2022,\"----------\",IF(COUNTBLANK(W51:W53)+COUNTBLANK(W57:W58)=5,\"\",SUMPRODUCT(W51:W58,X51:X58)))","v":""},null,{"$f":"IF($T$1=2022,\"----------\",I38)","v":""},"千kWh",{"$f":"IF($T$1=2022,\"----------\",IF(COUNTBLANK(W51:W53)+COUNTBLANK(W57:W58)=5,\"\",SUM(AB59)*X59))","v":""},null,null,null,"その他買電",8.64,null,null,null,null,null,null,null,null,null,null,null,null,null,null,null,null,null,null,null,null,35,"木質廃材","t",0,0,0]
[null,null,null,"自家発電\n買電",null,null,null,null,null,{"$f":"IF(V63=\"\",\"\",SUM(V63))","v":""},{"$f":"IF(J39=\"\",\"\",-SUM(J39))","v":""},"千kWh",{"$f":"IF(K39=\"\",\"\",$K39*W63)","v":""},{"$f":"IF(J39=\"\",\"\",-SUM(Y63))","v":""},null,null,null,null,null,null,null,null,null,null,null,null,null,null,null,null,null,null,null,null,null,null,null,null,36,"バイオエタノール","kl",0,0,0]
[null,null,null,"自家消費した非化石電気",null,null,null,null,{"$f":"IF($T$1=2022,\"----------\",IF(COUNTBLANK(V67:V70)=4,\"\",V71))","v":""},null,{"$f":"IF($T$1=2022,\"----------\",IF(I40=\"\",\"\",SUM(I40)))","v":""},"千kWh",{"$f":"IF($T$1=2022,\"----------\",IF(COUNTBLANK(V67:V70)=4,\"\",K40*3.6))","v":""},null,null,null,null,null,null,null,"電気事業者からの買電\n電気事業者名","昼間買電量\n(千kWh)","夜間買電量\n(千kWh)","うち非化石(%)\n（任意入力）","排出係数\n(tCO2/千kWh)","昼間排出量\n(t-CO2)","夜間排出量\n(t-CO2)",null,null,null,null,null,null,null,null,null,null,null,37,"バイオディーゼル","kl",0,0,{"$f":"COUNTIF($AT$4:$AT$10,AN40)","v":0}]
[null,null,null,null,null,"うち非化石    小　計",null,null,{"$f":"IF($T$1=2022,\"----------\",SUM(I36,I38,I40))","v":0},null,{"$f":"IF($T$1=2022,\"----------\",SUM(K36,K38,K40))","v":0},"千kWh",{"$f":"IF($T$1=2022,\"----------\",IF(K41=\"\",\"\",SUM(M36,M38,M40)))","v":0},null,{"$f":"IF($T$1=2022,\"----------\",M41)","v":0},null,null,null,null,null,null,null,null,null,null,null,null,null,null,null,null,null,null,null,null,null,null,null,38,"バイオガス","千㎥",0,0,0]
[null,null,"小　　　　　計",null,null,null,null,null,{"$f":"SUM(I33,I37,I39,I40)","v":0},{"$f":"SUM(J39)","v":0},{"$f":"SUM(K33,K37,K39,K40)","v":0},"千kWh",{"$f":"SUM(M33,M37,M39,M40)","v":0},{"$f":"SUM(N33,N37,N39)","v":0},null,null,null,null,null,null,null,{"$f":"'計算シート（第１～第３年度）'!Q13","v":""},{"$f":"'計算シート（第１～第３年度）'!Q14","v":""},null,null,{"$f":"IF(OR(U42=\"\",V42=\"\"),\"\",V42*Y42)","v":""},{"$f":"IF(OR(U42=\"\",W42=\"\"),\"\",W42*Y42)","v":""},null,null,null,null,null,null,null,null,null,null,null,39,"その他バイオマス","t",0,0,0]
[null,null,null,null,null,null,null,null,null,null,null,null,null,null,null,null,null,null,null,null,null,{"$f":"'計算シート（第１～第３年度）'!Q15","v":""},{"$f":"'計算シート（第１～第３年度）'!Q16","v":""},null,null,{"$f":"IF(OR(U43=\"\",V43=\"\"),\"\",V43*Y43)","v":""},{"$f":"IF(OR(U43=\"\",W43=\"\"),\"\",W43*Y43)","v":""},null,null,null,null,null,null,null,null,null,null,null,40,"RDF","t",0,0,0]
[null,null,"２．エネルギー起源二酸化炭素（CO2）以外の温室効果ガス排出量",null,null,null,null,null,null,null,null,null,null,null,null,null,null,null,null,null,null,{"$f":"'計算シート（第１～第３年度）'!Q17","v":""},{"$f":"'計算シート（第１～第３年度）'!Q18","v":""},null,null,"","",null,null,null,null,null,null,null,null,null,null,null,41,"RPF","t",0,0,0]
[null,null,"温室効果ガスの種類",null,null,null,"排出量\n(t-CO2)",null,null,null,null,null,null,null,null,null,null,null,null,null,null,{"$f":"'計算シート（第１～第３年度）'!Q19","v":""},{"$f":"'計算シート（第１～第３年度）'!Q20","v":""},null,null,"","",null,null,null,null,null,null,null,null,null,null,null,42,"廃タイヤ","t",0,0,0]
[null,null,null,null,null,null,null,null,null,null,null,null,null,null,null,null,null,null,null,null,null,{"$f":"'計算シート（第１～第３年度）'!Q21","v":""},{"$f":"'計算シート（第１～第３年度）'!Q22","v":""},null,null,"","",null,null,null,null,null,null,null,null,null,null,null,43,"廃プラスチック_一般廃棄物","t",0,0,0]
[null,null,"非エネルギー起源二酸化炭素（CO2）",null,null,null,null,null,null,null,null,null,null,null,null,null,null,null,null,null,"合計",{"$f":"IF(COUNTBLANK(V42:V46)=5,\"\",SUM(V42:V46))","v":""},{"$f":"IF(COUNTBLANK(W42:W46)=5,\"\",SUM(W42:W46))","v":""},{"$f":"IF(SUM(V47,W47)=0,0,SUM(SUMPRODUCT(V42:V46,X42:X46),SUMPRODUCT(W42:W46,X42:X46))/SUM(V47,W47))","v":0},null,{"$f":"SUM(Z42:Z46)","v":0},{"$f":"SUM(AA42:AA46)","v":0},null,null,null,null,null,null,null,null,null,null,null,44,"廃プラスチック_産業廃棄物","t",0,0,0]
[null,null,"メタン（CH4）",null,null,null,null,null,null,null,null,null,null,null,null,null,null,null,null,null,null,null,null,null,null,null,null,null,null,null,null,null,null,null,null,null,null,null,45,"廃油","kl",0,0,0]
[null,null,"一酸化二窒素（N2O）",null,null,null,null,null,null,null,null,null,null,null,null,null,null,null,null,null,"上記以外の買電",null,"買電量\n(千kWh)","うち非化石(%)\n（任意入力）","排出係数\n(tCO2/千kWh)","排出量\n(t-CO2)","換算係数\n(GJ/千ｋWh)","熱量\n(GJ)",null,null,null,null,null,null,null,null,null,null,46,"廃棄物ガス","千㎥",0,0,0]
[null,null,"ハイドロフルオロカーボン（HFC）",null,null,null,null,null,null,null,null,null,null,null,null,null,null,null,null,null,null,null,null,null,null,null,null,null,null,null,null,null,null,null,null,null,null,null,47,"混合廃材","t",0,0,0]
[null,null,"パーフルオロカーボン（PFC）",null,null,null,null,null,null,null,null,null,null,null,null,null,null,null,null,null,"オフサイト型PPA",null,null,1,null,{"$f":"IF(W51=\"\",\"\",W51*Y51)","v":""},3.6,{"$f":"IF(W51=\"\",\"\",W51*AA51)","v":""},null,null,null,null,null,null,null,null,null,null,48,"水素","t",0,0,0]
[null,null,"六フッ化硫黄（SF6）",null,null,null,null,null,null,null,null,null,null,null,null,null,null,null,null,null,"自己託送（非燃料由来の非化石電気）",null,null,1,null,{"$f":"IF(W52=\"\",\"\",W52*Y52)","v":""},3.6,{"$f":"IF(W52=\"\",\"\",W52*AA52)","v":""},null,null,null,null,null,null,null,null,null,null,49,"アンモニア","t",0,0,0]
[null,null,"三フッ化窒素（NF3）",null,null,null,null,null,null,null,null,null,null,null,null,null,null,null,null,null,"上記以外の自己託送",null,null,null,null,{"$f":"IF(W53=\"\",\"\",W53*Y53)","v":""},8.64,"",null,null,null,null,null,null,null,null,null,null,50,"産業用蒸気_非化石","GJ",0,0,0]
[null,null,"合　　　　計",null,null,null,{"$f":"IF(COUNTBLANK(G47:G53)=7,\"\",SUM(G47:G53))","v":""},null,null,null,null,null,null,null,null,null,null,null,null,null,null,null,null,null,null,null,null,null,null,null,null,null,null,null,null,null,null,null,51,"産業用以外の蒸気_非化石","GJ",0,0,0]
[null,null,null,null,null,null,null,null,null,null,null,null,null,null,null,null,null,null,null,null,null,"名称","買電量\n(千kWh)","うち非化石(%)\n（任意入力）","排出係数\n(tCO2/千kWh)","排出量\n(t-CO2)","換算係数\n(GJ/千ｋWh)","熱量\n(GJ)",null,null,null,null,null,null,null,null,null,null,52,"温水_非化石","GJ",0,0,0]
[null,null,"３．クレジット等による削減量",null,null,null,null,null,null,null,null,null,null,null,null,null,null,null,null,null,"その他買電",null,null,null,null,null,null,null,null,null,null,null,null,null,null,null,null,null,53,"冷水_非化石","GJ",0,0,0]
[null,null,"クレジット等の種類",null,null,null,"排出量\n(t-CO2)",null,null,null,null,null,null,null,null,null,null,null,null,null,null,null,null,null,null,{"$f":"IF(W57=\"\",\"\",W57*Y57)","v":""},8.64,{"$f":"W57*AA57","v":0},null,null,null,null,null,null,null,null,null,null,54,"地熱","GJ",0,0,0]
[null,null,null,null,null,null,null,null,null,null,null,null,null,null,null,null,null,null,null,null,null,null,null,null,null,"",8.64,{"$f":"W58*AA58","v":0},null,null,null,null,null,null,null,null,null,null,55,"温泉熱","GJ",0,0,0]
[null,null,null,null,null,null,null,null,null,null,null,null,null,null,null,null,null,null,null,null,"合計",null,{"$f":"SUM(W51:W53,W57:W58)","v":0},{"$f":"IF(W59=0,0,(SUMPRODUCT(W57:W58,X57:X58)+SUMPRODUCT(X51:X53,W51:W53))/W59)","v":0},null,{"$f":"SUM(Z51:Z53,Z57:Z58)","v":0},null,{"$f":"SUM(AB51:AB53,AB57:AB58)","v":0},null,null,null,null,null,null,null,null,null,null,56,"太陽熱","GJ",0,0,0]
[null,null,null,null,null,null,null,null,null,null,null,null,null,null,null,null,null,null,null,null,null,null,null,null,null,null,null,null,null,null,null,null,null,null,null,null,null,null,57,"雪氷熱","GJ",0,0,0]
[null,null,null,null,null,null,null,null,null,null,null,null,null,null,null,null,null,null,null,null,null,"売電量\n(千kWh)","換算係数\n(GJ/千ｋWh)","排出係数\n(tCO2/千kWh)","排出量\n(t-CO2)"]
[]
[null,null,null,null,null,null,null,null,null,null,null,null,null,null,null,null,null,null,null,null,"自家発電",null,null,null,{"$f":"IF(V63=\"\",\"\",V63*X63)","v":""}]
[]
[null,null,null,null,null,null,null,null,null,null,null,null,null,null,null,null,null,null,null,null,"自家消費した非化石電気","使用量\n(千kWh)","換算係数\n(GJ/千ｋWh)"]
[null,null,"合　　　　計",null,null,null,{"$f":"IF(COUNTBLANK(G59:G65)=7,\"\",SUM(G59:G65))","v":""}]
[null,null,null,null,null,null,null,null,null,null,null,null,null,null,null,null,null,null,null,null,"太陽光",null,3.6]
[null,null,"４．原単位の指標",null,null,null,null,null,null,null,null,null,null,null,null,null,null,null,null,null,"水力",null,3.6]
[null,null,"原単位の指標（分母）",null,null,null,null,null,null,null,null,null,null,null,null,null,null,null,null,null,"風力",null,3.6]
[null,null,null,null,null,null,null,null,null,null,null,null,null,null,null,null,null,null,null,null,"その他（非燃料由来の非化石）",null,3.6]
[null,null,"名称",null,null,null,{"$f":"'事業所排出量内訳 (基準年度)'!G71&\"\"","v":""},null,null,null,null,null,null,null,null,null,null,null,null,null,"合計",{"$f":"SUM(V67:V70)","v":0}]
[null,null,"単位",null,null,null,{"$f":"'事業所排出量内訳 (基準年度)'!G72&\"\"","v":""}]
[null,null,"数値"]

{"sheet":"事業所排出量内訳 (第2年度)","index":16,"n_rows":73,"n_cols":54,"rows_kept":73,"cut":false,"hidden":true,"merged":[[0,9,0,10],[3,8,4,8],[3,9,4,9],[3,10,4,10],[3,11,4,11],[3,12,4,12],[13,4,13,7],[13,20,14,20],[13,21,14,22],[14,4,14,7],[3,2,4,7],[14,23,14,24],[15,4,15,7],[3,13,4,13],[7,20,8,20],[7,21,8,22],[8,23,8,24],[9,23,9,24],[12,4,12,7],[16,4,16,7],[17,4,17,7],[18,4,18,7],[19,4,19,7],[21,2,21,7],[22,2,28,2],[22,3,22,7],[23,3,23,7],[24,3,24,7],[25,3,25,7],[26,3,26,7],[26,22,26,23],[27,3,27,7],[29,2,29,7],[30,8,31,8],[30,9,31,9],[30,10,31,10],[30,11,31,11],[30,12,31,12],[30,13,31,13],[30,2,31,7],[39,24,40,24],[39,25,40,25],[39,26,40,26],[41,2,41,7],[44,2,45,5],[44,6,45,7],[33,5,33,7],[34,5,34,7],[39,20,40,20],[39,21,40,21],[39,22,40,22],[39,23,40,23],[48,24,49,24],[48,25,49,25],[48,26,49,26],[48,27,49,27],[49,6,49,7],[50,6,50,7],[46,6,46,7],[47,6,47,7],[48,6,48,7],[48,20,49,21],[48,22,49,22],[48,23,49,23],[54,25,55,25],[54,26,55,26],[54,27,55,27],[51,6,51,7],[51,20,51,21],[52,6,52,7],[53,2,53,5],[53,6,53,7],[54,21,55,21],[56,2,57,5],[56,6,57,7],[58,2,58,5],[58,6,58,7],[59,2,59,5],[59,6,59,7],[54,22,55,22],[54,23,55,23],[54,24,55,24],[64,22,65,22],[65,2,65,5],[65,6,65,7],[60,24,61,24],[61,2,61,5],[61,6,61,7],[62,2,62,5],[62,6,62,7],[63,2,63,5],[63,6,63,7],[60,2,60,5],[60,6,60,7],[60,20,61,20],[60,21,61,21],[60,23,61,23],[60,22,61,22],[124,20,125,21],[68,2,69,7],[70,2,70,5],[70,6,70,7],[71,2,71,5],[71,6,71,7],[72,2,72,5],[72,6,72,7],[64,2,64,5],[64,6,64,7],[64,20,65,20],[64,21,65,21]]}
[null,null,"温室効果ガス排出量内訳",null,null,null,null,null,"第２年度",{"$f":"\"（\"&はじめに!E4+2&\"年度）\"","v":"（2年度）"},null,null,null,null,null,null,null,null,null,{"$f":"はじめに!E4+2","v":2},null,null,null,null,null,null,null,null,null,null,null,null,null,null,null,null,null,null,null,null,null,null,null,null,null,null,null,null,{"$f":"IF(T1=2022,AZ1,AZ2)","v":"一般その他化石2023"},{"$f":"IF(T1=2022,BB1,BB2)","v":"一般その他非化石2023"},null,"一般その他化石2022",null,"一般その他非化石2022"]
[null,null,null,null,null,null,null,null,null,null,null,null,null,{"$f":"はじめに!E4","v":0},null,null,null,null,null,null,null,null,null,null,null,null,null,null,null,null,null,null,null,2022,null,null,null,null,null,2023,null,null,null,null,null,null,null,null,null,null,null,"一般その他化石2023",null,"一般その他非化石2023"]
[null,null,"１．エネルギー起源二酸化炭素（CO2）排出量",null,null,null,null,null,null,null,null,null,null,null,null,null,null,null,null,null,"１．エネルギー起源二酸化炭素（CO2）排出量",null,null,null,null,null,null,null,null,null,null,null,null,null,"単位",null,null,null,null,null,"単位"]
[null,null,"燃料の種類",null,null,null,null,null,"使用量","外部\n供給量","実使用量","単位","熱量\n(GJ)","排出量\n(t-CO2)",null,null,null,{"$f":"IF(V4=0,0,1)","v":0},null,null,"熱量合計",{"$f":"SUM(M22,M30,M42)","v":0},"GJ",null,null,null,null,null,null,null,null,null,1,"揮発油","kl",{"$f":"SUMIFS($I$13:$I$19,$E$13:$E$19,$AN4)","v":0},{"$f":"SUMIFS($J$13:$J$19,$E$13:$E$19,$AN4)","v":0},null,1,"揮発油","kl",{"$f":"SUMIFS($I$13:$I$19,$E$13:$E$19,$AN4)","v":0},{"$f":"SUMIFS($J$13:$J$19,$E$13:$E$19,$AN4)","v":0},{"$f":"COUNTIF($AT$4:$AT$10,AN4)","v":1},null,"揮発油"]
[null,null,null,null,null,null,null,null,null,null,null,null,null,null,null,"エネルギー名称区分2022","エネルギー名称区分2023","単位発熱量","炭素排出係数",null,"原油換算",{"$f":"V4*0.0258","v":0},"KL",null,null,null,null,null,null,null,null,null,2,"灯油","t",0,0,null,2,"灯油","t",0,0,1,null,"灯油"]
[null,null,null,"揮発油（ガソリン）",null,null,null,null,{"$f":"'計算シート（第１～第３年度）'!Q26","v":""},null,{"$f":"IF(AND(I6=\"\",J6=\"\"),\"\",SUM(I6)-SUM(J6))","v":""},"kl",{"$f":"IFERROR(IF(K6=\"\",\"\",$K6*R6),\"-------------\")","v":""},{"$f":"IFERROR(IF(K6=\"\",\"\",$M6*S6*44/12),\"----------\")","v":""},null,"揮発油","揮発油",{"$f":"IF($T$1=2022,VLOOKUP(P6,係数2022,7,0),VLOOKUP(Q6,係数2023,7,0))","v":33.4},{"$f":"IF($T$1=2022,VLOOKUP(P6,係数2022,9,0),VLOOKUP(Q6,係数2023,9,0))","v":1.8700000000000001E-2},null,"排出量合計",{"$f":"ROUNDDOWN(SUM(N22,N30,N42),1)","v":0},"t-CO2",null,null,null,null,null,null,null,null,null,3,"軽油","千Nm3",0,0,null,3,"軽油","千Nm3",0,0,1,null,"軽油"]
[null,null,null,"灯油",null,null,null,null,{"$f":"'計算シート（第１～第３年度）'!Q27","v":""},null,{"$f":"IF(AND(I7=\"\",J7=\"\"),\"\",SUM(I7)-SUM(J7))","v":""},"kl","","",null,"灯油","灯油",36.5,1.8700000000000001E-2,null,null,null,null,null,null,null,null,null,null,null,null,null,4,"Ａ重油","kl",0,0,null,4,"Ａ重油","kl",0,0,1,null,"Ａ重油"]
[null,null,null,"軽油",null,null,null,null,{"$f":"'計算シート（第１～第３年度）'!Q28","v":""},null,"","kl","","",null,"軽油","軽油",{"$f":"IF($T$1=2022,VLOOKUP(P8,係数2022,7,0),VLOOKUP(Q8,係数2023,7,0))","v":38},1.8800000000000001E-2,null,"燃料等の種類","熱量内訳",null,null,null,null,null,null,null,null,null,null,5,"Ｂ・Ｃ重油","kl",0,0,null,5,"Ｂ・Ｃ重油","kl",0,0,1,null,"Ｂ・Ｃ重油"]
[null,null,null,"Ａ重油",null,null,null,null,{"$f":"'計算シート（第１～第３年度）'!Q29","v":""},null,"","kl","","",null,"Ａ重油","Ａ重油",38.9,1.9300000000000001E-2,null,null,null,null,"うち非化石熱量",null,"非化石割合",null,null,null,null,null,null,6,"液化石油ガス     (LPG)","t",0,0,null,6,"液化石油ガス     (LPG)","t",0,0,1,null,"液化石油ガス     (LPG)"]
[null,null,"化","Ｂ・Ｃ重油",null,null,null,null,{"$f":"'計算シート（第１～第３年度）'!Q30","v":""},null,"","kl","","",null,"Ｂ・Ｃ重油","Ｂ・Ｃ重油",41.8,2.0199999999999999E-2,null,"化石燃料・熱",{"$f":"M22","v":0},"GJ",null,null,null,null,null,null,null,null,null,7,"都市ガス","千Nm3",0,0,null,7,"都市ガス","千Nm3",0,0,1,null,"都市ガス"]
[null,null,"石","液化石油ガス     (LPG)",null,null,null,null,{"$f":"'計算シート（第１～第３年度）'!Q31","v":""},null,"","t","","",null,"液化石油ガス     (LPG)","液化石油ガス     (LPG)",50.1,1.6299999999999999E-2,null,"非化石燃料・非化石熱",{"$f":"IF(T1=2022,\"-------------------\",SUM(M30))","v":0},"GJ",{"$f":"V11","v":0},"GJ",{"$f":"IF(T1=2022,\"---------------\",IF(V11<>0,X11/V11,\"---------------\"))","v":"---------------"},null,null,null,null,null,null,8,"原油（コンデンセートを除く。）","kl",0,0,null,8,"原油（コンデンセートを除く。）","kl",0,0,0]
[null,null,"燃","都市ガス",null,null,null,null,{"$f":"'計算シート（第１～第３年度）'!Q32","v":""},null,"","千m3","","",null,"都市ガス","都市ガス",45,1.4E-2,null,"熱量合計（電気以外）",{"$f":"SUM(V10:V11)","v":0},"GJ",{"$f":"IF($T$1=2022,\"-------------------\",SUM(X11,X10))","v":0},"GJ",{"$f":"IF($T$1=2022,\"---------------\",IF(X12=0,0,X12/V12))","v":0},null,null,null,null,null,null,9,"原油のうちコンデンセート(NGL)","kl",0,0,null,9,"原油のうちコンデンセート(NGL)","kl",0,0,0]
[null,null,"料",null,null,null,null,null,null,null,{"$f":"IF(AND(I13=\"\",J13=\"\"),\"\",SUM(I13)-SUM(J13))","v":""},{"$f":"IF(E13=\"\",\"\",IF($T$1=2022,VLOOKUP(E13,係数2022,6,0),VLOOKUP(E13,係数2023,6,0)))","v":""},{"$f":"IFERROR(IF(K13=\"\",\"\",$K13*R13),\"----------\")","v":""},"",null,null,null,{"$f":"IF($T$1=2022,VLOOKUP(E13,係数2022,7,0),VLOOKUP(E13,係数2023,7,0))","v":{"$error":"#N/A"}},{"$f":"IF($T$1=2022,VLOOKUP(E13,係数2022,9,0),VLOOKUP(E13,係数2023,9,0))","v":{"$error":"#N/A"}},null,null,null,null,null,null,null,null,null,null,null,null,null,10,"ナフサ","kl",0,0,null,10,"ナフサ","kl",0,0,0]
[null,null,"・",null,null,null,null,null,null,null,{"$f":"IF(AND(I14=\"\",J14=\"\"),\"\",SUM(I14)-SUM(J14))","v":""},{"$f":"IF(E14=\"\",\"\",IF($T$1=2022,VLOOKUP(E14,係数2022,6,0),VLOOKUP(E14,係数2023,6,0)))","v":""},{"$f":"IFERROR(IF(K14=\"\",\"\",$K14*R14),\"----------\")","v":""},"",null,null,null,{"$error":"#N/A"},{"$error":"#N/A"},null,"燃料等の種類","電気使用量",null,null,null,null,null,null,null,null,null,null,11,"ジェット燃料油","kl",0,0,null,11,"ジェット燃料油","kl",0,0,0]
[null,null,"熱",null,null,null,null,null,null,null,"",{"$f":"IF(E15=\"\",\"\",IF($T$1=2022,VLOOKUP(E15,係数2022,6,0),VLOOKUP(E15,係数2023,6,0)))","v":""},{"$f":"IFERROR(IF(K15=\"\",\"\",$K15*R15),\"----------\")","v":""},"",null,null,null,{"$error":"#N/A"},{"$error":"#N/A"},null,null,null,null,"うち非化石電気使用量",null,"非化石割合",null,null,null,null,null,null,12,"石油アスファルト","kl",0,0,null,12,"石油アスファルト","kl",0,0,0]
[null,null,null,"そ",null,null,null,null,null,null,"",{"$f":"IF(E16=\"\",\"\",IF($T$1=2022,VLOOKUP(E16,係数2022,6,0),VLOOKUP(E16,係数2023,6,0)))","v":""},{"$f":"IFERROR(IF(K16=\"\",\"\",$K16*R16),\"----------\")","v":""},"",null,null,null,{"$error":"#N/A"},{"$error":"#N/A"},null,"電気",{"$f":"K42","v":0},"kWh ",{"$f":"K41","v":0},"kWh ",{"$f":"IF($T$1=2022,\"----------\",IF(V16=0,0,X16/V16))","v":0},null,null,null,null,null,null,13,"石油コークス","kl",0,0,null,13,"石油コークス","kl",0,0,0]
[null,null,null,"の",null,null,null,null,null,null,"",{"$f":"IF(E17=\"\",\"\",IF($T$1=2022,VLOOKUP(E17,係数2022,6,0),VLOOKUP(E17,係数2023,6,0)))","v":""},"","",null,null,null,{"$error":"#N/A"},{"$error":"#N/A"},null,null,null,null,null,null,null,null,null,null,null,null,null,14,"石油系炭化水素ガス","t",0,0,null,14,"石油系炭化水素ガス","t",0,0,0]
[null,null,null,"他","産業用以外の蒸気",null,null,null,null,null,"","GJ","",{"$f":"IF(K18=\"\",\"\",\n      IF($T$1=2022,K18*S18,\n                  IF(OR(W30=\"\",K18=\"\"),\"\",K18*W30)))","v":""},null,"産業用以外の蒸気","産業用以外の蒸気_化石",{"$f":"IF($T$1=2022,VLOOKUP(P18,係数2022,7,0),VLOOKUP(Q18,係数2023,7,0))","v":1.19},{"$f":"IF($T$1=2022,VLOOKUP(P18,係数2022,9,0),VLOOKUP(Q18,係数2023,9,0))","v":"ー"},null,"２．エネルギー起源二酸化炭素（CO2）以外の温室効果ガス排出量",null,null,null,null,null,null,null,null,null,null,null,15,"液化天然ガス     (LNG)","千Nm3",0,0,null,15,"液化天然ガス     (LNG)","千Nm3",0,0,0]
[null,null,null,null,"温水",null,null,null,null,null,"","GJ",{"$f":"IFERROR(IF(K19=\"\",\"\",$K19*R19),\"----------\")","v":""},{"$f":"IF(K19=\"\",\"\",\n      IF($T$1=2022,K19*S19,\n                  IF(OR(W31=\"\",K19=\"\"),\"\",K19*W31)))","v":""},null,"温水","温水_化石",{"$f":"IF($T$1=2022,VLOOKUP(P19,係数2022,7,0),VLOOKUP(Q19,係数2023,7,0))","v":1.19},"ー",null,"排出量合計",{"$f":"SUM(G54)","v":0},"t-CO2",null,null,null,null,null,null,null,null,null,16,"その他可燃性天然ガス","t",0,0,null,16,"その他可燃性天然ガス","t",0,0,0]
[null,null,null,null,"冷水",null,null,null,null,null,"","GJ",{"$f":"IFERROR(IF(K20=\"\",\"\",$K20*R20),\"----------\")","v":""},{"$f":"IF(K20=\"\",\"\",\n      IF($T$1=2022,K20*S20,\n                  IF(OR(W32=\"\",K20=\"\"),\"\",K20*W32)))","v":""},null,"冷水","冷水_化石",1.19,"ー",null,null,null,null,null,null,null,null,null,null,null,null,null,17,"原料炭","t",0,0,null,17,"輸入原料炭","t",0,0,0]
[null,null,null,null,{"$f":"\"その他（\"&U35&\"）\"","v":"その他（）"},null,null,null,null,null,{"$f":"IF(AND(I21=\"\",J21=\"\"),\"\",SUM(I21)-SUM(J21))","v":""},null,null,null,null,null,null,null,null,null,"３．クレジット等による削減量",null,null,null,null,null,null,null,null,null,null,null,18,"一般炭","t",{"$f":"SUMIFS($I$13:$I$19,$E$13:$E$19,$AV25)","v":0},{"$f":"SUMIFS($J$13:$J$19,$E$13:$E$19,$AV25)","v":0},null,18,"コークス用原料炭","t",0,0,0]
[null,null,"小　　　　　計",null,null,null,null,null,"－","－","－","－",{"$f":"SUM(M6:M21)","v":0},{"$f":"SUM(N6:N21)","v":0},null,null,null,null,null,null,"削減量合計",{"$f":"SUM(G66)","v":0},"t-CO2",null,null,null,null,null,null,null,null,null,19,"無煙炭","t",{"$f":"SUMIFS($I$13:$I$19,$E$13:$E$19,$AV26)","v":0},{"$f":"SUMIFS($J$13:$J$19,$E$13:$E$19,$AV26)","v":0},null,19,"吹込用原料炭","t",0,0,0]
[null,null,"非化石燃料・\n非化石熱",null,null,null,null,null,null,null,{"$f":"IF(AND(I23=\"\",J23=\"\"),\"\",SUM(I23)-SUM(J23))","v":""},{"$f":"IF(D23=\"\",\"\",IF($T$1=2022,\"----------\",VLOOKUP(D23,係数2023,6,0)))","v":""},{"$f":"IFERROR(IF(K23=\"\",\"\",$K23*R23),\"-------------\")","v":""},{"$f":"IFERROR(IF(K23=\"\",\"\",$M23*S23*44/12),\"----------\")","v":""},null,null,null,{"$f":"IF($T$1=2022,VLOOKUP(D23,係数2022,7,0),VLOOKUP(D23,係数2023,7,0))","v":{"$error":"#N/A"}},{"$f":"IF($T$1=2022,VLOOKUP(D23,係数2022,9,0),VLOOKUP(D23,係数2023,9,0))","v":{"$error":"#N/A"}},null,null,null,null,null,null,null,null,null,null,null,null,null,20,"石炭コークス","t",{"$f":"SUMIFS($I$13:$I$19,$E$13:$E$19,$AN26)","v":0},{"$f":"SUMIFS($J$13:$J$19,$E$13:$E$19,$AN26)","v":0},null,20,"輸入一般炭","t",0,0,0]
[null,null,null,null,null,null,null,null,null,null,"","","","",null,null,null,{"$error":"#N/A"},{"$error":"#N/A"},null,"温室効果ガス総排出量",{"$f":"V6+V19-V22","v":0},"t-CO2",null,null,null,null,null,null,null,null,null,21,"コールタール","t",{"$f":"SUMIFS($I$13:$I$19,$E$13:$E$19,$AN27)","v":0},{"$f":"SUMIFS($J$13:$J$19,$E$13:$E$19,$AN27)","v":0},null,21,"国産一般炭","t",0,0,0]
[null,null,null,null,null,null,null,null,null,null,"","","","",null,null,null,{"$error":"#N/A"},{"$error":"#N/A"},null,null,null,null,null,null,null,null,null,null,null,null,null,22,"コークス炉ガス","t",{"$f":"SUMIFS($I$13:$I$19,$E$13:$E$19,$AN28)","v":0},{"$f":"SUMIFS($J$13:$J$19,$E$13:$E$19,$AN28)","v":0},null,22,"輸入無煙炭","t",0,0,0]
[null,null,null,null,null,null,null,null,null,null,"","","",{"$f":"IFERROR(IF(K26=\"\",\"\",$M26*S26*44/12),\"----------\")","v":""},null,null,null,{"$error":"#N/A"},{"$error":"#N/A"},null,"４．原単位の指標",null,null,null,null,null,null,null,null,null,null,null,23,"高炉ガス","千Nm3",{"$f":"SUMIFS($I$13:$I$19,$E$13:$E$19,$AN29)","v":0},{"$f":"SUMIFS($J$13:$J$19,$E$13:$E$19,$AN29)","v":0},null,23,"石炭コークス","t",0,0,0]
[null,null,null,null,null,null,null,null,null,null,"","","","",null,null,null,{"$error":"#N/A"},{"$error":"#N/A"},null,"排出原単位",{"$f":"IF(V24=\"\",\"\",IFERROR(ROUND(V24/G73,3-INT(LOG(V24/G73))),))","v":0},{"$f":"\"t-CO2/\"&G72","v":"t-CO2/"},null,null,null,null,null,null,null,null,null,24,"転炉ガス","GJ",{"$f":"SUMIFS($I$13:$I$19,$E$13:$E$19,$AN31)","v":0},{"$f":"SUMIFS($J$13:$J$19,$E$13:$E$19,$AN31)","v":0},null,24,"コールタール","t",0,0,0]
[null,null,null,null,null,null,null,null,null,null,"","","","",null,null,null,{"$error":"#N/A"},{"$error":"#N/A"},null,null,null,null,null,null,null,null,null,null,null,null,null,25,"産業用蒸気","GJ",{"$f":"SUMIFS($I$13:$I$19,$E$13:$E$19,$AN36)","v":0},{"$f":"SUMIFS($J$13:$J$19,$E$13:$E$19,$AN36)","v":0},null,25,"コークス炉ガス","t",0,0,0]
[null,null,null,{"$f":"\"その他（\"&U38&\"）\"","v":"その他（）"},null,null,null,null,null,null,"",null,null,null,null,null,null,null,null,null,"熱の種類","換算係数","排出係数",null,null,null,null,null,null,null,null,null,26,"産業用以外の蒸気","GJ",{"$f":"SUMIFS($I$13:$I$19,$E$13:$E$19,$AN37)","v":0},{"$f":"SUMIFS($J$13:$J$19,$E$13:$E$19,$AN37)","v":0},null,26,"高炉ガス","千Nm3",0,0,0]
[null,null,"小　　　　　計",null,null,null,null,null,"－","－","－","－",{"$f":"SUM(M23:M29)","v":0},{"$f":"SUM(N23:N29)","v":0},null,null,null,null,null,null,"産業用以外の蒸気",null,null,null,null,null,null,null,null,null,null,null,27,"温水","GJ",{"$f":"SUMIFS($I$13:$I$19,$E$13:$E$19,$AN38)","v":0},{"$f":"SUMIFS($J$13:$J$19,$E$13:$E$19,$AN38)","v":0},null,27,"発電用高炉ガス","千m3",0,0,0]
[null,null,"電気の種類",null,null,null,null,null,"使用量","外部\n供給量","実使用量","単位","熱量\n(GJ)","排出量\n(t-CO2)",null,null,null,null,null,null,"温水",null,null,null,null,null,null,null,null,null,null,null,28,"冷水","GJ",{"$f":"SUMIFS($I$13:$I$19,$E$13:$E$19,$AN39)","v":0},{"$f":"SUMIFS($J$13:$J$19,$E$13:$E$19,$AN39)","v":0},null,28,"転炉ガス","GJ",0,0,0]
[null,null,null,null,null,null,null,null,null,null,null,null,null,null,null,"エネルギー名称区分2022","エネルギー名称区分2023","単位発熱量","炭素排出係数",null,"冷水",null,null,null,null,null,null,null,null,null,null,null,29,"---------------",null,null,null,null,29,"産業用蒸気_化石","GJ",0,0,0]
[null,null,null,"電気事業者からの買電",null,null,null,null,{"$f":"IF(COUNTBLANK(V42:W46)=10,\"\",SUM(I34:I35))","v":""},null,{"$f":"I33","v":""},"千kWh",{"$f":"IF(COUNTBLANK(V42:W46)=10,\"\",SUM(M34,M35))","v":""},{"$f":"IF(COUNTBLANK(V42:W46)=10,\"\",SUM(N34,N35))","v":""},null,null,null,null,null,null,null,null,null,null,null,null,null,null,null,null,null,null,null,null,null,null,null,null,30,"産業用以外の蒸気_化石","GJ",0,0,0]
[null,null,null,null,null,"昼間買電量\n(千kWh)",null,null,{"$f":"IF(COUNTBLANK(V42:V46)=10,\"\",V47)","v":""},null,{"$f":"I34","v":""},"千kWh",{"$f":"IFERROR(IF(K34=\"\",\"\",$K34*R34),\"-------------\")","v":""},{"$f":"IF(COUNTBLANK(V42:W46)=10,\"\",Z47)","v":""},null,"電気事業者_昼間買電","電気事業者_昼間買電",{"$f":"IF($T$1=2022,VLOOKUP($P34,係数2022,7,0),VLOOKUP($Q34,係数2023,7,0))","v":8.64},null,null,"その他の名称","換算係数","排出係数",null,null,null,null,null,null,null,null,null,null,null,null,null,null,null,31,"温水_化石","GJ",0,0,0]
[null,null,"電",null,null,"夜間買電量\n(千kWh)",null,null,{"$f":"IF(COUNTBLANK(V42:V46)=10,\"\",W47)","v":""},null,"","千kWh",{"$f":"IFERROR(IF(K35=\"\",\"\",$K35*R35),\"-------------\")","v":""},{"$f":"IF(COUNTBLANK(V42:W46)=10,\"\",AA47)","v":""},null,"電気事業者_夜間買電","電気事業者_夜間買電",8.64,null,null,null,null,null,null,null,null,null,null,null,null,null,null,null,null,null,null,null,null,32,"冷水_化石","GJ",0,0,{"$f":"COUNTIF($AT$4:$AT$10,AN35)","v":0}]
[null,null,null,null,null,"うち非化石",null,null,{"$f":"IF($T$1=2022,\"----------\",IF(COUNTBLANK(V42:W46)=10,\"\",SUMPRODUCT(V42:V46,X42:X46)+SUMPRODUCT(W42:W46,X42:X46)))","v":""},null,{"$f":"IF($T$1=2022,\"----------\",I36)","v":""},"千kWh",{"$f":"IF($T$1=2022,\"----------\",IF(M33<>\"\",K36*R36,\"\"))","v":""},null,null,null,"自己託送以外_電気事業者からの買電_非化石分",8.64,null,null,null,null,null,null,null,null,null,null,null,null,null,null,null,null,null,null,null,null,33,"黒液","t",0,0,{"$f":"COUNTIF($AT$4:$AT$10,AN36)","v":0}]
[null,null,null,"上記以外の買電",null,null,null,null,{"$f":"IF(COUNTBLANK(W51:W53)+COUNTBLANK(W57:W58)=5,\"\",W59)","v":""},null,{"$f":"I37","v":""},"千kWh",{"$f":"IF(K37=\"\",\"\",K37*R37)","v":""},{"$f":"IF(I37=\"\",\"\",SUMPRODUCT(W51:W53,Y51:Y53)+SUMPRODUCT(W57:W58,Y57:Y58))","v":""},null,"その他買電","その他買電",8.64,null,null,"その他の名称","換算係数",null,null,null,null,null,null,null,null,null,null,null,null,null,null,null,null,34,"木材","t",0,0,{"$f":"COUNTIF($AT$4:$AT$10,AN37)","v":0}]
[null,null,"気",null,null,"うち非化石",null,null,{"$f":"IF($T$1=2022,\"----------\",IF(COUNTBLANK(W51:W53)+COUNTBLANK(W57:W58)=5,\"\",SUMPRODUCT(W51:W58,X51:X58)))","v":""},null,{"$f":"IF($T$1=2022,\"----------\",I38)","v":""},"千kWh",{"$f":"IF($T$1=2022,\"----------\",IF(COUNTBLANK(W51:W53)+COUNTBLANK(W57:W58)=5,\"\",SUM(AB59)*X59))","v":""},null,null,null,"その他買電",8.64,null,null,null,null,null,null,null,null,null,null,null,null,null,null,null,null,null,null,null,null,35,"木質廃材","t",0,0,0]
[null,null,null,"自家発電\n買電",null,null,null,null,null,{"$f":"IF(V63=\"\",\"\",SUM(V63))","v":""},{"$f":"IF(J39=\"\",\"\",-SUM(J39))","v":""},"千kWh",{"$f":"IF(K39=\"\",\"\",$K39*W63)","v":""},{"$f":"IF(J39=\"\",\"\",-SUM(Y63))","v":""},null,null,null,null,null,null,null,null,null,null,null,null,null,null,null,null,null,null,null,null,null,null,null,null,36,"バイオエタノール","kl",0,0,0]
[null,null,null,"自家消費した非化石電気",null,null,null,null,{"$f":"IF($T$1=2022,\"----------\",IF(COUNTBLANK(V67:V70)=4,\"\",V71))","v":""},null,{"$f":"IF($T$1=2022,\"----------\",IF(I40=\"\",\"\",SUM(I40)))","v":""},"千kWh",{"$f":"IF($T$1=2022,\"----------\",IF(COUNTBLANK(V67:V70)=4,\"\",K40*3.6))","v":""},null,null,null,null,null,null,null,"電気事業者からの買電\n電気事業者名","昼間買電量\n(千kWh)","夜間買電量\n(千kWh)","うち非化石(%)\n（任意入力）","排出係数\n(tCO2/千kWh)","昼間排出量\n(t-CO2)","夜間排出量\n(t-CO2)",null,null,null,null,null,null,null,null,null,null,null,37,"バイオディーゼル","kl",0,0,{"$f":"COUNTIF($AT$4:$AT$10,AN40)","v":0}]
[null,null,null,null,null,"うち非化石    小　計",null,null,{"$f":"IF($T$1=2022,\"----------\",SUM(I36,I38,I40))","v":0},null,{"$f":"IF($T$1=2022,\"----------\",SUM(K36,K38,K40))","v":0},"千kWh",{"$f":"IF($T$1=2022,\"----------\",IF(K41=\"\",\"\",SUM(M36,M38,M40)))","v":0},null,null,null,null,null,null,null,null,null,null,null,null,null,null,null,null,null,null,null,null,null,null,null,null,null,38,"バイオガス","千㎥",0,0,0]
[null,null,"小　　　　　計",null,null,null,null,null,{"$f":"SUM(I33,I37,I39,I40)","v":0},{"$f":"SUM(J39)","v":0},{"$f":"SUM(K33,K37,K39,K40)","v":0},"千kWh",{"$f":"SUM(M33,M37,M39,M40)","v":0},{"$f":"SUM(N33,N37,N39)","v":0},null,null,null,null,null,null,null,{"$f":"'計算シート（第１～第３年度）'!Q35","v":""},{"$f":"'計算シート（第１～第３年度）'!Q36","v":""},null,null,{"$f":"IF(OR(U42=\"\",V42=\"\"),\"\",V42*Y42)","v":""},{"$f":"IF(OR(U42=\"\",W42=\"\"),\"\",W42*Y42)","v":""},null,null,null,null,null,null,null,null,null,null,null,39,"その他バイオマス","t",0,0,0]
[null,null,null,null,null,null,null,null,null,null,null,null,null,null,null,null,null,null,null,null,null,{"$f":"'計算シート（第１～第３年度）'!Q37","v":""},{"$f":"'計算シート（第１～第３年度）'!Q38","v":""},null,null,{"$f":"IF(OR(U43=\"\",V43=\"\"),\"\",V43*Y43)","v":""},{"$f":"IF(OR(U43=\"\",W43=\"\"),\"\",W43*Y43)","v":""},null,null,null,null,null,null,null,null,null,null,null,40,"RDF","t",0,0,0]
[null,null,"２．エネルギー起源二酸化炭素（CO2）以外の温室効果ガス排出量",null,null,null,null,null,null,null,null,null,null,null,null,null,null,null,null,null,null,{"$f":"'計算シート（第１～第３年度）'!Q39","v":""},{"$f":"'計算シート（第１～第３年度）'!Q40","v":""},null,null,"","",null,null,null,null,null,null,null,null,null,null,null,41,"RPF","t",0,0,0]
[null,null,"温室効果ガスの種類",null,null,null,"排出量\n(t-CO2)",null,null,null,null,null,null,null,null,null,null,null,null,null,null,{"$f":"'計算シート（第１～第３年度）'!Q41","v":""},{"$f":"'計算シート（第１～第３年度）'!Q42","v":""},null,null,"","",null,null,null,null,null,null,null,null,null,null,null,42,"廃タイヤ","t",0,0,0]
[null,null,null,null,null,null,null,null,null,null,null,null,null,null,null,null,null,null,null,null,null,{"$f":"'計算シート（第１～第３年度）'!Q43","v":""},{"$f":"'計算シート（第１～第３年度）'!Q44","v":""},null,null,"","",null,null,null,null,null,null,null,null,null,null,null,43,"廃プラスチック_一般廃棄物","t",0,0,0]
[null,null,"非エネルギー起源二酸化炭素（CO2）",null,null,null,null,null,null,null,null,null,null,null,null,null,null,null,null,null,"合計",{"$f":"IF(COUNTBLANK(V42:V46)=5,\"\",SUM(V42:V46))","v":""},{"$f":"IF(COUNTBLANK(W42:W46)=5,\"\",SUM(W42:W46))","v":""},{"$f":"IF(SUM(V47,W47)=0,0,SUM(SUMPRODUCT(V42:V46,X42:X46),SUMPRODUCT(W42:W46,X42:X46))/SUM(V47,W47))","v":0},null,{"$f":"SUM(Z42:Z46)","v":0},{"$f":"SUM(AA42:AA46)","v":0},null,null,null,null,null,null,null,null,null,null,null,44,"廃プラスチック_産業廃棄物","t",0,0,0]
[null,null,"メタン（CH4）",null,null,null,null,null,null,null,null,null,null,null,null,null,null,null,null,null,null,null,null,null,null,null,null,null,null,null,null,null,null,null,null,null,null,null,45,"廃油","kl",0,0,0]
[null,null,"一酸化二窒素（N2O）",null,null,null,null,null,null,null,null,null,null,null,null,null,null,null,null,null,"上記以外の買電",null,"買電量\n(千kWh)","うち非化石(%)\n（任意入力）","排出係数\n(tCO2/千kWh)","排出量\n(t-CO2)","換算係数\n(GJ/千ｋWh)","熱量\n(GJ)",null,null,null,null,null,null,null,null,null,null,46,"廃棄物ガス","千㎥",0,0,0]
[null,null,"ハイドロフルオロカーボン（HFC）",null,null,null,null,null,null,null,null,null,null,null,null,null,null,null,null,null,null,null,null,null,null,null,null,null,null,null,null,null,null,null,null,null,null,null,47,"混合廃材","t",0,0,0]
[null,null,"パーフルオロカーボン（PFC）",null,null,null,null,null,null,null,null,null,null,null,null,null,null,null,null,null,"オフサイト型PPA",null,null,1,null,{"$f":"IF(W51=\"\",\"\",W51*Y51)","v":""},3.6,{"$f":"IF(W51=\"\",\"\",W51*AA51)","v":""},null,null,null,null,null,null,null,null,null,null,48,"水素","t",0,0,0]
[null,null,"六フッ化硫黄（SF6）",null,null,null,null,null,null,null,null,null,null,null,null,null,null,null,null,null,"自己託送（非燃料由来の非化石電気）",null,null,1,null,{"$f":"IF(W52=\"\",\"\",W52*Y52)","v":""},3.6,{"$f":"IF(W52=\"\",\"\",W52*AA52)","v":""},null,null,null,null,null,null,null,null,null,null,49,"アンモニア","t",0,0,0]
[null,null,"三フッ化窒素（NF3）",null,null,null,null,null,null,null,null,null,null,null,null,null,null,null,null,null,"上記以外の自己託送",null,null,null,null,{"$f":"IF(W53=\"\",\"\",W53*Y53)","v":""},8.64,"",null,null,null,null,null,null,null,null,null,null,50,"産業用蒸気_非化石","GJ",0,0,0]
[null,null,"合　　　　計",null,null,null,{"$f":"IF(COUNTBLANK(G47:G53)=7,\"\",SUM(G47:G53))","v":""},null,null,null,null,null,null,null,null,null,null,null,null,null,null,null,null,null,null,null,null,null,null,null,null,null,null,null,null,null,null,null,51,"産業用以外の蒸気_非化石","GJ",0,0,0]
[null,null,null,null,null,null,null,null,null,null,null,null,null,null,null,null,null,null,null,null,null,"名称","買電量\n(千kWh)","うち非化石(%)\n（任意入力）","排出係数\n(tCO2/千kWh)","排出量\n(t-CO2)","換算係数\n(GJ/千ｋWh)","熱量\n(GJ)",null,null,null,null,null,null,null,null,null,null,52,"温水_非化石","GJ",0,0,0]
[null,null,"３．クレジット等による削減量",null,null,null,null,null,null,null,null,null,null,null,null,null,null,null,null,null,"その他買電",null,null,null,null,null,null,null,null,null,null,null,null,null,null,null,null,null,53,"冷水_非化石","GJ",0,0,0]
[null,null,"クレジット等の種類",null,null,null,"排出量\n(t-CO2)",null,null,null,null,null,null,null,null,null,null,null,null,null,null,null,null,null,null,{"$f":"IF(W57=\"\",\"\",W57*Y57)","v":""},8.64,{"$f":"W57*AA57","v":0},null,null,null,null,null,null,null,null,null,null,54,"地熱","GJ",0,0,0]
[null,null,null,null,null,null,null,null,null,null,null,null,null,null,null,null,null,null,null,null,null,null,null,null,null,"",8.64,{"$f":"W58*AA58","v":0},null,null,null,null,null,null,null,null,null,null,55,"温泉熱","GJ",0,0,0]
[null,null,null,null,null,null,null,null,null,null,null,null,null,null,null,null,null,null,null,null,"合計",null,{"$f":"SUM(W51:W53,W57:W58)","v":0},{"$f":"IF(W59=0,0,(SUMPRODUCT(W57:W58,X57:X58)+SUMPRODUCT(X51:X53,W51:W53))/W59)","v":0},null,{"$f":"SUM(Z51:Z53,Z57:Z58)","v":0},null,{"$f":"SUM(AB51:AB53,AB57:AB58)","v":0},null,null,null,null,null,null,null,null,null,null,56,"太陽熱","GJ",0,0,0]
[null,null,null,null,null,null,null,null,null,null,null,null,null,null,null,null,null,null,null,null,null,null,null,null,null,null,null,null,null,null,null,null,null,null,null,null,null,null,57,"雪氷熱","GJ",0,0,0]
[null,null,null,null,null,null,null,null,null,null,null,null,null,null,null,null,null,null,null,null,null,"売電量\n(千kWh)","換算係数\n(GJ/千ｋWh)","排出係数\n(tCO2/千kWh)","排出量\n(t-CO2)"]
[]
[null,null,null,null,null,null,null,null,null,null,null,null,null,null,null,null,null,null,null,null,"自家発電",null,null,null,{"$f":"IF(V63=\"\",\"\",V63*X63)","v":""}]
[]
[null,null,null,null,null,null,null,null,null,null,null,null,null,null,null,null,null,null,null,null,"自家消費した非化石電気","使用量\n(千kWh)","換算係数\n(GJ/千ｋWh)"]
[null,null,"合　　　　計",null,null,null,{"$f":"IF(COUNTBLANK(G59:G65)=7,\"\",SUM(G59:G65))","v":""}]
[null,null,null,null,null,null,null,null,null,null,null,null,null,null,null,null,null,null,null,null,"太陽光",null,3.6]
[null,null,"４．原単位の指標",null,null,null,null,null,null,null,null,null,null,null,null,null,null,null,null,null,"水力",null,3.6]
[null,null,"原単位の指標（分母）",null,null,null,null,null,null,null,null,null,null,null,null,null,null,null,null,null,"風力",null,3.6]
[null,null,null,null,null,null,null,null,null,null,null,null,null,null,null,null,null,null,null,null,"その他（非燃料由来の非化石）",null,3.6]
[null,null,"名称",null,null,null,{"$f":"'事業所排出量内訳 (基準年度)'!G71&\"\"","v":""},null,null,null,null,null,null,null,null,null,null,null,null,null,"合計",{"$f":"SUM(V67:V70)","v":0}]
[null,null,"単位",null,null,null,{"$f":"'事業所排出量内訳 (基準年度)'!G72&\"\"","v":""}]
[null,null,"数値"]

{"sheet":"事業所排出量内訳 (第3年度)","index":17,"n_rows":73,"n_cols":54,"rows_kept":73,"cut":false,"hidden":true,"merged":[[0,9,0,10],[3,8,4,8],[3,9,4,9],[3,10,4,10],[3,11,4,11],[3,12,4,12],[13,4,13,7],[13,20,14,20],[13,21,14,22],[14,4,14,7],[14,23,14,24],[15,4,15,7],[3,13,4,13],[7,20,8,20],[7,21,8,22],[8,23,8,24],[9,23,9,24],[12,4,12,7],[16,4,16,7],[17,4,17,7],[18,4,18,7],[19,4,19,7],[21,2,21,7],[22,2,28,2],[22,3,22,7],[23,3,23,7],[24,3,24,7],[25,3,25,7],[26,3,26,7],[26,22,26,23],[27,3,27,7],[29,2,29,7],[30,8,31,8],[30,9,31,9],[30,10,31,10],[30,11,31,11],[30,12,31,12],[30,13,31,13],[30,2,31,7],[39,24,40,24],[39,25,40,25],[39,26,40,26],[41,2,41,7],[44,2,45,5],[44,6,45,7],[33,5,33,7],[34,5,34,7],[39,20,40,20],[39,21,40,21],[39,22,40,22],[39,23,40,23],[48,24,49,24],[48,25,49,25],[48,26,49,26],[48,27,49,27],[49,6,49,7],[50,6,50,7],[46,6,46,7],[47,6,47,7],[48,6,48,7],[48,20,49,21],[48,22,49,22],[48,23,49,23],[54,25,55,25],[54,26,55,26],[54,27,55,27],[51,6,51,7],[51,20,51,21],[52,6,52,7],[53,2,53,5],[53,6,53,7],[54,21,55,21],[56,2,57,5],[56,6,57,7],[58,2,58,5],[58,6,58,7],[59,2,59,5],[59,6,59,7],[54,22,55,22],[54,23,55,23],[54,24,55,24],[64,22,65,22],[65,2,65,5],[65,6,65,7],[60,24,61,24],[61,2,61,5],[61,6,61,7],[62,2,62,5],[62,6,62,7],[63,2,63,5],[63,6,63,7],[60,2,60,5],[60,6,60,7],[60,20,61,20],[60,21,61,21],[60,23,61,23],[60,22,61,22],[124,20,125,21],[68,2,69,7],[70,2,70,5],[70,6,70,7],[71,2,71,5],[71,6,71,7],[72,2,72,5],[72,6,72,7],[64,2,64,5],[64,6,64,7],[64,20,65,20],[64,21,65,21]]}
[null,null,"温室効果ガス排出量内訳",null,null,null,null,null,"第３年度",{"$f":"\"（\"&はじめに!E4+3&\"年度）\"","v":"（3年度）"},null,null,null,null,null,null,null,null,null,{"$f":"はじめに!E4+3","v":3},null,null,null,null,null,null,null,null,null,null,null,null,null,null,null,null,null,null,null,null,null,null,null,null,null,null,null,null,{"$f":"IF(T1=2022,AZ1,AZ2)","v":"一般その他化石2023"},{"$f":"IF(T1=2022,BB1,BB2)","v":"一般その他非化石2023"},null,"一般その他化石2022",null,"一般その他非化石2022"]
[null,null,null,null,null,null,null,null,null,null,null,null,null,{"$f":"はじめに!E4","v":0},null,null,null,null,null,null,null,null,null,null,null,null,null,null,null,null,null,null,null,2022,null,null,null,null,null,2023,null,null,null,null,null,null,null,null,null,null,null,"一般その他化石2023",null,"一般その他非化石2023"]
[null,null,"１．エネルギー起源二酸化炭素（CO2）排出量",null,null,null,null,null,null,null,null,null,null,null,null,null,null,null,null,null,"１．エネルギー起源二酸化炭素（CO2）排出量",null,null,null,null,null,null,null,null,null,null,null,null,null,"単位",null,null,null,null,null,"単位"]
[null,null,null,"燃料の種類",null,null,null,null,"使用量","外部\n供給量","実使用量","単位","熱量\n(GJ)","排出量\n(t-CO2)",null,null,null,{"$f":"IF(V4=0,0,1)","v":0},null,null,"熱量合計",{"$f":"SUM(M22,M30,M42)","v":0},"GJ",null,null,null,null,null,null,null,null,null,1,"揮発油","kl",{"$f":"SUMIFS($I$13:$I$19,$E$13:$E$19,$AN4)","v":0},{"$f":"SUMIFS($J$13:$J$19,$E$13:$E$19,$AN4)","v":0},null,1,"揮発油","kl",{"$f":"SUMIFS($I$13:$I$19,$E$13:$E$19,$AN4)","v":0},{"$f":"SUMIFS($J$13:$J$19,$E$13:$E$19,$AN4)","v":0},{"$f":"COUNTIF($AT$4:$AT$10,AN4)","v":1},null,"揮発油"]
[null,null,null,null,null,null,null,null,null,null,null,null,null,null,null,"エネルギー名称区分2022","エネルギー名称区分2023","単位発熱量","炭素排出係数",null,"原油換算",{"$f":"V4*0.0258","v":0},"KL",null,null,null,null,null,null,null,null,null,2,"灯油","t",0,0,null,2,"灯油","t",0,0,1,null,"灯油"]
[null,null,null,"揮発油（ガソリン）",null,null,null,null,{"$f":"'計算シート（第１～第３年度）'!Q48","v":""},null,{"$f":"IF(AND(I6=\"\",J6=\"\"),\"\",SUM(I6)-SUM(J6))","v":""},"kl",{"$f":"IFERROR(IF(K6=\"\",\"\",$K6*R6),\"-------------\")","v":""},{"$f":"IFERROR(IF(K6=\"\",\"\",$M6*S6*44/12),\"----------\")","v":""},null,"揮発油","揮発油",{"$f":"IF($T$1=2022,VLOOKUP(P6,係数2022,7,0),VLOOKUP(Q6,係数2023,7,0))","v":33.4},{"$f":"IF($T$1=2022,VLOOKUP(P6,係数2022,9,0),VLOOKUP(Q6,係数2023,9,0))","v":1.8700000000000001E-2},null,"排出量合計",{"$f":"ROUNDDOWN(SUM(N22,N30,N42),1)","v":0},"t-CO2",null,null,null,null,null,null,null,null,null,3,"軽油","千Nm3",0,0,null,3,"軽油","千Nm3",0,0,1,null,"軽油"]
[null,null,null,"灯油",null,null,null,null,{"$f":"'計算シート（第１～第３年度）'!Q49","v":""},null,{"$f":"IF(AND(I7=\"\",J7=\"\"),\"\",SUM(I7)-SUM(J7))","v":""},"kl","","",null,"灯油","灯油",36.5,1.8700000000000001E-2,null,null,null,null,null,null,null,null,null,null,null,null,null,4,"Ａ重油","kl",0,0,null,4,"Ａ重油","kl",0,0,1,null,"Ａ重油"]
[null,null,null,"軽油",null,null,null,null,{"$f":"'計算シート（第１～第３年度）'!Q50","v":""},null,"","kl","","",null,"軽油","軽油",{"$f":"IF($T$1=2022,VLOOKUP(P8,係数2022,7,0),VLOOKUP(Q8,係数2023,7,0))","v":38},1.8800000000000001E-2,null,"燃料等の種類","熱量内訳",null,null,null,null,null,null,null,null,null,null,5,"Ｂ・Ｃ重油","kl",0,0,null,5,"Ｂ・Ｃ重油","kl",0,0,1,null,"Ｂ・Ｃ重油"]
[null,null,null,"Ａ重油",null,null,null,null,{"$f":"'計算シート（第１～第３年度）'!Q51","v":""},null,"","kl","","",null,"Ａ重油","Ａ重油",38.9,1.9300000000000001E-2,null,null,null,null,"うち非化石熱量",null,"非化石割合",null,null,null,null,null,null,6,"液化石油ガス     (LPG)","t",0,0,null,6,"液化石油ガス     (LPG)","t",0,0,1,null,"液化石油ガス     (LPG)"]
[null,null,"化","Ｂ・Ｃ重油",null,null,null,null,{"$f":"'計算シート（第１～第３年度）'!Q52","v":""},null,"","kl","","",null,"Ｂ・Ｃ重油","Ｂ・Ｃ重油",41.8,2.0199999999999999E-2,null,"化石燃料・熱",{"$f":"M22","v":0},"GJ",null,null,null,null,null,null,null,null,null,7,"都市ガス","千Nm3",0,0,null,7,"都市ガス","千Nm3",0,0,1,null,"都市ガス"]
[null,null,"石","液化石油ガス     (LPG)",null,null,null,null,{"$f":"'計算シート（第１～第３年度）'!Q53","v":""},null,"","t","","",null,"液化石油ガス     (LPG)","液化石油ガス     (LPG)",50.1,1.6299999999999999E-2,null,"非化石燃料・非化石熱",{"$f":"IF(T1=2022,\"-------------------\",SUM(M30))","v":0},"GJ",{"$f":"V11","v":0},"GJ",{"$f":"IF(T1=2022,\"---------------\",IF(V11<>0,X11/V11,\"---------------\"))","v":"---------------"},null,null,null,null,null,null,8,"原油（コンデンセートを除く。）","kl",0,0,null,8,"原油（コンデンセートを除く。）","kl",0,0,0]
[null,null,"燃","都市ガス",null,null,null,null,{"$f":"'計算シート（第１～第３年度）'!Q54","v":""},null,"","千m3","","",null,"都市ガス","都市ガス",45,1.4E-2,null,"熱量合計（電気以外）",{"$f":"SUM(V10:V11)","v":0},"GJ",{"$f":"IF($T$1=2022,\"-------------------\",SUM(X11,X10))","v":0},"GJ",{"$f":"IF($T$1=2022,\"---------------\",IF(X12=0,0,X12/V12))","v":0},null,null,null,null,null,null,9,"原油のうちコンデンセート(NGL)","kl",0,0,null,9,"原油のうちコンデンセート(NGL)","kl",0,0,0]
[null,null,"料",null,null,null,null,null,null,null,{"$f":"IF(AND(I13=\"\",J13=\"\"),\"\",SUM(I13)-SUM(J13))","v":""},{"$f":"IF(E13=\"\",\"\",IF($T$1=2022,VLOOKUP(E13,係数2022,6,0),VLOOKUP(E13,係数2023,6,0)))","v":""},{"$f":"IFERROR(IF(K13=\"\",\"\",$K13*R13),\"----------\")","v":""},"",null,null,null,{"$f":"IF($T$1=2022,VLOOKUP(E13,係数2022,7,0),VLOOKUP(E13,係数2023,7,0))","v":{"$error":"#N/A"}},{"$f":"IF($T$1=2022,VLOOKUP(E13,係数2022,9,0),VLOOKUP(E13,係数2023,9,0))","v":{"$error":"#N/A"}},null,null,null,null,null,null,null,null,null,null,null,null,null,10,"ナフサ","kl",0,0,null,10,"ナフサ","kl",0,0,0]
[null,null,"・",null,null,null,null,null,null,null,{"$f":"IF(AND(I14=\"\",J14=\"\"),\"\",SUM(I14)-SUM(J14))","v":""},{"$f":"IF(E14=\"\",\"\",IF($T$1=2022,VLOOKUP(E14,係数2022,6,0),VLOOKUP(E14,係数2023,6,0)))","v":""},{"$f":"IFERROR(IF(K14=\"\",\"\",$K14*R14),\"----------\")","v":""},"",null,null,null,{"$error":"#N/A"},{"$error":"#N/A"},null,"燃料等の種類","電気使用量",null,null,null,null,null,null,null,null,null,null,11,"ジェット燃料油","kl",0,0,null,11,"ジェット燃料油","kl",0,0,0]
[null,null,"熱",null,null,null,null,null,null,null,"",{"$f":"IF(E15=\"\",\"\",IF($T$1=2022,VLOOKUP(E15,係数2022,6,0),VLOOKUP(E15,係数2023,6,0)))","v":""},{"$f":"IFERROR(IF(K15=\"\",\"\",$K15*R15),\"----------\")","v":""},"",null,null,null,{"$error":"#N/A"},{"$error":"#N/A"},null,null,null,null,"うち非化石電気使用量",null,"非化石割合",null,null,null,null,null,null,12,"石油アスファルト","kl",0,0,null,12,"石油アスファルト","kl",0,0,0]
[null,null,null,"そ",null,null,null,null,null,null,"",{"$f":"IF(E16=\"\",\"\",IF($T$1=2022,VLOOKUP(E16,係数2022,6,0),VLOOKUP(E16,係数2023,6,0)))","v":""},{"$f":"IFERROR(IF(K16=\"\",\"\",$K16*R16),\"----------\")","v":""},"",null,null,null,{"$error":"#N/A"},{"$error":"#N/A"},null,"電気",{"$f":"K42","v":0},"kWh ",{"$f":"K41","v":0},"kWh ",{"$f":"IF($T$1=2022,\"----------\",IF(V16=0,0,X16/V16))","v":0},null,null,null,null,null,null,13,"石油コークス","kl",0,0,null,13,"石油コークス","kl",0,0,0]
[null,null,null,"の",null,null,null,null,null,null,"",{"$f":"IF(E17=\"\",\"\",IF($T$1=2022,VLOOKUP(E17,係数2022,6,0),VLOOKUP(E17,係数2023,6,0)))","v":""},"","",null,null,null,{"$error":"#N/A"},{"$error":"#N/A"},null,null,null,null,null,null,null,null,null,null,null,null,null,14,"石油系炭化水素ガス","t",0,0,null,14,"石油系炭化水素ガス","t",0,0,0]
[null,null,null,"他","産業用以外の蒸気",null,null,null,null,null,"","GJ","",{"$f":"IF(K18=\"\",\"\",\n      IF($T$1=2022,K18*S18,\n                  IF(OR(W30=\"\",K18=\"\"),\"\",K18*W30)))","v":""},null,"産業用以外の蒸気","産業用以外の蒸気_化石",{"$f":"IF($T$1=2022,VLOOKUP(P18,係数2022,7,0),VLOOKUP(Q18,係数2023,7,0))","v":1.19},{"$f":"IF($T$1=2022,VLOOKUP(P18,係数2022,9,0),VLOOKUP(Q18,係数2023,9,0))","v":"ー"},null,"２．エネルギー起源二酸化炭素（CO2）以外の温室効果ガス排出量",null,null,null,null,null,null,null,null,null,null,null,15,"液化天然ガス     (LNG)","千Nm3",0,0,null,15,"液化天然ガス     (LNG)","千Nm3",0,0,0]
[null,null,null,null,"温水",null,null,null,null,null,"","GJ",{"$f":"IFERROR(IF(K19=\"\",\"\",$K19*R19),\"----------\")","v":""},{"$f":"IF(K19=\"\",\"\",\n      IF($T$1=2022,K19*S19,\n                  IF(OR(W31=\"\",K19=\"\"),\"\",K19*W31)))","v":""},null,"温水","温水_化石",{"$f":"IF($T$1=2022,VLOOKUP(P19,係数2022,7,0),VLOOKUP(Q19,係数2023,7,0))","v":1.19},"ー",null,"排出量合計",{"$f":"SUM(G54)","v":0},"t-CO2",null,null,null,null,null,null,null,null,null,16,"その他可燃性天然ガス","t",0,0,null,16,"その他可燃性天然ガス","t",0,0,0]
[null,null,null,null,"冷水",null,null,null,null,null,"","GJ",{"$f":"IFERROR(IF(K20=\"\",\"\",$K20*R20),\"----------\")","v":""},{"$f":"IF(K20=\"\",\"\",\n      IF($T$1=2022,K20*S20,\n                  IF(OR(W32=\"\",K20=\"\"),\"\",K20*W32)))","v":""},null,"冷水","冷水_化石",1.19,"ー",null,null,null,null,null,null,null,null,null,null,null,null,null,17,"原料炭","t",0,0,null,17,"輸入原料炭","t",0,0,0]
[null,null,null,null,{"$f":"\"その他（\"&U35&\"）\"","v":"その他（）"},null,null,null,null,null,{"$f":"IF(AND(I21=\"\",J21=\"\"),\"\",SUM(I21)-SUM(J21))","v":""},null,null,null,null,null,null,null,null,null,"３．クレジット等による削減量",null,null,null,null,null,null,null,null,null,null,null,18,"一般炭","t",{"$f":"SUMIFS($I$13:$I$19,$E$13:$E$19,$AV25)","v":0},{"$f":"SUMIFS($J$13:$J$19,$E$13:$E$19,$AV25)","v":0},null,18,"コークス用原料炭","t",0,0,0]
[null,null,"小　　　　　計",null,null,null,null,null,"－","－","－","－",{"$f":"SUM(M6:M21)","v":0},{"$f":"SUM(N6:N21)","v":0},null,null,null,null,null,null,"削減量合計",{"$f":"SUM(G66)","v":0},"t-CO2",null,null,null,null,null,null,null,null,null,19,"無煙炭","t",{"$f":"SUMIFS($I$13:$I$19,$E$13:$E$19,$AV26)","v":0},{"$f":"SUMIFS($J$13:$J$19,$E$13:$E$19,$AV26)","v":0},null,19,"吹込用原料炭","t",0,0,0]
[null,null,"非化石燃料・\n非化石熱",null,null,null,null,null,null,null,{"$f":"IF(AND(I23=\"\",J23=\"\"),\"\",SUM(I23)-SUM(J23))","v":""},{"$f":"IF(D23=\"\",\"\",IF($T$1=2022,\"----------\",VLOOKUP(D23,係数2023,6,0)))","v":""},{"$f":"IFERROR(IF(K23=\"\",\"\",$K23*R23),\"-------------\")","v":""},{"$f":"IFERROR(IF(K23=\"\",\"\",$M23*S23*44/12),\"----------\")","v":""},null,null,null,{"$f":"IF($T$1=2022,VLOOKUP(D23,係数2022,7,0),VLOOKUP(D23,係数2023,7,0))","v":{"$error":"#N/A"}},{"$f":"IF($T$1=2022,VLOOKUP(D23,係数2022,9,0),VLOOKUP(D23,係数2023,9,0))","v":{"$error":"#N/A"}},null,null,null,null,null,null,null,null,null,null,null,null,null,20,"石炭コークス","t",{"$f":"SUMIFS($I$13:$I$19,$E$13:$E$19,$AN26)","v":0},{"$f":"SUMIFS($J$13:$J$19,$E$13:$E$19,$AN26)","v":0},null,20,"輸入一般炭","t",0,0,0]
[null,null,null,null,null,null,null,null,null,null,"","","","",null,null,null,{"$error":"#N/A"},{"$error":"#N/A"},null,"温室効果ガス総排出量",{"$f":"V6+V19-V22","v":0},"t-CO2",null,null,null,null,null,null,null,null,null,21,"コールタール","t",{"$f":"SUMIFS($I$13:$I$19,$E$13:$E$19,$AN27)","v":0},{"$f":"SUMIFS($J$13:$J$19,$E$13:$E$19,$AN27)","v":0},null,21,"国産一般炭","t",0,0,0]
[null,null,null,null,null,null,null,null,null,null,"","","","",null,null,null,{"$error":"#N/A"},{"$error":"#N/A"},null,null,null,null,null,null,null,null,null,null,null,null,null,22,"コークス炉ガス","t",{"$f":"SUMIFS($I$13:$I$19,$E$13:$E$19,$AN28)","v":0},{"$f":"SUMIFS($J$13:$J$19,$E$13:$E$19,$AN28)","v":0},null,22,"輸入無煙炭","t",0,0,0]
[null,null,null,null,null,null,null,null,null,null,"","","",{"$f":"IFERROR(IF(K26=\"\",\"\",$M26*S26*44/12),\"----------\")","v":""},null,null,null,{"$error":"#N/A"},{"$error":"#N/A"},null,"４．原単位の指標",null,null,null,null,null,null,null,null,null,null,null,23,"高炉ガス","千Nm3",{"$f":"SUMIFS($I$13:$I$19,$E$13:$E$19,$AN29)","v":0},{"$f":"SUMIFS($J$13:$J$19,$E$13:$E$19,$AN29)","v":0},null,23,"石炭コークス","t",0,0,0]
[null,null,null,null,null,null,null,null,null,null,"","","","",null,null,null,{"$error":"#N/A"},{"$error":"#N/A"},null,"排出原単位",{"$f":"IF(V24=\"\",\"\",IFERROR(ROUND(V24/G73,3-INT(LOG(V24/G73))),))","v":0},{"$f":"\"t-CO2/\"&G72","v":"t-CO2/"},null,null,null,null,null,null,null,null,null,24,"転炉ガス","GJ",{"$f":"SUMIFS($I$13:$I$19,$E$13:$E$19,$AN31)","v":0},{"$f":"SUMIFS($J$13:$J$19,$E$13:$E$19,$AN31)","v":0},null,24,"コールタール","t",0,0,0]
[null,null,null,null,null,null,null,null,null,null,"","","","",null,null,null,{"$error":"#N/A"},{"$error":"#N/A"},null,null,null,null,null,null,null,null,null,null,null,null,null,25,"産業用蒸気","GJ",{"$f":"SUMIFS($I$13:$I$19,$E$13:$E$19,$AN36)","v":0},{"$f":"SUMIFS($J$13:$J$19,$E$13:$E$19,$AN36)","v":0},null,25,"コークス炉ガス","t",0,0,0]
[null,null,null,{"$f":"\"その他（\"&U38&\"）\"","v":"その他（）"},null,null,null,null,null,null,"",null,null,null,null,null,null,null,null,null,"熱の種類","換算係数","排出係数",null,null,null,null,null,null,null,null,null,26,"産業用以外の蒸気","GJ",{"$f":"SUMIFS($I$13:$I$19,$E$13:$E$19,$AN37)","v":0},{"$f":"SUMIFS($J$13:$J$19,$E$13:$E$19,$AN37)","v":0},null,26,"高炉ガス","千Nm3",0,0,0]
[null,null,"小　　　　　計",null,null,null,null,null,"－","－","－","－",{"$f":"SUM(M23:M29)","v":0},{"$f":"SUM(N23:N29)","v":0},null,null,null,null,null,null,"産業用以外の蒸気",null,null,null,null,null,null,null,null,null,null,null,27,"温水","GJ",{"$f":"SUMIFS($I$13:$I$19,$E$13:$E$19,$AN38)","v":0},{"$f":"SUMIFS($J$13:$J$19,$E$13:$E$19,$AN38)","v":0},null,27,"発電用高炉ガス","千m3",0,0,0]
[null,null,"電気の種類",null,null,null,null,null,"使用量","外部\n供給量","実使用量","単位","熱量\n(GJ)","排出量\n(t-CO2)",null,null,null,null,null,null,"温水",null,null,null,null,null,null,null,null,null,null,null,28,"冷水","GJ",{"$f":"SUMIFS($I$13:$I$19,$E$13:$E$19,$AN39)","v":0},{"$f":"SUMIFS($J$13:$J$19,$E$13:$E$19,$AN39)","v":0},null,28,"転炉ガス","GJ",0,0,0]
[null,null,null,null,null,null,null,null,null,null,null,null,null,null,null,"エネルギー名称区分2022","エネルギー名称区分2023","単位発熱量","炭素排出係数",null,"冷水",null,null,null,null,null,null,null,null,null,null,null,29,"---------------",null,null,null,null,29,"産業用蒸気_化石","GJ",0,0,0]
[null,null,null,"電気事業者からの買電",null,null,null,null,{"$f":"IF(COUNTBLANK(V42:W46)=10,\"\",SUM(I34:I35))","v":""},null,{"$f":"I33","v":""},"千kWh",{"$f":"IF(COUNTBLANK(V42:W46)=10,\"\",SUM(M34,M35))","v":""},{"$f":"IF(COUNTBLANK(V42:W46)=10,\"\",SUM(N34,N35))","v":""},null,null,null,null,null,null,null,null,null,null,null,null,null,null,null,null,null,null,null,null,null,null,null,null,30,"産業用以外の蒸気_化石","GJ",0,0,0]
[null,null,null,null,null,"昼間買電量\n(千kWh)",null,null,{"$f":"IF(COUNTBLANK(V42:V46)=10,\"\",V47)","v":""},null,{"$f":"I34","v":""},"千kWh",{"$f":"IFERROR(IF(K34=\"\",\"\",$K34*R34),\"-------------\")","v":""},{"$f":"IF(COUNTBLANK(V42:W46)=10,\"\",Z47)","v":""},null,"電気事業者_昼間買電","電気事業者_昼間買電",{"$f":"IF($T$1=2022,VLOOKUP($P34,係数2022,7,0),VLOOKUP($Q34,係数2023,7,0))","v":8.64},null,null,"その他の名称","換算係数","排出係数",null,null,null,null,null,null,null,null,null,null,null,null,null,null,null,31,"温水_化石","GJ",0,0,0]
[null,null,"電",null,null,"夜間買電量\n(千kWh)",null,null,{"$f":"IF(COUNTBLANK(V42:V46)=10,\"\",W47)","v":""},null,"","千kWh",{"$f":"IFERROR(IF(K35=\"\",\"\",$K35*R35),\"-------------\")","v":""},{"$f":"IF(COUNTBLANK(V42:W46)=10,\"\",AA47)","v":""},null,"電気事業者_夜間買電","電気事業者_夜間買電",8.64,null,null,null,null,null,null,null,null,null,null,null,null,null,null,null,null,null,null,null,null,32,"冷水_化石","GJ",0,0,{"$f":"COUNTIF($AT$4:$AT$10,AN35)","v":0}]
[null,null,null,null,null,"うち非化石",null,null,{"$f":"IF($T$1=2022,\"----------\",IF(COUNTBLANK(V42:W46)=10,\"\",SUMPRODUCT(V42:V46,X42:X46)+SUMPRODUCT(W42:W46,X42:X46)))","v":""},null,{"$f":"IF($T$1=2022,\"----------\",I36)","v":""},"千kWh",{"$f":"IF($T$1=2022,\"----------\",IF(M33<>\"\",K36*R36,\"\"))","v":""},null,null,null,"自己託送以外_電気事業者からの買電_非化石分",8.64,null,null,null,null,null,null,null,null,null,null,null,null,null,null,null,null,null,null,null,null,33,"黒液","t",0,0,{"$f":"COUNTIF($AT$4:$AT$10,AN36)","v":0}]
[null,null,null,"上記以外の買電",null,null,null,null,{"$f":"IF(COUNTBLANK(W51:W53)+COUNTBLANK(W57:W58)=5,\"\",W59)","v":""},null,{"$f":"I37","v":""},"千kWh",{"$f":"IF(K37=\"\",\"\",K37*R37)","v":""},{"$f":"IF(I37=\"\",\"\",SUMPRODUCT(W51:W53,Y51:Y53)+SUMPRODUCT(W57:W58,Y57:Y58))","v":""},null,"その他買電","その他買電",8.64,null,null,"その他の名称","換算係数",null,null,null,null,null,null,null,null,null,null,null,null,null,null,null,null,34,"木材","t",0,0,{"$f":"COUNTIF($AT$4:$AT$10,AN37)","v":0}]
[null,null,"気",null,null,"うち非化石",null,null,{"$f":"IF($T$1=2022,\"----------\",IF(COUNTBLANK(W51:W53)+COUNTBLANK(W57:W58)=5,\"\",SUMPRODUCT(W51:W58,X51:X58)))","v":""},null,{"$f":"IF($T$1=2022,\"----------\",I38)","v":""},"千kWh",{"$f":"IF($T$1=2022,\"----------\",IF(COUNTBLANK(W51:W53)+COUNTBLANK(W57:W58)=5,\"\",SUM(AB59)*X59))","v":""},null,null,null,"その他買電",8.64,null,null,null,null,null,null,null,null,null,null,null,null,null,null,null,null,null,null,null,null,35,"木質廃材","t",0,0,0]
[null,null,null,"自家発電\n買電",null,null,null,null,null,{"$f":"IF(V63=\"\",\"\",SUM(V63))","v":""},{"$f":"IF(J39=\"\",\"\",-SUM(J39))","v":""},"千kWh",{"$f":"IF(K39=\"\",\"\",$K39*W63)","v":""},{"$f":"IF(J39=\"\",\"\",-SUM(Y63))","v":""},null,null,null,null,null,null,null,null,null,null,null,null,null,null,null,null,null,null,null,null,null,null,null,null,36,"バイオエタノール","kl",0,0,0]
[null,null,null,"自家消費した非化石電気",null,null,null,null,{"$f":"IF($T$1=2022,\"----------\",IF(COUNTBLANK(V67:V70)=4,\"\",V71))","v":""},null,{"$f":"IF($T$1=2022,\"----------\",IF(I40=\"\",\"\",SUM(I40)))","v":""},"千kWh",{"$f":"IF($T$1=2022,\"----------\",IF(COUNTBLANK(V67:V70)=4,\"\",K40*3.6))","v":""},null,null,null,null,null,null,null,"電気事業者からの買電\n電気事業者名","昼間買電量\n(千kWh)","夜間買電量\n(千kWh)","うち非化石(%)\n（任意入力）","排出係数\n(tCO2/千kWh)","昼間排出量\n(t-CO2)","夜間排出量\n(t-CO2)",null,null,null,null,null,null,null,null,null,null,null,37,"バイオディーゼル","kl",0,0,{"$f":"COUNTIF($AT$4:$AT$10,AN40)","v":0}]
[null,null,null,null,null,"うち非化石    小　計",null,null,{"$f":"IF($T$1=2022,\"----------\",SUM(I36,I38,I40))","v":0},null,{"$f":"IF($T$1=2022,\"----------\",SUM(K36,K38,K40))","v":0},"千kWh",{"$f":"IF($T$1=2022,\"----------\",IF(K41=\"\",\"\",SUM(M36,M38,M40)))","v":0},null,null,null,null,null,null,null,null,null,null,null,null,null,null,null,null,null,null,null,null,null,null,null,null,null,38,"バイオガス","千㎥",0,0,0]
[null,null,"小　　　　　計",null,null,null,null,null,{"$f":"SUM(I33,I37,I39,I40)","v":0},{"$f":"SUM(J39)","v":0},{"$f":"SUM(K33,K37,K39,K40)","v":0},"千kWh",{"$f":"SUM(M33,M37,M39,M40)","v":0},{"$f":"SUM(N33,N37,N39)","v":0},null,null,null,null,null,null,null,{"$f":"'計算シート（第１～第３年度）'!Q57","v":""},{"$f":"'計算シート（第１～第３年度）'!Q58","v":""},null,null,{"$f":"IF(OR(U42=\"\",V42=\"\"),\"\",V42*Y42)","v":""},{"$f":"IF(OR(U42=\"\",W42=\"\"),\"\",W42*Y42)","v":""},null,null,null,null,null,null,null,null,null,null,null,39,"その他バイオマス","t",0,0,0]
[null,null,null,null,null,null,null,null,null,null,null,null,null,null,null,null,null,null,null,null,null,{"$f":"'計算シート（第１～第３年度）'!Q59","v":""},{"$f":"'計算シート（第１～第３年度）'!Q60","v":""},null,null,{"$f":"IF(OR(U43=\"\",V43=\"\"),\"\",V43*Y43)","v":""},{"$f":"IF(OR(U43=\"\",W43=\"\"),\"\",W43*Y43)","v":""},null,null,null,null,null,null,null,null,null,null,null,40,"RDF","t",0,0,0]
[null,null,"２．エネルギー起源二酸化炭素（CO2）以外の温室効果ガス排出量",null,null,null,null,null,null,null,null,null,null,null,null,null,null,null,null,null,null,{"$f":"'計算シート（第１～第３年度）'!Q61","v":""},{"$f":"'計算シート（第１～第３年度）'!Q62","v":""},null,null,"","",null,null,null,null,null,null,null,null,null,null,null,41,"RPF","t",0,0,0]
[null,null,"温室効果ガスの種類",null,null,null,"排出量\n(t-CO2)",null,null,null,null,null,null,null,null,null,null,null,null,null,null,{"$f":"'計算シート（第１～第３年度）'!Q63","v":""},{"$f":"'計算シート（第１～第３年度）'!Q64","v":""},null,null,"","",null,null,null,null,null,null,null,null,null,null,null,42,"廃タイヤ","t",0,0,0]
[null,null,null,null,null,null,null,null,null,null,null,null,null,null,null,null,null,null,null,null,null,{"$f":"'計算シート（第１～第３年度）'!Q65","v":""},{"$f":"'計算シート（第１～第３年度）'!Q66","v":""},null,null,"","",null,null,null,null,null,null,null,null,null,null,null,43,"廃プラスチック_一般廃棄物","t",0,0,0]
[null,null,"非エネルギー起源二酸化炭素（CO2）",null,null,null,null,null,null,null,null,null,null,null,null,null,null,null,null,null,"合計",{"$f":"IF(COUNTBLANK(V42:V46)=5,\"\",SUM(V42:V46))","v":""},{"$f":"IF(COUNTBLANK(W42:W46)=5,\"\",SUM(W42:W46))","v":""},{"$f":"IF(SUM(V47,W47)=0,0,SUM(SUMPRODUCT(V42:V46,X42:X46),SUMPRODUCT(W42:W46,X42:X46))/SUM(V47,W47))","v":0},null,{"$f":"SUM(Z42:Z46)","v":0},{"$f":"SUM(AA42:AA46)","v":0},null,null,null,null,null,null,null,null,null,null,null,44,"廃プラスチック_産業廃棄物","t",0,0,0]
[null,null,"メタン（CH4）",null,null,null,null,null,null,null,null,null,null,null,null,null,null,null,null,null,null,null,null,null,null,null,null,null,null,null,null,null,null,null,null,null,null,null,45,"廃油","kl",0,0,0]
[null,null,"一酸化二窒素（N2O）",null,null,null,null,null,null,null,null,null,null,null,null,null,null,null,null,null,"上記以外の買電",null,"買電量\n(千kWh)","うち非化石(%)\n（任意入力）","排出係数\n(tCO2/千kWh)","排出量\n(t-CO2)","換算係数\n(GJ/千ｋWh)","熱量\n(GJ)",null,null,null,null,null,null,null,null,null,null,46,"廃棄物ガス","千㎥",0,0,0]
[null,null,"ハイドロフルオロカーボン（HFC）",null,null,null,null,null,null,null,null,null,null,null,null,null,null,null,null,null,null,null,null,null,null,null,null,null,null,null,null,null,null,null,null,null,null,null,47,"混合廃材","t",0,0,0]
[null,null,"パーフルオロカーボン（PFC）",null,null,null,null,null,null,null,null,null,null,null,null,null,null,null,null,null,"オフサイト型PPA",null,null,1,null,{"$f":"IF(W51=\"\",\"\",W51*Y51)","v":""},3.6,{"$f":"IF(W51=\"\",\"\",W51*AA51)","v":""},null,null,null,null,null,null,null,null,null,null,48,"水素","t",0,0,0]
[null,null,"六フッ化硫黄（SF6）",null,null,null,null,null,null,null,null,null,null,null,null,null,null,null,null,null,"自己託送（非燃料由来の非化石電気）",null,null,1,null,{"$f":"IF(W52=\"\",\"\",W52*Y52)","v":""},3.6,{"$f":"IF(W52=\"\",\"\",W52*AA52)","v":""},null,null,null,null,null,null,null,null,null,null,49,"アンモニア","t",0,0,0]
[null,null,"三フッ化窒素（NF3）",null,null,null,null,null,null,null,null,null,null,null,null,null,null,null,null,null,"上記以外の自己託送",null,null,null,null,{"$f":"IF(W53=\"\",\"\",W53*Y53)","v":""},8.64,"",null,null,null,null,null,null,null,null,null,null,50,"産業用蒸気_非化石","GJ",0,0,0]
[null,null,"合　　　　計",null,null,null,{"$f":"IF(COUNTBLANK(G47:G53)=7,\"\",SUM(G47:G53))","v":""},null,null,null,null,null,null,null,null,null,null,null,null,null,null,null,null,null,null,null,null,null,null,null,null,null,null,null,null,null,null,null,51,"産業用以外の蒸気_非化石","GJ",0,0,0]
[null,null,null,null,null,null,null,null,null,null,null,null,null,null,null,null,null,null,null,null,null,"名称","買電量\n(千kWh)","うち非化石(%)\n（任意入力）","排出係数\n(tCO2/千kWh)","排出量\n(t-CO2)","換算係数\n(GJ/千ｋWh)","熱量\n(GJ)",null,null,null,null,null,null,null,null,null,null,52,"温水_非化石","GJ",0,0,0]
[null,null,"３．クレジット等による削減量",null,null,null,null,null,null,null,null,null,null,null,null,null,null,null,null,null,"その他買電",null,null,null,null,null,null,null,null,null,null,null,null,null,null,null,null,null,53,"冷水_非化石","GJ",0,0,0]
[null,null,"クレジット等の種類",null,null,null,"排出量\n(t-CO2)",null,null,null,null,null,null,null,null,null,null,null,null,null,null,null,null,null,null,{"$f":"IF(W57=\"\",\"\",W57*Y57)","v":""},8.64,{"$f":"W57*AA57","v":0},null,null,null,null,null,null,null,null,null,null,54,"地熱","GJ",0,0,0]
[null,null,null,null,null,null,null,null,null,null,null,null,null,null,null,null,null,null,null,null,null,null,null,null,null,"",8.64,{"$f":"W58*AA58","v":0},null,null,null,null,null,null,null,null,null,null,55,"温泉熱","GJ",0,0,0]
[null,null,null,null,null,null,null,null,null,null,null,null,null,null,null,null,null,null,null,null,"合計",null,{"$f":"SUM(W51:W53,W57:W58)","v":0},{"$f":"IF(W59=0,0,(SUMPRODUCT(W57:W58,X57:X58)+SUMPRODUCT(X51:X53,W51:W53))/W59)","v":0},null,{"$f":"SUM(Z51:Z53,Z57:Z58)","v":0},null,{"$f":"SUM(AB51:AB53,AB57:AB58)","v":0},null,null,null,null,null,null,null,null,null,null,56,"太陽熱","GJ",0,0,0]
[null,null,null,null,null,null,null,null,null,null,null,null,null,null,null,null,null,null,null,null,null,null,null,null,null,null,null,null,null,null,null,null,null,null,null,null,null,null,57,"雪氷熱","GJ",0,0,0]
[null,null,null,null,null,null,null,null,null,null,null,null,null,null,null,null,null,null,null,null,null,"売電量\n(千kWh)","換算係数\n(GJ/千ｋWh)","排出係数\n(tCO2/千kWh)","排出量\n(t-CO2)"]
[]
[null,null,null,null,null,null,null,null,null,null,null,null,null,null,null,null,null,null,null,null,"自家発電",null,null,null,{"$f":"IF(V63=\"\",\"\",V63*X63)","v":""}]
[]
[null,null,null,null,null,null,null,null,null,null,null,null,null,null,null,null,null,null,null,null,"自家消費した非化石電気","使用量\n(千kWh)","換算係数\n(GJ/千ｋWh)"]
[null,null,"合　　　　計",null,null,null,{"$f":"IF(COUNTBLANK(G59:G65)=7,\"\",SUM(G59:G65))","v":""}]
[null,null,null,null,null,null,null,null,null,null,null,null,null,null,null,null,null,null,null,null,"太陽光",null,3.6]
[null,null,"４．原単位の指標",null,null,null,null,null,null,null,null,null,null,null,null,null,null,null,null,null,"水力",null,3.6]
[null,null,"原単位の指標（分母）",null,null,null,null,null,null,null,null,null,null,null,null,null,null,null,null,null,"風力",null,3.6]
[null,null,null,null,null,null,null,null,null,null,null,null,null,null,null,null,null,null,null,null,"その他（非燃料由来の非化石）",null,3.6]
[null,null,"名称",null,null,null,{"$f":"'事業所排出量内訳 (基準年度)'!G71&\"\"","v":""},null,null,null,null,null,null,null,null,null,null,null,null,null,"合計",{"$f":"SUM(V67:V70)","v":0}]
[null,null,"単位",null,null,null,{"$f":"'事業所排出量内訳 (基準年度)'!G72&\"\"","v":""}]
[null,null,"数値"]

{"sheet":"報告書提出書","index":18,"n_rows":34,"n_cols":17,"rows_kept":34,"cut":false,"hidden":true,"merged":[[16,0,16,2],[16,3,16,16],[2,1,2,15],[7,6,7,7],[7,9,7,15],[8,6,8,7],[8,9,8,15],[9,6,9,7],[9,9,9,15],[11,0,12,16],[14,0,14,2],[14,3,14,16],[15,0,15,2],[15,3,15,16],[23,0,29,2],[23,3,24,4],[23,5,23,6],[23,7,23,16],[24,5,24,6],[24,7,24,16],[25,3,25,6],[25,7,25,16],[26,3,26,6],[26,7,26,16],[28,3,28,6],[28,7,28,16],[29,3,29,6],[29,7,29,16],[27,3,27,6],[27,7,27,16],[18,0,21,2],[18,4,18,16],[19,4,19,16],[20,4,20,16],[21,4,21,16],[32,0,33,0],[32,1,33,4],[32,7,32,16],[33,5,33,6],[33,7,33,16]]}
[]
[]
[null,"事業者温室効果ガス削減報告書　提出書"]
[]
[null,null,null,null,null,null,null,null,null,null,null,{"$f":"IF(はじめに!E30=\"\",\"\",はじめに!E30)","v":""},"年",{"$f":"IF(はじめに!G30=\"\",\"\",はじめに!G30)","v":""},"月",{"$f":"IF(はじめに!I30=\"\",\"\",はじめに!I30)","v":""},"日"]
["（あて先）仙台市長"]
[]
[null,null,null,null,null,null,"住所",null,null,{"$f":"IF(はじめに!E7=\"\",\"\",はじめに!E7)","v":""}]
[null,null,null,null,null,null,"法人の名称",null,null,{"$f":"IF(はじめに!E6=\"\",\"\",はじめに!E6)","v":""}]
[null,null,null,null,null,null,"代表者氏名",null,null,{"$f":"IF(はじめに!E8=\"\",\"\",はじめに!E8)","v":""}]
[]
["　仙台市地球温暖化対策等の推進に関する条例第11条第1項の規定により、別紙のとおり事業者温室効果ガス削減報告書を提出します。"]
[]
[]
["事業者の名称",null,null,{"$f":"IF(J9=\"\",\"\",J9)","v":""}]
["事業所の名称",null,null,{"$f":"IF(はじめに!E14=\"\",\"\",はじめに!E14)","v":""}]
["事業所の所在地",null,null,{"$f":"IF(はじめに!E16=\"\",\"\",はじめに!E16)","v":""}]
[]
["該当する\n事業者の要件",null,null,{"$f":"IF(はじめに!S10=TRUE,\"〇\",\"\")","v":""},"①原油換算エネルギー使用量が1,500kL以上の事業所\n　　（条例第2条第5号イに該当する特定事業者）"]
[null,null,null,{"$f":"IF(はじめに!S11=TRUE,\"〇\",\"\")","v":""},"②エネルギー起源CO2を除くいずれかの物質の温室効果ガス排出量が3,000トン以上の事業所（条例第2条第5号ロに該当する特定事業者）"]
[null,null,null,{"$f":"IF(はじめに!S12=TRUE,\"〇\",\"\")","v":""},"③市内に100台以上の自動車を所有する運送事業者\n　　（条例第2条第5号ハに該当する特定事業者）"]
[null,null,null,{"$f":"IF(はじめに!S13=TRUE,\"〇\",\"\")","v":"〇"},"④任意提出事業者\n　　（条例第15条第1項に該当する一般事業者）"]
[]
["連絡先",null,null,"担当者",null,"部署名",null,{"$f":"IF(はじめに!E21=\"\",\"\",はじめに!E21)","v":""}]
[null,null,null,null,null,"氏名",null,{"$f":"IF(はじめに!E24=\"\",\"\",はじめに!E24)","v":""}]
[null,null,null,"郵便番号",null,null,null,{"$f":"IF(はじめに!F22=\"\",\"\",はじめに!F22 & \"-\")  & IF(はじめに!H22=\"\",\"\",はじめに!H22)","v":""}]
[null,null,null,"住所",null,null,null,{"$f":"IF(はじめに!E23=\"\",\"\",はじめに!E23)","v":""}]
[null,null,null,"電話番号",null,null,null,{"$f":"IF(はじめに!E25=\"\",\"\",はじめに!E25)","v":""}]
[null,null,null,"ＦＡＸ番号",null,null,null,{"$f":"IF(はじめに!E26=\"\",\"\",はじめに!E26)","v":""}]
[null,null,null,"メールアドレス",null,null,null,{"$f":"IF(はじめに!E27=\"\",\"\",はじめに!E27)","v":""}]
[]
[]
["※受理",null,null,null,null," ※整理番号"]
[null,null,null,null,null,"※備考"]

{"sheet":"報告書（公表用）","index":19,"n_rows":52,"n_cols":17,"rows_kept":52,"cut":false,"hidden":true,"merged":[[2,1,2,12],[2,13,2,15],[5,0,5,3],[5,4,5,16],[6,0,6,3],[6,4,6,16],[33,8,33,9],[7,0,7,3],[7,4,7,16],[8,0,8,3],[8,4,8,16],[9,0,12,3],[9,5,9,16],[10,5,10,16],[11,5,11,16],[12,5,12,16],[16,8,16,9],[16,10,16,11],[16,13,16,14],[16,15,16,16],[17,8,17,9],[17,10,17,11],[17,13,17,14],[30,6,30,16],[19,0,30,3],[21,8,21,9],[21,10,21,11],[21,13,21,14],[25,8,25,9],[15,4,15,5],[15,8,15,9],[15,10,15,11],[15,13,15,14],[24,8,24,9],[15,0,18,3],[24,10,24,11],[24,13,24,14],[30,4,30,5],[28,10,28,11],[28,13,28,14],[15,15,15,16],[22,4,22,5],[22,6,22,16],[19,8,19,9],[19,10,19,11],[23,8,23,9],[23,10,23,11],[23,13,23,14],[23,15,23,16],[18,8,18,9],[18,10,18,11],[18,13,18,14],[16,4,18,5],[16,6,18,6],[16,7,18,7],[19,13,19,14],[19,15,19,16],[20,8,20,9],[20,10,20,11],[20,13,20,14],[19,4,21,5],[19,6,21,6],[19,7,21,7],[33,0,36,3],[33,4,33,5],[33,12,33,13],[34,4,34,5],[34,8,34,9],[34,10,34,16],[46,0,51,3],[46,4,46,7],[46,8,46,14],[46,15,46,16],[47,4,47,7],[47,8,47,14],[47,15,47,16],[40,0,45,3],[40,4,40,14],[40,15,40,16],[41,4,41,14],[41,15,41,16],[42,4,42,14],[42,15,42,16],[43,4,43,14],[43,15,43,16],[51,4,51,7],[51,8,51,14],[51,15,51,16],[48,4,48,7],[44,4,44,14],[50,4,50,7],[50,8,50,14],[50,15,50,16],[45,4,45,14],[45,15,45,16],[48,8,48,14],[48,15,48,16],[49,4,49,7],[49,8,49,14],[49,15,49,16],[44,15,44,16],[35,4,35,5],[35,8,35,9],[35,10,35,16],[36,4,36,5],[36,8,36,9],[36,10,36,16],[26,4,26,5],[25,10,25,11],[25,13,25,14],[29,8,29,9],[29,10,29,11],[29,13,29,14],[23,4,25,5],[23,6,25,6],[23,7,25,7],[27,4,29,5],[27,6,29,6],[27,7,29,7],[26,6,26,16],[27,8,27,9],[27,10,27,11],[27,13,27,14],[27,15,27,16],[28,8,28,9]]}
[]
[]
[null,"事業者温室効果ガス削減報告書概要（第二計画期間）",null,null,null,null,null,null,null,null,null,null,null,{"$f":"\" 第 \"&はじめに!F29&\" 年度分\"","v":" 第  年度分"}]
[]
["１　事業所の概要"]
["事業者の名称",null,null,null,{"$f":"IF(はじめに!E6=\"\",\"\",はじめに!E6)","v":""}]
["事業所の名称",null,null,null,{"$f":"IF(はじめに!E14=\"\",\"\",はじめに!E14)","v":""}]
["事業所の所在地",null,null,null,{"$f":"IF(はじめに!E16=\"\",\"\",はじめに!E16)","v":""}]
["主たる事業",null,null,null,{"$f":"IF(はじめに!S17=\"\",\"\",はじめに!S17)","v":""}]
["事業者の該当要件",null,null,null,{"$f":"IF(報告書提出書!D19=\"\",\"\",報告書提出書!D19)","v":""},"条例第2条第5号イに該当する特定事業者"]
[null,null,null,null,{"$f":"IF(報告書提出書!D20=\"\",\"\",報告書提出書!D20)","v":""},"条例第2条第5号ロに該当する特定事業者"]
[null,null,null,null,{"$f":"IF(報告書提出書!D21=\"\",\"\",報告書提出書!D21)","v":""},"条例第2条第5号ハに該当する特定事業者"]
[null,null,null,null,{"$f":"IF(報告書提出書!D22=\"\",\"\",報告書提出書!D22)","v":"〇"},"条例第15条第1項に該当する一般事業者"]
[]
["２　温室効果ガスの排出状況等"]
["温室効果ガスの\n削減目標",null,null,null,"基準年度",null,{"$f":"IF(はじめに!E4=\"\",\"\",はじめに!E4)","v":""},"年度","基準排出量",null,{"$f":"IF('報告書①（事業所概要・実績）'!H22=\"\",\"\",'報告書①（事業所概要・実績）'!H22)","v":""},null,"t-CO2","基準原単位",null,{"$f":"IF('報告書①（事業所概要・実績）'!M22=\"\",\"\",'報告書①（事業所概要・実績）'!M22)","v":""}]
[null,null,null,null,"目標年度",null,{"$f":"IF(はじめに!H3=\"\",\"\",はじめに!H3)","v":2025},"年度","目標排出量",null,{"$f":"IF('報告書①（事業所概要・実績）'!H23=\"\",\"\",'報告書①（事業所概要・実績）'!H23)","v":""},null,"t-CO2","目標原単位",null,{"$f":"IF('報告書①（事業所概要・実績）'!M23=\"\",\"\",'報告書①（事業所概要・実績）'!M23)","v":""}]
[null,null,null,null,null,null,null,null,"削減率",null,{"$f":"IF('報告書①（事業所概要・実績）'!H24=\"\",\"\",'報告書①（事業所概要・実績）'!H24)","v":""},null,"％","削減率",null,{"$f":"IF('報告書①（事業所概要・実績）'!M24=\"\",\"\",'報告書①（事業所概要・実績）'!M24)","v":""},"％"]
[null,null,null,null,null,null,null,null,"非化石電気",null,{"$f":"IF('計画書①（事業所概要・目標）'!H27=\"\",\"\",'計画書①（事業所概要・目標）'!H27)","v":""},null,"％","その他非化石\nエネルギー等",null,{"$f":"IF('計画書①（事業所概要・目標）'!M27=\"\",\"\",'計画書①（事業所概要・目標）'!M27)","v":""},"％"]
["温室効果ガスの\n排出状況",null,null,null,"第１年度",null,{"$f":"IF('報告書①（事業所概要・実績）'!C26=\"\",\"\",'報告書①（事業所概要・実績）'!C26)","v":""},"年度","排出量",null,{"$f":"IF('報告書①（事業所概要・実績）'!H26=\"\",\"\",'報告書①（事業所概要・実績）'!H26)","v":""},null,"t-CO2","排出原単位",null,{"$f":"IF('報告書①（事業所概要・実績）'!M26=\"\",\"\",'報告書①（事業所概要・実績）'!M26)","v":""}]
[null,null,null,null,null,null,null,null,"削減率",null,{"$f":"IF('報告書①（事業所概要・実績）'!H27=\"\",\"\",'報告書①（事業所概要・実績）'!H27)","v":""},null,"％","削減率",null,{"$f":"IF('報告書①（事業所概要・実績）'!M27=\"\",\"\",'報告書①（事業所概要・実績）'!M27)","v":""},"％"]
[null,null,null,null,null,null,null,null,"非化石電気",null,{"$f":"IF('報告書①（事業所概要・実績）'!H28=\"\",\"\",'報告書①（事業所概要・実績）'!H28)","v":""},null,"％","その他非化石\nエネルギー等",null,{"$f":"IF('報告書①（事業所概要・実績）'!M28=\"\",\"\",'報告書①（事業所概要・実績）'!M28)","v":""},"％"]
[null,null,null,null,"排出量等の\n増減理由",null,{"$f":"IF('報告書①（事業所概要・実績）'!C29=\"\",\"\",'報告書①（事業所概要・実績）'!C29)","v":""}]
[null,null,null,null,"第２年度",null,{"$f":"IF('報告書①（事業所概要・実績）'!C30=\"\",\"\",'報告書①（事業所概要・実績）'!C30)","v":""},"年度","排出量",null,{"$f":"IF('報告書①（事業所概要・実績）'!H30=\"\",\"\",'報告書①（事業所概要・実績）'!H30)","v":""},null,"t-CO2","排出原単位",null,{"$f":"IF('報告書①（事業所概要・実績）'!M30=\"\",\"\",'報告書①（事業所概要・実績）'!M30)","v":""}]
[null,null,null,null,null,null,null,null,"削減率",null,{"$f":"IF('報告書①（事業所概要・実績）'!H31=\"\",\"\",'報告書①（事業所概要・実績）'!H31)","v":""},null,"％","削減率",null,{"$f":"IF('報告書①（事業所概要・実績）'!M31=\"\",\"\",'報告書①（事業所概要・実績）'!M31)","v":""},"％"]
[null,null,null,null,null,null,null,null,"非化石電気",null,{"$f":"IF('報告書①（事業所概要・実績）'!H32=\"\",\"\",'報告書①（事業所概要・実績）'!H32)","v":""},null,"％","その他非化石\nエネルギー等",null,{"$f":"IF('報告書①（事業所概要・実績）'!M32=\"\",\"\",'報告書①（事業所概要・実績）'!M32)","v":""},"％"]
[null,null,null,null,"排出量等の\n増減理由",null,{"$f":"IF('報告書①（事業所概要・実績）'!C33=\"\",\"\",'報告書①（事業所概要・実績）'!C33)","v":""}]
[null,null,null,null,"第３年度",null,{"$f":"IF('報告書①（事業所概要・実績）'!C34=\"\",\"\",'報告書①（事業所概要・実績）'!C34)","v":""},"年度","排出量",null,{"$f":"IF('報告書①（事業所概要・実績）'!H34=\"\",\"\",'報告書①（事業所概要・実績）'!H34)","v":""},null,"t-CO2","排出原単位",null,{"$f":"IF('報告書①（事業所概要・実績）'!M34=\"\",\"\",'報告書①（事業所概要・実績）'!M34)","v":""}]
[null,null,null,null,null,null,null,null,"削減率",null,{"$f":"IF('報告書①（事業所概要・実績）'!H35=\"\",\"\",'報告書①（事業所概要・実績）'!H35)","v":""},null,"％","削減率",null,{"$f":"IF('報告書①（事業所概要・実績）'!M35=\"\",\"\",'報告書①（事業所概要・実績）'!M35)","v":""},"％"]
[null,null,null,null,null,null,null,null,"非化石電気",null,{"$f":"IF('報告書①（事業所概要・実績）'!H36=\"\",\"\",'報告書①（事業所概要・実績）'!H36)","v":""},null,"％","その他非化石\nエネルギー等",null,{"$f":"IF('報告書①（事業所概要・実績）'!M36=\"\",\"\",'報告書①（事業所概要・実績）'!M36)","v":""},"％"]
[null,null,null,null,"排出量等の\n増減理由",null,{"$f":"IF('報告書①（事業所概要・実績）'!C37=\"\",\"\",'報告書①（事業所概要・実績）'!C37)","v":""}]
[]
["３　温室効果ガスの排出抑制に関する取組"]
["基本対策の実施状況",null,null,null,"基準年度",null,{"$f":"IF('計画書② (取組）'!J9=\"\",\"\",'計画書② (取組）'!J9*100)","v":""},"％","目標年度",null,{"$f":"IF('計画書② (取組）'!J10=\"\",\"\",'計画書② (取組）'!J10*100)","v":""},"％"]
[null,null,null,null,"第１年度",null,{"$f":"IF('報告書② 第3年度(取組）'!T6=\"\",\"\",'報告書② 第3年度(取組）'!T6*100)","v":""},"％","実施状況の説明等",null,{"$f":"IF('報告書② 第3年度(取組）'!D38=\"\",\"\",'報告書② 第3年度(取組）'!D38)","v":""}]
[null,null,null,null,"第２年度",null,{"$f":"IF('報告書② 第3年度(取組）'!T7=\"\",\"\",'報告書② 第3年度(取組）'!T7*100)","v":""},"％","実施状況の説明等",null,{"$f":"IF('報告書② 第2年度(取組）'!D39=\"\",\"\",'報告書② 第2年度(取組）'!D39)","v":""}]
[null,null,null,null,"第３年度",null,{"$f":"IF('報告書② 第3年度(取組）'!T8=\"\",\"\",'報告書② 第3年度(取組）'!T8*100)","v":""},"％","実施状況の説明等",null,{"$f":"IF('報告書② 第3年度(取組）'!D40=\"\",\"\",'報告書② 第3年度(取組）'!D40)","v":""}]
[]
[]
[]
["選択対策の実施状況",null,null,null,"項目",null,null,null,null,null,null,null,null,null,null,"実施状況"]
[null,null,null,null,{"$f":"IF(はじめに!$F$29=1,'報告書② 第1年度(取組）'!C45&\"\",IF(はじめに!$F$29=2,'報告書② 第2年度(取組）'!C45&\"\",'報告書② 第3年度(取組）'!C45&\"\"))","v":""},null,null,null,null,null,null,null,null,null,null,{"$f":"IF(はじめに!$F$29=1,'報告書② 第1年度(取組）'!F45&\"\",IF(はじめに!$F$29=2,'報告書② 第2年度(取組）'!G45&\"\",'報告書② 第3年度(取組）'!H45&\"\"))","v":""}]
[null,null,null,null,{"$f":"IF(はじめに!$F$29=1,'報告書② 第1年度(取組）'!C46&\"\",IF(はじめに!$F$29=2,'報告書② 第2年度(取組）'!C46&\"\",'報告書② 第3年度(取組）'!C46&\"\"))","v":""},null,null,null,null,null,null,null,null,null,null,{"$f":"IF(はじめに!$F$29=1,'報告書② 第1年度(取組）'!F46&\"\",IF(はじめに!$F$29=2,'報告書② 第2年度(取組）'!G46&\"\",'報告書② 第3年度(取組）'!H46&\"\"))","v":""}]
[null,null,null,null,{"$f":"IF(はじめに!$F$29=1,'報告書② 第1年度(取組）'!C47&\"\",IF(はじめに!$F$29=2,'報告書② 第2年度(取組）'!C47&\"\",'報告書② 第3年度(取組）'!C47&\"\"))","v":""},null,null,null,null,null,null,null,null,null,null,{"$f":"IF(はじめに!$F$29=1,'報告書② 第1年度(取組）'!F47&\"\",IF(はじめに!$F$29=2,'報告書② 第2年度(取組）'!G47&\"\",'報告書② 第3年度(取組）'!H47&\"\"))","v":""}]
[null,null,null,null,{"$f":"IF(はじめに!$F$29=1,'報告書② 第1年度(取組）'!C48&\"\",IF(はじめに!$F$29=2,'報告書② 第2年度(取組）'!C48&\"\",'報告書② 第3年度(取組）'!C48&\"\"))","v":""},null,null,null,null,null,null,null,null,null,null,{"$f":"IF(はじめに!$F$29=1,'報告書② 第1年度(取組）'!F48&\"\",IF(はじめに!$F$29=2,'報告書② 第2年度(取組）'!G48&\"\",'報告書② 第3年度(取組）'!H48&\"\"))","v":""}]
[null,null,null,null,{"$f":"IF(はじめに!$F$29=1,'報告書② 第1年度(取組）'!C49&\"\",IF(はじめに!$F$29=2,'報告書② 第2年度(取組）'!C49&\"\",'報告書② 第3年度(取組）'!C49&\"\"))","v":""},null,null,null,null,null,null,null,null,null,null,{"$f":"IF(はじめに!$F$29=1,'報告書② 第1年度(取組）'!F49&\"\",IF(はじめに!$F$29=2,'報告書② 第2年度(取組）'!G49&\"\",'報告書② 第3年度(取組）'!H49&\"\"))","v":""}]
["その他の対策の\n実施状況",null,null,null,"項目",null,null,null,"具体的な取組内容",null,null,null,null,null,null,"実施状況"]
[null,null,null,null,{"$f":"IF(はじめに!$F$29=1,'報告書② 第1年度(取組）'!C70&\"\",IF(はじめに!$F$29=2,'報告書② 第2年度(取組）'!C70&\"\",'報告書② 第3年度(取組）'!C70&\"\"))","v":""},null,null,null,{"$f":"IF(はじめに!$F$29=1,'報告書② 第1年度(取組）'!D70&\"\",IF(はじめに!$F$29=2,'報告書② 第2年度(取組）'!D70&\"\",'報告書② 第3年度(取組）'!D70&\"\"))","v":""},null,null,null,null,null,null,{"$f":"IF(はじめに!$F$29=1,'報告書② 第1年度(取組）'!F70&\"\",IF(はじめに!$F$29=2,'報告書② 第2年度(取組）'!G70&\"\",'報告書② 第3年度(取組）'!H70&\"\"))","v":""}]
[null,null,null,null,{"$f":"IF(はじめに!$F$29=1,'報告書② 第1年度(取組）'!C71&\"\",IF(はじめに!$F$29=2,'報告書② 第2年度(取組）'!C71&\"\",'報告書② 第3年度(取組）'!C71&\"\"))","v":""},null,null,null,{"$f":"IF(はじめに!$F$29=1,'報告書② 第1年度(取組）'!D71&\"\",IF(はじめに!$F$29=2,'報告書② 第2年度(取組）'!D71&\"\",'報告書② 第3年度(取組）'!D71&\"\"))","v":""},null,null,null,null,null,null,{"$f":"IF(はじめに!$F$29=1,'報告書② 第1年度(取組）'!F71&\"\",IF(はじめに!$F$29=2,'報告書② 第2年度(取組）'!G71&\"\",'報告書② 第3年度(取組）'!H71&\"\"))","v":""}]
[null,null,null,null,{"$f":"IF(はじめに!$F$29=1,'報告書② 第1年度(取組）'!C72&\"\",IF(はじめに!$F$29=2,'報告書② 第2年度(取組）'!C72&\"\",'報告書② 第3年度(取組）'!C72&\"\"))","v":""},null,null,null,{"$f":"IF(はじめに!$F$29=1,'報告書② 第1年度(取組）'!D72&\"\",IF(はじめに!$F$29=2,'報告書② 第2年度(取組）'!D72&\"\",'報告書② 第3年度(取組）'!D72&\"\"))","v":""},null,null,null,null,null,null,{"$f":"IF(はじめに!$F$29=1,'報告書② 第1年度(取組）'!F72&\"\",IF(はじめに!$F$29=2,'報告書② 第2年度(取組）'!G72&\"\",'報告書② 第3年度(取組）'!H72&\"\"))","v":""}]
[null,null,null,null,{"$f":"IF(はじめに!$F$29=1,'報告書② 第1年度(取組）'!C73&\"\",IF(はじめに!$F$29=2,'報告書② 第2年度(取組）'!C73&\"\",'報告書② 第3年度(取組）'!C73&\"\"))","v":""},null,null,null,{"$f":"IF(はじめに!$F$29=1,'報告書② 第1年度(取組）'!D73&\"\",IF(はじめに!$F$29=2,'報告書② 第2年度(取組）'!D73&\"\",'報告書② 第3年度(取組）'!D73&\"\"))","v":""},null,null,null,null,null,null,{"$f":"IF(はじめに!$F$29=1,'報告書② 第1年度(取組）'!F73&\"\",IF(はじめに!$F$29=2,'報告書② 第2年度(取組）'!G73&\"\",'報告書② 第3年度(取組）'!H73&\"\"))","v":""}]
[null,null,null,null,{"$f":"IF(はじめに!$F$29=1,'報告書② 第1年度(取組）'!C74&\"\",IF(はじめに!$F$29=2,'報告書② 第2年度(取組）'!C74&\"\",'報告書② 第3年度(取組）'!C74&\"\"))","v":""},null,null,null,{"$f":"IF(はじめに!$F$29=1,'報告書② 第1年度(取組）'!D74&\"\",IF(はじめに!$F$29=2,'報告書② 第2年度(取組）'!D74&\"\",'報告書② 第3年度(取組）'!D74&\"\"))","v":""},null,null,null,null,null,null,{"$f":"IF(はじめに!$F$29=1,'報告書② 第1年度(取組）'!F74&\"\",IF(はじめに!$F$29=2,'報告書② 第2年度(取組）'!G74&\"\",'報告書② 第3年度(取組）'!H74&\"\"))","v":""}]

{"sheet":"委任状","index":20,"n_rows":27,"n_cols":15,"rows_kept":27,"cut":false,"hidden":true,"merged":[[12,6,12,7],[12,8,12,13],[15,0,16,14],[2,1,2,13],[4,8,4,9],[8,6,8,7],[8,8,8,13],[10,6,10,7],[10,8,10,13],[22,1,22,2],[24,1,24,2],[26,1,26,2],[22,4,22,13],[24,4,24,13],[26,4,26,13]]}
[]
[]
[null,"委任状"]
[]
[null,null,null,null,null,null,null,null,null,null,"年",null,"月",null,"日"]
[]
["（あて先）仙台市長"]
[]
[null,null,null,null,null,null,"住所",null,{"$f":"\"  \"&はじめに!E7&\"\"","v":"  "}]
[]
[null,null,null,null,null,null,"法人の名称",null,{"$f":"\"  \"&はじめに!E6&\"\"","v":"  "}]
[]
[null,null,null,null,null,null,"代表者氏名",null,{"$f":"IF(はじめに!E8=\"\",\"\",IFERROR(\"  \"&RIGHT(はじめに!E8,LEN(はじめに!E8)-FIND(\" \",ASC(はじめに!E8))),\"役職名と氏名をスペースで区切って下さい。\"))","v":""}]
[]
[]
["　下記の者を代理人と定め、仙台市地球温暖化対策等の推進に関する条例第10条及び第11条に基づく手続きに関する一切の権限を委任します。"]
[]
[]
[]
[null,null,null,null,null,null,null,"記"]
[]
[]
[null,"住所"]
[]
[null,"名称"]
[]
[null,"氏名"]

{"sheet":"評価点まとめ","index":21,"n_rows":11,"n_cols":11,"rows_kept":11,"cut":false,"hidden":true,"merged":[[1,0,1,1],[7,0,7,1],[2,8,2,9],[2,10,3,10],[5,3,6,3],[5,2,6,2],[2,0,3,0],[4,0,6,0]]}
[]
["評価項目",null,"配点（最大）","評価点"]
["定量項目","排出量",50,{"$f":"'報告書①（事業所概要・実績）'!Z24","v":""},null,null,null,null,"評価点",null,"評価"]
[null,"原単位",50,{"$f":"'報告書①（事業所概要・実績）'!Z25","v":""},null,null,null,null,"以上","未満"]
["定性項目","基本対策",50,{"$f":"  '報告書② 第3年度(取組）'!U9","v":""},"（内訳）",null,null,null,160,null,"S"]
[null,"選択対策","50\n（うち、その他対策25）",{"$f":"IF(SUM(E6:E7)>=50,50,SUM(E6:E7))","v":0},{"$f":"  '報告書② 第3年度(取組）'!T48","v":""},null,null,null,130,160,"A"]
[null,"その他対策",null,null,{"$f":"  '報告書② 第3年度(取組）'!S73","v":""},null,null,null,null,130,"B"]
["合計",null,200,{"$f":"SUM(D3:D7)","v":0}]
[]
[]
[null,null,"評価",{"$f":"IF(D8>=I5,K5,IF(AND(D8>=I6,D8<J6),K6,IF(D8<J7,K7,\"-\")))","v":"B"}]

{"sheet":"係数","index":22,"n_rows":80,"n_cols":26,"rows_kept":80,"cut":false,"hidden":true,"merged":[[17,19,19,19],[20,5,21,5],[20,19,21,19],[31,1,47,1],[31,15,47,15],[41,4,42,4],[41,18,42,18],[2,1,30,1],[2,15,30,15],[13,4,14,4],[13,18,14,18],[15,4,16,4],[15,18,16,18],[17,4,22,4],[17,5,19,5],[17,18,22,18],[60,18,61,18],[64,4,67,4],[64,5,65,5],[64,18,67,18],[71,4,73,4],[71,18,73,18],[48,1,59,1],[48,15,59,15],[60,1,79,1],[60,4,61,4],[60,15,79,15],[72,5,73,5],[64,19,65,19],[66,5,67,5],[66,19,67,19],[68,4,70,4],[68,18,70,18],[69,5,70,5],[69,19,70,19],[72,19,73,19],[74,4,79,4],[74,18,79,18],[78,5,79,5],[78,19,79,19]]}
[null,"2022年度　燃料種別の単位発熱量及び炭素排出係数",null,null,null,null,null,null,null,null,null,null,null,null,null,"2023年度　燃料種別の単位発熱量及び炭素排出係数"]
[null,null,"エネルギー名称区分","エネルギー区分","エネルギーの種類",null,null,"単位","単位発熱量",null,"炭素排出係数",null,null,null,null,null,"エネルギー名称区分","エネルギー区分","燃料及び熱の種類",null,null,"単位","単位発熱量",null,"炭素排出係数"]
[null,"化\n石\n燃\n料","原油（コンデンセートを除く。）","化石燃料","原油（コンデンセートを除く。）",null,null,"kl",38.200000000000003,"GＪ/ｋｌ",1.8700000000000001E-2,"tC/GJ",null,null,null,"化\n石\n燃\n料","原油（コンデンセートを除く。）","化石燃料","原油（コンデンセートを除く。）",null,null,"kl",38.299999999999997,"GＪ/ｋｌ",1.9E-2,"tC/GJ"]
[null,null,"原油のうちコンデンセート(NGL)","化石燃料","原油のうちコンデンセート(NGL)",null,null,"kl",35.299999999999997,"GＪ/ｋｌ",1.84E-2,"tC/GJ",null,null,null,null,"原油のうちコンデンセート(NGL)","化石燃料","原油のうちコンデンセート(NGL)",null,null,"kl",34.799999999999997,"GＪ/ｋｌ",1.83E-2,"tC/GJ"]
[null,null,"揮発油","化石燃料","揮発油",null,null,"kl",34.6,"GＪ/ｋｌ",1.83E-2,"tC/GJ",null,null,null,null,"揮発油","化石燃料","揮発油",null,null,"kl",33.4,"GＪ/ｋｌ",1.8700000000000001E-2,"tC/GJ"]
[null,null,"ナフサ","化石燃料","ナフサ",null,null,"kl",33.6,"GＪ/ｋｌ",1.8200000000000001E-2,"tC/GJ",null,null,null,null,"ナフサ","化石燃料","ナフサ",null,null,"kl",33.299999999999997,"GＪ/ｋｌ",1.8599999999999998E-2,"tC/GJ"]
[null,null,"ジェット燃料油","化石燃料","ジェット燃料油",null,null,"kl",36.700000000000003,"GＪ/ｋｌ",1.83E-2,"tC/GJ",null,null,null,null,"ジェット燃料油","化石燃料","ジェット燃料油",null,null,"kl",36.299999999999997,"GＪ/ｋｌ",1.8599999999999998E-2,"tC/GJ"]
[null,null,"灯油","化石燃料","灯油",null,null,"kl",36.700000000000003,"GＪ/ｋｌ",1.8499999999999999E-2,"tC/GJ",null,null,null,null,"灯油","化石燃料","灯油",null,null,"kl",36.5,"GＪ/ｋｌ",1.8700000000000001E-2,"tC/GJ"]
[null,null,"軽油","化石燃料","軽油",null,null,"kl",37.700000000000003,"GＪ/ｋｌ",1.8700000000000001E-2,"tC/GJ",null,null,null,null,"軽油","化石燃料","軽油",null,null,"kl",38,"GＪ/ｋｌ",1.8800000000000001E-2,"tC/GJ"]
[null,null,"Ａ重油","化石燃料","Ａ重油",null,null,"kl",39.1,"GＪ/ｋｌ",1.89E-2,"tC/GJ",null,null,null,null,"Ａ重油","化石燃料","Ａ重油",null,null,"kl",38.9,"GＪ/ｋｌ",1.9300000000000001E-2,"tC/GJ"]
[null,null,"Ｂ・Ｃ重油","化石燃料","Ｂ・Ｃ重油",null,null,"kl",41.9,"GＪ/ｋｌ",1.95E-2,"tC/GJ",null,null,null,null,"Ｂ・Ｃ重油","化石燃料","Ｂ・Ｃ重油",null,null,"kl",41.8,"GＪ/ｋｌ",2.0199999999999999E-2,"tC/GJ"]
[null,null,"石油アスファルト","化石燃料","石油アスファルト",null,null,"t",40.9,"GＪ/ｔ",2.0799999999999999E-2,"tC/GJ",null,null,null,null,"石油アスファルト","化石燃料","石油アスファルト",null,null,"t",40,"GＪ/ｔ",2.0400000000000001E-2,"tC/GJ"]
[null,null,"石油コークス","化石燃料","石油コークス",null,null,"t",29.9,"GＪ/ｔ",2.5399999999999999E-2,"tC/GJ",null,null,null,null,"石油コークス","化石燃料","石油コークス",null,null,"t",34.1,"GＪ/ｔ",2.4500000000000001E-2,"tC/GJ"]
[null,null,"液化石油ガス     (LPG)","化石燃料","石油ガス","液化石油ガス     (LPG)",null,"t",50.8,"GＪ/ｔ",1.61E-2,"tC/GJ",null,null,null,null,"液化石油ガス     (LPG)","化石燃料","石油ガス","液化石油ガス     (LPG)",null,"t",50.1,"GＪ/ｔ",1.6299999999999999E-2,"tC/GJ"]
[null,null,"石油系炭化水素ガス","化石燃料",null,"石油系炭化水素ガス",null,"千Nm3",44.9,"GＪ/千ｍ３",1.4200000000000001E-2,"tC/GJ",null,null,null,null,"石油系炭化水素ガス","化石燃料",null,"石油系炭化水素ガス",null,"千Nm3",46.1,"GＪ/千ｍ３",1.44E-2,"tC/GJ"]
[null,null,"液化天然ガス     (LNG)","化石燃料","可燃性\n天然ガス","液化天然ガス     (LNG)",null,"t",54.6,"GＪ/ｔ",1.35E-2,"tC/GJ",null,null,null,null,"液化天然ガス     (LNG)","化石燃料","可燃性\n天然ガス","液化天然ガス     (LNG)",null,"t",54.7,"GＪ/ｔ",1.3899999999999999E-2,"tC/GJ"]
[null,null,"その他可燃性天然ガス","化石燃料",null,"その他可燃性天然ガス",null,"千Nm3",43.5,"GＪ/千ｍ３",1.3899999999999999E-2,"tC/GJ",null,null,null,null,"その他可燃性天然ガス","化石燃料",null,"その他可燃性天然ガス",null,"千Nm3",38.4,"GＪ/千ｍ３",1.3899999999999999E-2,"tC/GJ"]
[null,null,"原料炭","化石燃料","石炭","原料炭","輸入原料炭","t",29,"GＪ/ｔ",2.4500000000000001E-2,"tC/GJ",null,null,null,null,"輸入原料炭","化石燃料","石炭","原料炭","輸入原料炭","t",28.7,"GＪ/ｔ",2.46E-2,"tC/GJ"]
[null,null,null,"化石燃料",null,null,"コークス用原料炭","t","ー",null,"ー",null,null,null,null,null,"コークス用原料炭","化石燃料",null,null,"コークス用原料炭","t",28.9,"GＪ/ｔ",2.4500000000000001E-2,"tC/GJ"]
[null,null,null,"化石燃料",null,null,"吹込用原料炭","t","ー",null,"ー",null,null,null,null,null,"吹込用原料炭","化石燃料",null,null,"吹込用原料炭","t",28.3,"GＪ/ｔ",2.5100000000000001E-2,"tC/GJ"]
[null,null,"一般炭","化石燃料",null,"一般炭","輸入一般炭","t",25.7,"GＪ/ｔ",2.47E-2,"tC/GJ",null,null,null,null,"輸入一般炭","化石燃料",null,"一般炭","輸入一般炭","t",26.1,"GＪ/ｔ",2.4299999999999999E-2,"tC/GJ"]
[null,null,null,"化石燃料",null,null,"国産一般炭","t","ー",null,"ー",null,null,null,null,null,"国産一般炭","化石燃料",null,null,"国産一般炭","t",24.2,"GＪ/ｔ",2.4199999999999999E-2,"tC/GJ"]
[null,null,"無煙炭","化石燃料",null,"輸入無煙炭",null,"t",26.9,"GＪ/ｔ",2.5499999999999998E-2,"tC/GJ",null,null,null,null,"輸入無煙炭","化石燃料",null,"輸入無煙炭",null,"t",27.8,"GＪ/ｔ",2.5899999999999999E-2,"tC/GJ"]
[null,null,"石炭コークス","化石燃料","石炭コークス",null,null,"t",29.4,"GＪ/ｔ",2.9399999999999999E-2,"tC/GJ",null,null,null,null,"石炭コークス","化石燃料","石炭コークス",null,null,"t",29,"GＪ/ｔ",2.9899999999999999E-2,"tC/GJ"]
[null,null,"コールタール","化石燃料","コールタール",null,null,"t",37.299999999999997,"GＪ/ｔ",2.0899999999999998E-2,"tC/GJ",null,null,null,null,"コールタール","化石燃料","コールタール",null,null,"t",37.299999999999997,"GＪ/ｔ",2.0899999999999998E-2,"tC/GJ"]
[null,null,"コークス炉ガス","化石燃料","コークス炉ガス",null,null,"千Nm3",21.1,"GＪ/千ｍ３",1.0999999999999999E-2,"tC/GJ",null,null,null,null,"コークス炉ガス","化石燃料","コークス炉ガス",null,null,"千Nm3",18.399999999999999,"GＪ/千ｍ３",1.09E-2,"tC/GJ"]
[null,null,"高炉ガス","化石燃料","高炉ガス",null,null,"千Nm3",3.41,"GＪ/千ｍ３",2.63E-2,"tC/GJ",null,null,null,null,"高炉ガス","化石燃料","高炉ガス",null,null,"千Nm3",3.23,"GＪ/千ｍ３",2.64E-2,"tC/GJ"]
[null,null,null,"化石燃料","発電用高炉ガス",null,null,"千Nm3","ー",null,"ー",null,null,null,null,null,"発電用高炉ガス","化石燃料","発電用高炉ガス",null,null,"千Nm3",3.45,"GＪ/千ｍ３",2.64E-2,"tC/GJ"]
[null,null,"転炉ガス","化石燃料","転炉ガス",null,null,"千Nm3",8.41,"GＪ/千ｍ３",3.8399999999999997E-2,"tC/GJ",null,null,null,null,"転炉ガス","化石燃料","転炉ガス",null,null,"千Nm3",7.53,"GＪ/千ｍ３",4.2000000000000003E-2,"tC/GJ"]
[null,null,"都市ガス","化石燃料","都市ガス",null,null,"千m3",45,"GＪ/千ｍ３",1.3599999999999999E-2,"tC/GJ",null,null,null,null,"都市ガス","化石燃料","都市ガス",null,null,"千m3",45,"GＪ/千ｍ３",1.4E-2,"tC/GJ"]
[null,null,"テナント空調等推計値","化石燃料","テナント空調等推計値",null,null,"GJ",1,"GＪ/GＪ",5.7000000000000002E-2,"tCO2/GJ",null,null,null,null,"テナント空調等推計値","化石燃料","テナント空調等推計値",null,null,"GJ",1.19,"GＪ/GＪ","ー"]
[null,"非\n化\n石\n燃\n料","黒液","非化石燃料","黒液",null,null,"t","ー",null,"ー",null,null,null,null,"非\n化\n石\n燃\n料","黒液","非化石燃料","黒液",null,null,"t",13.6,"GJ/t","ー"]
[null,null,"木材","非化石燃料","木材",null,null,"t","ー",null,"ー",null,null,null,null,null,"木材","非化石燃料","木材",null,null,"t",13.2,"GJ/t","ー"]
[null,null,"木質廃材","非化石燃料","木質廃材",null,null,"t","ー",null,"ー",null,null,null,null,null,"木質廃材","非化石燃料","木質廃材",null,null,"t",17.100000000000001,"GJ/t","ー"]
[null,null,"バイオエタノール","非化石燃料","バイオエタノール",null,null,"kl","ー",null,"ー",null,null,null,null,null,"バイオエタノール","非化石燃料","バイオエタノール",null,null,"kl",23.4,"GJ/kl","ー"]
[null,null,"バイオディーゼル","非化石燃料","バイオディーゼル",null,null,"kl","ー",null,"ー",null,null,null,null,null,"バイオディーゼル","非化石燃料","バイオディーゼル",null,null,"kl",35.6,"GJ/kl","ー"]
[null,null,"バイオガス","非化石燃料","バイオガス",null,null,"千㎥","ー",null,"ー",null,null,null,null,null,"バイオガス","非化石燃料","バイオガス",null,null,"千㎥",21.2,"GJ/千㎥","ー"]
[null,null,"その他バイオマス","非化石燃料","その他バイオマス",null,null,"t","ー",null,"ー",null,null,null,null,null,"その他バイオマス","非化石燃料","その他バイオマス",null,null,"t",13.2,"GJ/t","ー"]
[null,null,"RDF","非化石燃料","RDF",null,null,"t","ー",null,"ー",null,null,null,null,null,"RDF","非化石燃料","RDF",null,null,"t",18,"GJ/t",1.6199999999999999E-2,"tC/GJ"]
[null,null,"RPF","非化石燃料","RPF",null,null,"t","ー",null,"ー",null,null,null,null,null,"RPF","非化石燃料","RPF",null,null,"t",26.9,"GJ/t",1.66E-2,"tC/GJ"]
[null,null,"廃タイヤ","非化石燃料","廃タイヤ",null,null,"t","ー",null,"ー",null,null,null,null,null,"廃タイヤ","非化石燃料","廃タイヤ",null,null,"t",33.200000000000003,"GJ/t",1.35E-2,"tC/GJ"]
[null,null,"廃プラスチック_一般廃棄物","非化石燃料","廃プラスチック","一般廃棄物",null,"t","ー",null,"ー",null,null,null,null,null,"廃プラスチック_一般廃棄物","非化石燃料","廃プラスチック","一般廃棄物",null,"t",29.3,"GJ/t",2.5700000000000001E-2,"tC/GJ"]
[null,null,"廃プラスチック_産業廃棄物","非化石燃料",null,"産業廃棄物",null,"t","ー",null,"ー",null,null,null,null,null,"廃プラスチック_産業廃棄物","非化石燃料",null,"産業廃棄物",null,"t",29.3,"GJ/t",2.3900000000000001E-2,"tC/GJ"]
[null,null,"廃油","非化石燃料","廃油",null,null,"kl","ー",null,"ー",null,null,null,null,null,"廃油","非化石燃料","廃油",null,null,"kl",40.200000000000003,"GJ/kl",1.7899999999999999E-2,"tC/GJ"]
[null,null,"廃棄物ガス","非化石燃料","廃棄物ガス",null,null,"千㎥","ー",null,"ー",null,null,null,null,null,"廃棄物ガス","非化石燃料","廃棄物ガス",null,null,"千㎥",21.2,"GJ/千㎥","ー"]
[null,null,"混合廃材","非化石燃料","混合廃材",null,null,"t","ー",null,"ー",null,null,null,null,null,"混合廃材","非化石燃料","混合廃材",null,null,"t",17.100000000000001,"GJ/t","ー"]
[null,null,"水素","非化石燃料","水素",null,null,"t","ー",null,"ー",null,null,null,null,null,"水素","非化石燃料","水素",null,null,"t",142,"GJ/t","ー"]
[null,null,"アンモニア","非化石燃料","アンモニア",null,null,"t","ー",null,"ー",null,null,null,null,null,"アンモニア","非化石燃料","アンモニア",null,null,"t",22.5,"GJ/t","ー"]
[null,"熱","産業用蒸気","熱","産業用蒸気",null,null,"GJ",1.02,"GＪ/GＪ",0.06,"tCO2/GJ",null,null,null,"熱","産業用蒸気_化石","熱","産業用蒸気",null,null,"GJ",1.17,"GＪ/GＪ",6.54E-2,"tCO2/GJ"]
[null,null,"産業用以外の蒸気","熱","産業用以外の蒸気",null,null,"GJ",1.36,"GＪ/GＪ",5.7000000000000002E-2,"tCO2/GJ",null,null,null,null,"産業用以外の蒸気_化石","熱","産業用以外の蒸気",null,null,"GJ",1.19,"GＪ/GＪ","ー"]
[null,null,"温水","熱","温水",null,null,"GJ",1.36,"GＪ/GＪ",5.7000000000000002E-2,"tCO2/GJ",null,null,null,null,"温水_化石","熱","温水",null,null,"GJ",1.19,"GＪ/GＪ","ー"]
[null,null,"冷水","熱","冷水",null,null,"GJ",1.36,"GＪ/GＪ",5.7000000000000002E-2,"tCO2/GJ",null,null,null,null,"冷水_化石","熱","冷水",null,null,"GJ",1.19,"GＪ/GＪ","ー"]
[null,null,"産業用蒸気_非化石","熱","産業用蒸気",null,null,"GJ","ー",null,"ー",null,null,null,null,null,"産業用蒸気_非化石","熱","産業用蒸気",null,null,"GJ",1.17,"GＪ/GＪ","ー"]
[null,null,"産業用以外の蒸気_非化石","熱","産業用以外の蒸気",null,null,"GJ","ー",null,"ー",null,null,null,null,null,"産業用以外の蒸気_非化石","熱","産業用以外の蒸気",null,null,"GJ",1.19,"GＪ/GＪ","ー"]
[null,null,"温水_非化石","熱","温水",null,null,"GJ","ー",null,"ー",null,null,null,null,null,"温水_非化石","熱","温水",null,null,"GJ",1.19,"GＪ/GＪ","ー"]
[null,null,"冷水_非化石","熱","冷水",null,null,"GJ","ー",null,"ー",null,null,null,null,null,"冷水_非化石","熱","冷水",null,null,"GJ",1.19,"GＪ/GＪ","ー"]
[null,null,"地熱","熱","地熱",null,null,"GJ","ー",null,"ー",null,null,null,null,null,"地熱","熱","地熱",null,null,"GJ","ー",null,"ー"]
[null,null,"温泉熱","熱","温泉熱",null,null,"GJ","ー",null,"ー",null,null,null,null,null,"温泉熱","熱","温泉熱",null,null,"GJ","ー",null,"ー"]
[null,null,"太陽熱","熱","太陽熱",null,null,"GJ","ー",null,"ー",null,null,null,null,null,"太陽熱","熱","太陽熱",null,null,"GJ","ー",null,"ー"]
[null,null,"雪氷熱","熱","雪氷熱",null,null,"GJ","ー",null,"ー",null,null,null,null,null,"雪氷熱","熱","雪氷熱",null,null,"GJ","ー",null,"ー"]
[null,"電\n気","電気事業者_昼間買電","電気","電気\n事業者","昼間買電",null,"千kWh",9.9700000000000006,"GＪ/千kWh","ー",null,null,null,null,"電\n気","電気事業者_昼間買電","電気","電気\n事業者","昼間買電",null,"千kWh",8.64,"GＪ/千kWh","ー"]
[null,null,"電気事業者_夜間買電","電気",null,"夜間買電",null,"千kWh",9.2799999999999994,"GＪ/千kWh","ー",null,null,null,null,null,"電気事業者_夜間買電","電気",null,"夜間買電",null,"千kWh",8.64,"GＪ/千kWh","ー"]
[null,null,"自家発電","電気","自家発電",null,null,"千kWh",9.76,"GＪ/千kWh","ー",null,null,null,null,null,"自家発電","電気","自家発電",null,null,"千kWh","ー",null,"ー"]
[null,null,"その他買電","電気","その他買電",null,null,"千kWh",9.76,"GＪ/千kWh","ー",null,null,null,null,null,"その他買電","電気","その他買電",null,null,"千kWh",8.64,"GＪ/千kWh","ー"]
[null,null,"自己託送以外_電気事業者からの買電_化石分","電気","自己託送\n以外","電気事業者\nからの買電","化石分","千kWh","ー",null,"ー",null,null,null,null,null,"自己託送以外_電気事業者からの買電_化石分","電気","自己託送\n以外","電気事業者\nからの買電","化石分","千kWh",8.64,"GＪ/千kWh","ー"]
[null,null,"自己託送以外_電気事業者からの買電_非化石分","電気",null,null,"非化石分","千kWh","ー",null,"ー",null,null,null,null,null,"自己託送以外_電気事業者からの買電_非化石分","電気",null,null,"非化石分","千kWh",8.64,"GＪ/千kWh","ー"]
[null,null,"自己託送以外_オフサイト型PPA_非化石重み付けなし","電気",null,"オフサイト型\nPPA","非化石\n重み付けなし","千kWh","ー",null,"ー",null,null,null,null,null,"自己託送以外_オフサイト型PPA_非化石重み付けなし","電気",null,"オフサイト型\nPPA","非化石\n重み付けなし","千kWh",3.6,"GＪ/千kWh","ー"]
[null,null,"自己託送以外_オフサイト型PPA_非化石重み付けあり","電気",null,null,"非化石\n重み付けあり","千kWh","ー",null,"ー",null,null,null,null,null,"自己託送以外_オフサイト型PPA_非化石重み付けあり","電気",null,null,"非化石\n重み付けあり","千kWh",3.6,"GＪ/千kWh","ー"]
[null,null,"自己託送_非燃料由来の非化石電気","電気","自己託送","非燃料由来の非化石電気",null,"千kWh","ー",null,"ー",null,null,null,null,null,"自己託送_非燃料由来の非化石電気","電気","自己託送","非燃料由来の非化石電気",null,"千kWh",3.6,"GＪ/千kWh","ー"]
[null,null,"自己託送_上記以外_化石分","電気",null,"上記以外","化石分","千kWh","ー",null,"ー",null,null,null,null,null,"自己託送_上記以外_化石分","電気",null,"上記以外","化石分","千kWh",8.64,"GＪ/千kWh","ー"]
[null,null,"自己託送_上記以外_非化石分","電気",null,null,"非化石分","千kWh","ー",null,"ー",null,null,null,null,null,"自己託送_上記以外_非化石分","電気",null,null,"非化石分","千kWh",8.64,"GＪ/千kWh","ー"]
[null,null,"自営線_非燃料由来の非化石電気","電気","自営線","非燃料由来の非化石電気",null,"千kWh","ー",null,"ー",null,null,null,null,null,"自営線_非燃料由来の非化石電気","電気","自営線","非燃料由来の非化石電気",null,"千kWh",3.6,"GＪ/千kWh","ー"]
[null,null,"自営線_上記以外_化石分","電気",null,"上記以外","化石分","千kWh","ー",null,"ー",null,null,null,null,null,"自営線_上記以外_化石分","電気",null,"上記以外","化石分","千kWh",8.64,"GＪ/千kWh","ー"]
[null,null,"自営線_上記以外_非化石分","電気",null,null,"非化石分","千kWh","ー",null,"ー",null,null,null,null,null,"自営線_上記以外_非化石分","電気",null,null,"非化石分","千kWh",8.64,"GＪ/千kWh","ー"]
[null,null,"自家発電_太陽光","電気","自家発電","太陽光",null,"千kWh","ー",null,"ー",null,null,null,null,null,"自家発電_太陽光","電気","自家発電","太陽光",null,"千kWh",3.6,"GＪ/千kWh","ー"]
[null,null,"自家発電_風力","電気",null,"風力",null,"千kWh","ー",null,"ー",null,null,null,null,null,"自家発電_風力","電気",null,"風力",null,"千kWh",3.6,"GＪ/千kWh","ー"]
[null,null,"自家発電_地熱","電気",null,"地熱",null,"千kWh","ー",null,"ー",null,null,null,null,null,"自家発電_地熱","電気",null,"地熱",null,"千kWh",3.6,"GＪ/千kWh","ー"]
[null,null,"自家発電_水力","電気",null,"水力",null,"千kWh","ー",null,"ー",null,null,null,null,null,"自家発電_水力","電気",null,"水力",null,"千kWh",3.6,"GＪ/千kWh","ー"]
[null,null,"自家発電_その他_非燃料由来の非化石","電気",null,"その他","非燃料由来\nの非化石","千kWh","ー",null,"ー",null,null,null,null,null,"自家発電_その他_非燃料由来の非化石","電気",null,"その他","非燃料由来\nの非化石","千kWh",3.6,"GＪ/千kWh","ー"]
[null,null,"自家発電_その他_上記以外","電気",null,null,"上記以外","千kWh","ー",null,"ー",null,null,null,null,null,"自家発電_その他_上記以外","電気",null,null,"上記以外","千kWh","ー",null,"ー"]

{"sheet":"産業分類","index":23,"n_rows":1460,"n_cols":8,"rows_kept":1460,"cut":false,"hidden":true,"merged":[]}
["中分類","名称",null,"小分類","名称",null,"細分類","名称"]
["01","農業",null,"010","管理，補助的経済活動を行う事業所（01農業）",null,"0100","主として管理事務を行う本社等"]
["02","林業",null,"011","耕種農業",null,"0109","その他の管理，補助的経済活動を行う事業所"]
["03","漁業（水産養殖業を除く）",null,"012","畜産農業",null,"0111","米作農業"]
["04","水産養殖業",null,"013","農業サービス業（園芸サービス業を除く）",null,"0112","米作以外の穀作農業"]
["05","鉱業、採石業、砂利採取業",null,"014","園芸サービス業",null,"0113","野菜作農業（きのこ類の栽培を含む）"]
["06","総合工事業",null,"020","管理，補助的経済活動を行う事業所（02林業）",null,"0114","果樹作農業"]
["07","職別工事業(設備工事業を除く)",null,"021","育林業",null,"0115","花き作農業"]
["08","設備工事業",null,"022","素材生産業",null,"0116","工芸農作物農業"]
["09","食料品製造業",null,"023","特用林産物生産業（きのこ類の栽培を除く）",null,"0117","ばれいしょ・かんしょ作農業"]
["10","飲料・たばこ・飼料製造業",null,"024","林業サービス業",null,"0119","その他の耕種農業"]
["11","繊維工業",null,"029","その他の林業",null,"0121","酪農業"]
["12","木材・木製品製造業（家具を除く）",null,"030","管理，補助的経済活動を行う事業所（03漁業）",null,"0122","肉用牛生産業"]
["13","家具・装備品製造業",null,"031","海面漁業",null,"0123","養豚業"]
["14","パルプ・紙・紙加工品製造業",null,"032","内水面漁業",null,"0124","養鶏業"]
["15","印刷・同関連業",null,"040","管理，補助的経済活動を行う事業所（04水産養殖業）",null,"0125","畜産類似業"]
["16","化学工業",null,"041","海面養殖業",null,"0126","養蚕農業"]
["17","石油製品・石炭製品製造業",null,"042","内水面養殖業",null,"0129","その他の畜産農業"]
["18","プラスチック製品製造業（別掲を除く）",null,"050","管理，補助的経済活動を行う事業所（05鉱業，採石業，砂利採取業）",null,"0131","穀作サービス業"]
["19","ゴム製品製造業",null,"051","金属鉱業",null,"0132","野菜作・果樹作サービス業"]
["20","なめし革・同製品・毛皮製造業",null,"052","石炭・亜炭鉱業",null,"0133","穀作，野菜作・果樹作以外の耕種サービス業"]
["21","窯業・土石製品製造業",null,"053","原油・天然ガス鉱業",null,"0134","畜産サービス業（獣医業を除く）"]
["22","鉄鋼業",null,"054","採石業，砂・砂利・玉石採取業",null,"0141","園芸サービス業"]
["23","非鉄金属製造業",null,"055","窯業原料用鉱物鉱業（耐火物・陶磁器・ガラス・セメント原料用に限る）",null,"0200","主として管理事務を行う本社等"]
["24","金属製品製造業",null,"059","その他の鉱業",null,"0209","その他の管理，補助的経済活動を行う事業所"]
["25","はん用機械器具製造業",null,"060","管理，補助的経済活動を行う事業所（06総合工事業）",null,"0211","育林業"]
["26","生産用機械器具製造業",null,"061","一般土木建築工事業",null,"0221","素材生産業"]
["27","業務用機械器具製造業",null,"062","土木工事業（舗装工事業を除く）",null,"0231","製薪炭業"]
["28","電子部品・デバイス・電子回路製造業",null,"063","舗装工事業",null,"0239","その他の特用林産物生産業（きのこ類の栽培を除く）"]
["29","電気機械器具製造業",null,"064","建築工事業(木造建築工事業を除く)",null,"0241","育林サービス業"]
["30","情報通信機械器具製造業",null,"065","木造建築工事業",null,"0242","素材生産サービス業"]
["31","輸送用機械器具製造業",null,"066","建築リフォーム工事業",null,"0243","山林種苗生産サービス業"]
["32","その他の製造業",null,"070","管理，補助的経済活動を行う事業所（07職別工事業）",null,"0249","その他の林業サービス業"]
["33","電気業",null,"071","大工工事業",null,"0299","その他の林業"]
["34","ガス業",null,"072","とび・土工・コンクリート工事業",null,"0300","主として管理事務を行う本社等"]
["35","熱供給業",null,"073","鉄骨・鉄筋工事業",null,"0309","その他の管理，補助的経済活動を行う事業所"]
["36","水道業",null,"074","石工・れんが・タイル・ブロック工事業",null,"0311","底びき網漁業"]
["37","通信業",null,"075","左官工事業",null,"0312","まき網漁業"]
["38","放送業",null,"076","板金・金物工事業",null,"0313","刺網漁業"]
["39","情報サービス業",null,"077","塗装工事業",null,"0314","釣・はえ縄漁業"]
["40","インターネット附随サービス業",null,"078","床・内装工事業",null,"0315","定置網漁業"]
["41","映像・音声・文字情報制作業",null,"079","その他の職別工事業",null,"0316","地びき網・船びき網漁業"]
["42","鉄道業",null,"080","管理，補助的経済活動を行う事業所（08設備工事業）",null,"0317","採貝・採藻業"]
["43","道路旅客運送業",null,"081","電気工事業",null,"0318","捕鯨業"]
["44","道路貨物運送業",null,"082","電気通信・信号装置工事業",null,"0319","その他の海面漁業"]
["45","水運業",null,"083","管工事業（さく井工事業を除く）",null,"0321","内水面漁業"]
["46","航空運輸業",null,"084","機械器具設置工事業",null,"0400","主として管理事務を行う本社等"]
["47","倉庫業",null,"089","その他の設備工事業",null,"0409","その他の管理，補助的経済活動を行う事業所"]
["48","運輸に附帯するサービス業",null,"090","管理，補助的経済活動を行う事業所（09食料品製造業）",null,"0411","魚類養殖業"]
["49","郵便業（信書便事業を含む）",null,"091","畜産食料品製造業",null,"0412","貝類養殖業"]
["50","各種商品卸売業",null,"092","水産食料品製造業",null,"0413","藻類養殖業"]
["51","繊維・衣服等卸売業",null,"093","野菜缶詰・果実缶詰・農産保存食料品製造業",null,"0414","真珠養殖業"]
["52","飲食料品卸売業",null,"094","調味料製造業",null,"0415","種苗養殖業"]
["53","建築材料、鉱物・金属材料等卸売業",null,"095","糖類製造業",null,"0419","その他の海面養殖業"]
["54","機械器具卸売業",null,"096","精穀・製粉業",null,"0421","内水面養殖業"]
["55","その他の卸売業",null,"097","パン・菓子製造業",null,"0500","主として管理事務を行う本社等"]
["56","各種商品小売業",null,"098","動植物油脂製造業",null,"0509","その他の管理，補助的経済活動を行う事業所"]
["57","織物・衣服・身の回り品小売業",null,"099","その他の食料品製造業",null,"0511","金・銀鉱業"]
["58","飲食料品小売業",null,"100","管理，補助的経済活動を行う事業所（10飲料・たばこ・飼料製造業）",null,"0512","鉛・亜鉛鉱業"]
["59","機械器具小売業",null,"101","清涼飲料製造業",null,"0513","鉄鉱業"]
["60","その他の小売業",null,"102","酒類製造業",null,"0519","その他の金属鉱業"]
["61","無店舗小売業",null,"103","茶・コーヒー製造業（清涼飲料を除く）",null,"0521","石炭鉱業（石炭選別業を含む）"]
["62","銀行業",null,"104","製氷業",null,"0522","亜炭鉱業"]
["63","協同組織金融業",null,"105","たばこ製造業",null,"0531","原油鉱業"]
["64","貸金業、クレジットカード業等非預金信用機関",null,"106","飼料・有機質肥料製造業",null,"0532","天然ガス鉱業"]
["65","金融商品取引業、商品先物取引業",null,"110","管理，補助的経済活動を行う事業所（11繊維工業）",null,"0541","花こう岩・同類似岩石採石業"]
["66","補助的金融業等",null,"111","製糸業，紡績業，化学繊維・ねん糸等製造業",null,"0542","石英粗面岩・同類似岩石採石業"]
["67","保険業（保険媒介代理業、保険サービス業を含む）",null,"112","織物業",null,"0543","安山岩・同類似岩石採石業"]
["68","不動産取引業",null,"113","ニット生地製造業",null,"0544","大理石採石業"]
["69","不動産賃貸業・管理業",null,"114","染色整理業",null,"0545","ぎょう灰岩採石業"]
["70","物品賃貸業",null,"115","綱・網・レース・繊維粗製品製造業",null,"0546","砂岩採石業"]
["71","学術・開発研究機関",null,"116","外衣・シャツ製造業（和式を除く）",null,"0547","粘板岩採石業"]
["72","専門サービス業（他に分類されないもの）",null,"117","下着類製造業",null,"0548","砂・砂利・玉石採取業"]
["73","広告業",null,"118","和装製品・その他の衣服・繊維製身の回り品製造業",null,"0549","その他の採石業，砂・砂利・玉石採取業"]
["74","技術サービス業（他に分類されないもの）",null,"119","その他の繊維製品製造業",null,"0551","耐火粘土鉱業"]
["75","宿泊業",null,"120","管理，補助的経済活動を行う事業所（12木材・木製品製造業）",null,"0552","ろう石鉱業"]
["76","飲食店",null,"121","製材業，木製品製造業",null,"0553","ドロマイト鉱業"]
["77","持ち帰り・配達飲食サービス業",null,"122","造作材・合板・建築用組立材料製造業",null,"0554","長石鉱業"]
["78","洗濯・理容・美容・浴場業",null,"123","木製容器製造業（竹，とうを含む）",null,"0555","けい石鉱業"]
["79","その他の生活関連サービス業",null,"129","その他の木製品製造業(竹，とうを含む)",null,"0556","天然けい砂鉱業"]
["80","娯楽業",null,"130","管理，補助的経済活動を行う事業所（13家具・装備品製造業）",null,"0557","石灰石鉱業"]
["81","学校教育",null,"131","家具製造業",null,"0559","その他の窯業原料用鉱物鉱業"]
["82","その他の教育、学習支援業",null,"132","宗教用具製造業",null,"0591","酸性白土鉱業"]
["83","医療業",null,"133","建具製造業",null,"0592","ベントナイト鉱業"]
["84","保健衛生",null,"139","その他の家具・装備品製造業",null,"0593","けいそう土鉱業"]
["85","社会保険・社会福祉・介護事業",null,"140","管理，補助的経済活動を行う事業所（14パルプ・紙・紙加工品製造業）",null,"0594","滑石鉱業"]
["86","郵便局",null,"141","パルプ製造業",null,"0599","他に分類されない鉱業"]
["87","協同組合（他に分類されないもの）",null,"142","紙製造業",null,"0600","主として管理事務を行う本社等"]
["88","廃棄物処理業",null,"143","加工紙製造業",null,"0609","その他の管理，補助的経済活動を行う事業所"]
["89","自動車整備業",null,"144","紙製品製造業",null,"0611","一般土木建築工事業"]
["90","機械等修理業（別掲を除く）",null,"145","紙製容器製造業",null,"0621","土木工事業(別掲を除く)"]
["91","職業紹介・労働者派遣業",null,"149","その他のパルプ・紙・紙加工品製造業",null,"0622","造園工事業"]
["92","その他の事業サービス業",null,"150","管理，補助的経済活動を行う事業所（15印刷・同関連業）",null,"0623","しゅんせつ工事業"]
["93","政治・経済・文化団体",null,"151","印刷業",null,"0631","舗装工事業"]
["94","宗教",null,"152","製版業",null,"0641","建築工事業(木造建築工事業を除く)"]
["95","その他のサービス業",null,"153","製本業，印刷物加工業",null,"0651","木造建築工事業"]
["96","外国公務",null,"159","印刷関連サービス業",null,"0661","建築リフォーム工事業"]
["97","国家公務",null,"160","管理，補助的経済活動を行う事業所（16化学工業）",null,"0700","主として管理事務を行う本社等"]
["98","地方公務",null,"161","化学肥料製造業",null,"0709","その他の管理，補助的経済活動を行う事業所"]
["99","分類不能の産業",null,"162","無機化学工業製品製造業",null,"0711","大工工事業(型枠大工工事業を除く)"]
[null,null,null,"163","有機化学工業製品製造業",null,"0712","型枠大工工事業"]
[null,null,null,"164","油脂加工製品・石けん・合成洗剤・界面活性剤・塗料製造業",null,"0721","とび工事業"]
[null,null,null,"165","医薬品製造業",null,"0722","土工・コンクリート工事業"]
[null,null,null,"166","化粧品・歯磨・その他の化粧用調整品製造業",null,"0723","特殊コンクリート工事業"]
[null,null,null,"169","その他の化学工業",null,"0731","鉄骨工事業"]
[null,null,null,"170","管理，補助的経済活動を行う事業所（17石油製品・石炭製品製造業）",null,"0732","鉄筋工事業"]
[null,null,null,"171","石油精製業",null,"0741","石工工事業"]
[null,null,null,"172","潤滑油・グリース製造業（石油精製業によらないもの）",null,"0742","れんが工事業"]
[null,null,null,"173","コークス製造業",null,"0743","タイル工事業"]
[null,null,null,"174","舗装材料製造業",null,"0744","コンクリートブロック工事業"]
[null,null,null,"179","その他の石油製品・石炭製品製造業",null,"0751","左官工事業"]
[null,null,null,"180","管理，補助的経済活動を行う事業所（18プラスチック製品製造業）",null,"0761","金属製屋根工事業"]
[null,null,null,"181","プラスチック板・棒・管・継手・異形押出製品製造業",null,"0762","板金工事業"]
[null,null,null,"182","プラスチックフィルム・シート・床材・合成皮革製造業",null,"0763","建築金物工事業"]
[null,null,null,"183","工業用プラスチック製品製造業",null,"0771","塗装工事業（道路標示・区画線工事業を除く）"]
[null,null,null,"184","発泡・強化プラスチック製品製造業",null,"0772","道路標示・区画線工事業"]
[null,null,null,"185","プラスチック成形材料製造業（廃プラスチックを含む）",null,"0781","床工事業"]
[null,null,null,"189","その他のプラスチック製品製造業",null,"0782","内装工事業"]
[null,null,null,"190","管理，補助的経済活動を行う事業所（19ゴム製品製造業）",null,"0791","ガラス工事業"]
[null,null,null,"191","タイヤ・チューブ製造業",null,"0792","金属製建具工事業"]
[null,null,null,"192","ゴム製・プラスチック製履物・同附属品製造業",null,"0793","木製建具工事業"]
[null,null,null,"193","ゴムベルト・ゴムホース・工業用ゴム製品製造業",null,"0794","屋根工事業（金属製屋根工事業を除く）"]
[null,null,null,"199","その他のゴム製品製造業",null,"0795","防水工事業"]
[null,null,null,"200","管理，補助的経済活動を行う事業所（20なめし革・同製品・毛皮製造業）",null,"0796","はつり・解体工事業"]
[null,null,null,"201","なめし革製造業",null,"0799","他に分類されない職別工事業"]
[null,null,null,"202","工業用革製品製造業（手袋を除く）",null,"0800","主として管理事務を行う本社等"]
[null,null,null,"203","革製履物用材料・同附属品製造業",null,"0809","その他の管理，補助的経済活動を行う事業所"]
[null,null,null,"204","革製履物製造業",null,"0811","一般電気工事業"]
[null,null,null,"205","革製手袋製造業",null,"0812","電気配線工事業"]
[null,null,null,"206","かばん製造業",null,"0821","電気通信工事業（有線テレビジョン放送設備設置工事業を除く）"]
[null,null,null,"207","袋物製造業",null,"0822","有線テレビジョン放送設備設置工事業"]
[null,null,null,"208","毛皮製造業",null,"0823","信号装置工事業"]
[null,null,null,"209","その他のなめし革製品製造業",null,"0831","一般管工事業"]
[null,null,null,"210","管理，補助的経済活動を行う事業所（21窯業・土石製品製造業）",null,"0832","冷暖房設備工事業"]
[null,null,null,"211","ガラス・同製品製造業",null,"0833","給排水・衛生設備工事業"]
[null,null,null,"212","セメント・同製品製造業",null,"0839","その他の管工事業"]
[null,null,null,"213","建設用粘土製品製造業（陶磁器製を除く)",null,"0841","機械器具設置工事業（昇降設備工事業を除く）"]
[null,null,null,"214","陶磁器・同関連製品製造業",null,"0842","昇降設備工事業"]
[null,null,null,"215","耐火物製造業",null,"0891","築炉工事業"]
[null,null,null,"216","炭素・黒鉛製品製造業",null,"0892","熱絶縁工事業"]
[null,null,null,"217","研磨材・同製品製造業",null,"0893","道路標識設置工事業"]
[null,null,null,"218","骨材・石工品等製造業",null,"0894","さく井工事業"]
[null,null,null,"219","その他の窯業・土石製品製造業",null,"0900","主として管理事務を行う本社等"]
[null,null,null,"220","管理，補助的経済活動を行う事業所（22鉄鋼業）",null,"0909","その他の管理，補助的経済活動を行う事業所"]
[null,null,null,"221","製鉄業",null,"0911","部分肉・冷凍肉製造業"]
[null,null,null,"222","製鋼・製鋼圧延業",null,"0912","肉加工品製造業"]
[null,null,null,"223","製鋼を行わない鋼材製造業（表面処理鋼材を除く）",null,"0913","処理牛乳・乳飲料製造業"]
[null,null,null,"224","表面処理鋼材製造業",null,"0914","乳製品製造業（処理牛乳，乳飲料を除く）"]
[null,null,null,"225","鉄素形材製造業",null,"0919","その他の畜産食料品製造業"]
[null,null,null,"229","その他の鉄鋼業",null,"0921","水産缶詰・瓶詰製造業"]
[null,null,null,"230","管理，補助的経済活動を行う事業所（23非鉄金属製造業）",null,"0922","海藻加工業"]
[null,null,null,"231","非鉄金属第1次製錬・精製業",null,"0923","水産練製品製造業"]
[null,null,null,"232","非鉄金属第2次製錬・精製業（非鉄金属合金製造業を含む）",null,"0924","塩干・塩蔵品製造業"]
[null,null,null,"233","非鉄金属・同合金圧延業（抽伸，押出しを含む）",null,"0925","冷凍水産物製造業"]
[null,null,null,"234","電線・ケーブル製造業",null,"0926","冷凍水産食品製造業"]
[null,null,null,"235","非鉄金属素形材製造業",null,"0929","その他の水産食料品製造業"]
[null,null,null,"239","その他の非鉄金属製造業",null,"0931","野菜缶詰・果実缶詰・農産保存食料品製造業（野菜漬物を除く）"]
[null,null,null,"240","管理，補助的経済活動を行う事業所（24金属製品製造業）",null,"0932","野菜漬物製造業（缶詰，瓶詰，つぼ詰を除く）"]
[null,null,null,"241","ブリキ缶・その他のめっき板等製品製造業",null,"0941","味そ製造業"]
[null,null,null,"242","洋食器・刃物・手道具・金物類製造業",null,"0942","しょう油・食用アミノ酸製造業"]
[null,null,null,"243","暖房・調理等装置,配管工事用附属品製造業",null,"0943","ソース製造業"]
[null,null,null,"244","建設用・建築用金属製品製造業（製缶板金業を含む)",null,"0944","食酢製造業"]
[null,null,null,"245","金属素形材製品製造業",null,"0949","その他の調味料製造業"]
[null,null,null,"246","金属被覆・彫刻業，熱処理業（ほうろう鉄器を除く）",null,"0951","砂糖製造業（砂糖精製業を除く）"]
[null,null,null,"247","金属線製品製造業（ねじ類を除く)",null,"0952","砂糖精製業"]
[null,null,null,"248","ボルト・ナット・リベット・小ねじ・木ねじ等製造業",null,"0953","ぶどう糖・水あめ・異性化糖製造業"]
[null,null,null,"249","その他の金属製品製造業",null,"0961","精米・精麦業"]
[null,null,null,"250","管理，補助的経済活動を行う事業所（25はん用機械器具製造業）",null,"0962","小麦粉製造業"]
[null,null,null,"251","ボイラ・原動機製造業",null,"0969","その他の精穀・製粉業"]
[null,null,null,"252","ポンプ・圧縮機器製造業",null,"0971","パン製造業"]
[null,null,null,"253","一般産業用機械・装置製造業",null,"0972","生菓子製造業"]
[null,null,null,"259","その他のはん用機械・同部分品製造業",null,"0973","ビスケット類・干菓子製造業"]
[null,null,null,"260","管理，補助的経済活動を行う事業所（26生産用機械器具製造業）",null,"0974","米菓製造業"]
[null,null,null,"261","農業用機械製造業（農業用器具を除く）",null,"0979","その他のパン・菓子製造業"]
[null,null,null,"262","建設機械・鉱山機械製造業",null,"0981","動植物油脂製造業（食用油脂加工業を除く）"]
[null,null,null,"263","繊維機械製造業",null,"0982","食用油脂加工業"]
[null,null,null,"264","生活関連産業用機械製造業",null,"0991","でんぷん製造業"]
[null,null,null,"265","基礎素材産業用機械製造業",null,"0992","めん類製造業"]
[null,null,null,"266","金属加工機械製造業",null,"0993","豆腐・油揚製造業"]
[null,null,null,"267","半導体・フラットパネルディスプレイ製造装置製造業",null,"0994","あん類製造業"]
[null,null,null,"269","その他の生産用機械・同部分品製造業",null,"0995","冷凍調理食品製造業"]
[null,null,null,"270","管理，補助的経済活動を行う事業所（27業務用機械器具製造業）",null,"0996","そう（惣）菜製造業"]
[null,null,null,"271","事務用機械器具製造業",null,"0997","すし・弁当・調理パン製造業"]
[null,null,null,"272","サービス用・娯楽用機械器具製造業",null,"0998","レトルト食品製造業"]
[null,null,null,"273","計量器・測定器・分析機器・試験機・測量機械器具・理化学機械器具製造業",null,"0999","他に分類されない食料品製造業"]
[null,null,null,"274","医療用機械器具・医療用品製造業",null,"1000","主として管理事務を行う本社等"]
[null,null,null,"275","光学機械器具・レンズ製造業",null,"1009","その他の管理，補助的経済活動を行う事業所"]
[null,null,null,"276","武器製造業",null,"1011","清涼飲料製造業"]
[null,null,null,"280","管理，補助的経済活動を行う事業所（28電子部品・デバイス・電子回路製造業）",null,"1021","果実酒製造業"]
[null,null,null,"281","電子デバイス製造業",null,"1022","ビール類製造業"]
[null,null,null,"282","電子部品製造業",null,"1023","清酒製造業"]
[null,null,null,"283","記録メディア製造業",null,"1024","蒸留酒・混成酒製造業"]
[null,null,null,"284","電子回路製造業",null,"1031","製茶業"]
[null,null,null,"285","ユニット部品製造業",null,"1032","コーヒー製造業"]
[null,null,null,"289","その他の電子部品・デバイス・電子回路製造業",null,"1041","製氷業"]
[null,null,null,"290","管理，補助的経済活動を行う事業所（29電気機械器具製造業）",null,"1051","たばこ製造業（葉たばこ処理業を除く)"]
[null,null,null,"291","発電用・送電用・配電用電気機械器具製造業",null,"1052","葉たばこ処理業"]
[null,null,null,"292","産業用電気機械器具製造業",null,"1061","配合飼料製造業"]
[null,null,null,"293","民生用電気機械器具製造業",null,"1062","単体飼料製造業"]
[null,null,null,"294","電球・電気照明器具製造業",null,"1063","有機質肥料製造業"]
[null,null,null,"295","電池製造業",null,"1100","主として管理事務を行う本社等"]
[null,null,null,"296","電子応用装置製造業",null,"1109","その他の管理，補助的経済活動を行う事業所"]
[null,null,null,"297","電気計測器製造業",null,"1111","製糸業"]
[null,null,null,"299","その他の電気機械器具製造業",null,"1112","化学繊維製造業"]
[null,null,null,"300","管理，補助的経済活動を行う事業所（30情報通信機械器具製造業）",null,"1113","炭素繊維製造業"]
[null,null,null,"301","通信機械器具・同関連機械器具製造業",null,"1114","綿紡績業"]
[null,null,null,"302","映像・音響機械器具製造業",null,"1115","化学繊維紡績業"]
[null,null,null,"303","電子計算機・同附属装置製造業",null,"1116","毛紡績業"]
[null,null,null,"310","管理，補助的経済活動を行う事業所（31輸送用機械器具製造業）",null,"1117","ねん糸製造業（かさ高加工糸を除く）"]
[null,null,null,"311","自動車・同附属品製造業",null,"1118","かさ高加工糸製造業"]
[null,null,null,"312","鉄道車両・同部分品製造業",null,"1119","その他の紡績業"]
[null,null,null,"313","船舶製造・修理業，舶用機関製造業",null,"1121","綿・スフ織物業"]
[null,null,null,"314","航空機・同附属品製造業",null,"1122","絹・人絹織物業"]
[null,null,null,"315","産業用運搬車両・同部分品・附属品製造業",null,"1123","毛織物業"]
[null,null,null,"319","その他の輸送用機械器具製造業",null,"1124","麻織物業"]
[null,null,null,"320","管理，補助的経済活動を行う事業所（32その他の製造業）",null,"1125","細幅織物業"]
[null,null,null,"321","貴金属・宝石製品製造業",null,"1129","その他の織物業"]
[null,null,null,"322","装身具・装飾品・ボタン・同関連品製造業（貴金属・宝石製を除く）",null,"1131","丸編ニット生地製造業"]
[null,null,null,"323","時計・同部分品製造業",null,"1132","たて編ニット生地製造業"]
[null,null,null,"324","楽器製造業",null,"1133","横編ニット生地製造業"]
[null,null,null,"325","がん具・運動用具製造業",null,"1141","綿・スフ・麻織物機械染色業"]
[null,null,null,"326","ペン・鉛筆・絵画用品・その他の事務用品製造業",null,"1142","絹・人絹織物機械染色業"]
[null,null,null,"327","漆器製造業",null,"1143","毛織物機械染色整理業"]
[null,null,null,"328","畳等生活雑貨製品製造業",null,"1144","織物整理業"]
[null,null,null,"329","他に分類されない製造業",null,"1145","織物手加工染色整理業"]
[null,null,null,"330","管理，補助的経済活動を行う事業所（33電気業）",null,"1146","綿状繊維・糸染色整理業"]
[null,null,null,"331","電気業",null,"1147","ニット・レース染色整理業"]
[null,null,null,"340","管理，補助的経済活動を行う事業所（34ガス業）",null,"1148","繊維雑品染色整理業"]
[null,null,null,"341","ガス業",null,"1151","綱製造業"]
[null,null,null,"350","管理，補助的経済活動を行う事業所（35熱供給業）",null,"1152","漁網製造業"]
[null,null,null,"351","熱供給業",null,"1153","網地製造業（漁網を除く）"]
[null,null,null,"360","管理，補助的経済活動を行う事業所（36水道業）",null,"1154","レース製造業"]
[null,null,null,"361","上水道業",null,"1155","組ひも製造業"]
[null,null,null,"362","工業用水道業",null,"1156","整毛業"]
[null,null,null,"363","下水道業",null,"1157","フェルト・不織布製造業"]
[null,null,null,"370","管理，補助的経済活動を行う事業所（37通信業）",null,"1158","上塗りした織物・防水した織物製造業"]
[null,null,null,"371","固定電気通信業",null,"1159","その他の繊維粗製品製造業"]
[null,null,null,"372","移動電気通信業",null,"1161","織物製成人男子・少年服製造業（不織布製及びレース製を含む）"]
[null,null,null,"373","電気通信に附帯するサービス業",null,"1162","織物製成人女子・少女服製造業（不織布製及びレース製を含む）"]
[null,null,null,"380","管理，補助的経済活動を行う事業所（38放送業）",null,"1163","織物製乳幼児服製造業（不織布製及びレース製を含む）"]
[null,null,null,"381","公共放送業（有線放送業を除く）",null,"1164","織物製シャツ製造業（不織布製及びレース製を含み、下着を除く）"]
[null,null,null,"382","民間放送業（有線放送業を除く）",null,"1165","織物製事務用・作業用・衛生用・スポーツ用衣服・学校服製造業（不織布製及びレース製を含む）"]
[null,null,null,"383","有線放送業",null,"1166","ニット製外衣製造業（アウターシャツ類，セーター類などを除く）"]
[null,null,null,"390","管理，補助的経済活動を行う事業所（39情報サービス業）",null,"1167","ニット製アウターシャツ類製造業"]
[null,null,null,"391","ソフトウェア業",null,"1168","セーター類製造業"]
[null,null,null,"392","情報処理・提供サービス業",null,"1169","その他の外衣・シャツ製造業"]
[null,null,null,"400","管理，補助的経済活動を行う事業所（40インターネット附随サービス業）",null,"1171","織物製下着製造業"]
[null,null,null,"401","インターネット附随サービス業",null,"1172","ニット製下着製造業"]
[null,null,null,"410","管理，補助的経済活動を行う事業所（41映像・音声・文字情報制作業）",null,"1173","織物製・ニット製寝着類製造業"]
[null,null,null,"411","映像情報制作・配給業",null,"1174","補整着製造業"]
[null,null,null,"412","音声情報制作業",null,"1181","和装製品製造業（足袋を含む）"]
[null,null,null,"413","新聞業",null,"1182","ネクタイ製造業"]
[null,null,null,"414","出版業",null,"1183","スカーフ・マフラー・ハンカチーフ製造業"]
[null,null,null,"415","広告制作業",null,"1184","靴下製造業"]
[null,null,null,"416","映像・音声・文字情報制作に附帯するサービス業",null,"1185","手袋製造業"]
[null,null,null,"420","管理，補助的経済活動を行う事業所（42鉄道業）",null,"1186","帽子製造業（帽体を含む）"]
[null,null,null,"421","鉄道業",null,"1189","他に分類されない衣服・繊維製身の回り品製造業"]
[null,null,null,"430","管理，補助的経済活動を行う事業所（43道路旅客運送業）",null,"1191","寝具製造業"]
[null,null,null,"431","一般乗合旅客自動車運送業",null,"1192","毛布製造業"]
[null,null,null,"432","一般乗用旅客自動車運送業",null,"1193","じゅうたん・その他の繊維製床敷物製造業"]
[null,null,null,"433","一般貸切旅客自動車運送業",null,"1194","帆布製品製造業"]
[null,null,null,"439","その他の道路旅客運送業",null,"1195","繊維製袋製造業"]
[null,null,null,"440","管理，補助的経済活動を行う事業所（44道路貨物運送業）",null,"1196","刺しゅう業"]
[null,null,null,"441","一般貨物自動車運送業",null,"1197","タオル製造業"]
[null,null,null,"442","特定貨物自動車運送業",null,"1198","繊維製衛生材料製造業"]
[null,null,null,"443","貨物軽自動車運送業",null,"1199","他に分類されない繊維製品製造業"]
[null,null,null,"444","集配利用運送業",null,"1200","主として管理事務を行う本社等"]
[null,null,null,"449","その他の道路貨物運送業",null,"1209","その他の管理，補助的経済活動を行う事業所"]
[null,null,null,"450","管理，補助的経済活動を行う事業所（45水運業）",null,"1211","一般製材業"]
[null,null,null,"451","外航海運業",null,"1212","単板（ベニヤ）製造業"]
[null,null,null,"452","沿海海運業",null,"1213","木材チップ製造業"]
[null,null,null,"453","内陸水運業",null,"1219","その他の特殊製材業"]
[null,null,null,"454","船舶貸渡業",null,"1221","造作材製造業（建具を除く）"]
[null,null,null,"460","管理，補助的経済活動を行う事業所（46航空運輸業）",null,"1222","合板製造業"]
[null,null,null,"461","航空運送業",null,"1223","集成材製造業"]
[null,null,null,"462","航空機使用業（航空運送業を除く）",null,"1224","建築用木製組立材料製造業"]
[null,null,null,"470","管理，補助的経済活動を行う事業所（47倉庫業）",null,"1225","パーティクルボード製造業"]
[null,null,null,"471","倉庫業（冷蔵倉庫業を除く）",null,"1226","繊維板製造業"]
[null,null,null,"472","冷蔵倉庫業",null,"1227","銘木製造業"]
[null,null,null,"480","管理，補助的経済活動を行う事業所（48運輸に附帯するサービス業）",null,"1228","床板製造業"]
[null,null,null,"481","港湾運送業",null,"1231","竹・とう・きりゅう等容器製造業"]
[null,null,null,"482","貨物運送取扱業（集配利用運送業を除く）",null,"1232","木箱製造業"]
[null,null,null,"483","運送代理店",null,"1233","たる・おけ製造業"]
[null,null,null,"484","こん包業",null,"1291","木材薬品処理業"]
[null,null,null,"485","運輸施設提供業",null,"1292","コルク加工基礎資材・コルク製品製造業"]
[null,null,null,"489","その他の運輸に附帯するサービス業",null,"1299","他に分類されない木製品製造業(竹，とうを含む)"]
[null,null,null,"490","管理，補助的経済活動を行う事業所（49郵便業）",null,"1300","主として管理事務を行う本社等"]
[null,null,null,"491","郵便業（信書便事業を含む）",null,"1309","その他の管理，補助的経済活動を行う事業所"]
[null,null,null,"500","管理，補助的経済活動を行う事業所（50各種商品卸売業）",null,"1311","木製家具製造業（漆塗りを除く）"]
[null,null,null,"501","各種商品卸売業",null,"1312","金属製家具製造業"]
[null,null,null,"510","管理，補助的経済活動を行う事業所（51繊維・衣服等卸売業）",null,"1313","マットレス・組スプリング製造業"]
[null,null,null,"511","繊維品卸売業（衣服，身の回り品を除く）",null,"1321","宗教用具製造業"]
[null,null,null,"512","衣服卸売業",null,"1331","建具製造業"]
[null,null,null,"513","身の回り品卸売業",null,"1391","事務所用・店舗用装備品製造業"]
[null,null,null,"520","管理，補助的経済活動を行う事業所（52飲食料品卸売業）",null,"1392","窓用・扉用日よけ，日本びょうぶ等製造業"]
[null,null,null,"521","農畜産物・水産物卸売業",null,"1393","鏡縁・額縁製造業"]
[null,null,null,"522","食料・飲料卸売業",null,"1399","他に分類されない家具・装備品製造業"]
[null,null,null,"530","管理，補助的経済活動を行う事業所（53建築材料，鉱物・金属材料等卸売業）",null,"1400","主として管理事務を行う本社等"]
[null,null,null,"531","建築材料卸売業",null,"1409","その他の管理，補助的経済活動を行う事業所"]
[null,null,null,"532","化学製品卸売業",null,"1411","パルプ製造業"]
[null,null,null,"533","石油・鉱物卸売業",null,"1421","洋紙製造業"]
[null,null,null,"534","鉄鋼製品卸売業",null,"1422","板紙製造業"]
[null,null,null,"535","非鉄金属卸売業",null,"1423","機械すき和紙製造業"]
[null,null,null,"536","再生資源卸売業",null,"1424","手すき和紙製造業"]
[null,null,null,"540","管理，補助的経済活動を行う事業所（54機械器具卸売業）",null,"1431","塗工紙製造業（印刷用紙を除く）"]
[null,null,null,"541","産業機械器具卸売業",null,"1432","段ボール製造業"]
[null,null,null,"542","自動車卸売業",null,"1433","壁紙・ふすま紙製造業"]
[null,null,null,"543","電気機械器具卸売業",null,"1441","事務用・学用紙製品製造業"]
[null,null,null,"549","その他の機械器具卸売業",null,"1442","日用紙製品製造業"]
[null,null,null,"550","管理，補助的経済活動を行う事業所（55その他の卸売業）",null,"1449","その他の紙製品製造業"]
[null,null,null,"551","家具・建具・じゅう器等卸売業",null,"1451","重包装紙袋製造業"]
[null,null,null,"552","医薬品・化粧品等卸売業",null,"1452","角底紙袋製造業"]
[null,null,null,"553","紙・紙製品卸売業",null,"1453","段ボール箱製造業"]
[null,null,null,"559","他に分類されない卸売業",null,"1454","紙器製造業"]
[null,null,null,"560","管理，補助的経済活動を行う事業所（56各種商品小売業）",null,"1499","その他のパルプ・紙・紙加工品製造業"]
[null,null,null,"561","百貨店，総合スーパー",null,"1500","主として管理事務を行う本社等"]
[null,null,null,"569","その他の各種商品小売業（従業者が常時50人未満のもの）",null,"1509","その他の管理，補助的経済活動を行う事業所"]
[null,null,null,"570","管理，補助的経済活動を行う事業所（57織物・衣服・身の回り品小売業）",null,"1511","オフセット印刷業（紙に対するもの）"]
[null,null,null,"571","呉服・服地・寝具小売業",null,"1512","オフセット印刷以外の印刷業（紙に対するもの）"]
[null,null,null,"572","男子服小売業",null,"1513","紙以外の印刷業"]
[null,null,null,"573","婦人・子供服小売業",null,"1521","製版業"]
[null,null,null,"574","靴・履物小売業",null,"1531","製本業"]
[null,null,null,"579","その他の織物・衣服・身の回り品小売業",null,"1532","印刷物加工業"]
[null,null,null,"580","管理，補助的経済活動を行う事業所（58飲食料品小売業）",null,"1591","印刷関連サービス業"]
[null,null,null,"581","各種食料品小売業",null,"1600","主として管理事務を行う本社等"]
[null,null,null,"582","野菜・果実小売業",null,"1609","その他の管理，補助的経済活動を行う事業所"]
[null,null,null,"583","食肉小売業",null,"1611","窒素質・りん酸質肥料製造業"]
[null,null,null,"584","鮮魚小売業",null,"1612","複合肥料製造業"]
[null,null,null,"585","酒小売業",null,"1619","その他の化学肥料製造業"]
[null,null,null,"586","菓子・パン小売業",null,"1621","ソーダ工業"]
[null,null,null,"589","その他の飲食料品小売業",null,"1622","無機顔料製造業"]
[null,null,null,"590","管理，補助的経済活動を行う事業所（59機械器具小売業）",null,"1623","圧縮ガス・液化ガス製造業"]
[null,null,null,"591","自動車小売業",null,"1624","塩製造業"]
[null,null,null,"592","自転車小売業",null,"1629","その他の無機化学工業製品製造業"]
[null,null,null,"593","機械器具小売業（自動車，自転車を除く）",null,"1631","石油化学系基礎製品製造業（一貫して生産される誘導品を含む）"]
[null,null,null,"600","管理，補助的経済活動を行う事業所（60その他の小売業）",null,"1632","脂肪族系中間物製造業（脂肪族系溶剤を含む）"]
[null,null,null,"601","家具・建具・畳小売業",null,"1633","発酵工業"]
[null,null,null,"602","じゅう器小売業",null,"1634","環式中間物・合成染料・有機顔料製造業"]
[null,null,null,"603","医薬品・化粧品小売業",null,"1635","プラスチック製造業"]
[null,null,null,"604","農耕用品小売業",null,"1636","合成ゴム製造業"]
[null,null,null,"605","燃料小売業",null,"1639","その他の有機化学工業製品製造業"]
[null,null,null,"606","書籍・文房具小売業",null,"1641","脂肪酸・硬化油・グリセリン製造業"]
[null,null,null,"607","スポーツ用品・がん具・娯楽用品・楽器小売業",null,"1642","石けん・合成洗剤製造業"]
[null,null,null,"608","写真機・時計・眼鏡小売業",null,"1643","界面活性剤製造業（石けん，合成洗剤を除く）"]
[null,null,null,"609","他に分類されない小売業",null,"1644","塗料製造業"]
[null,null,null,"610","管理，補助的経済活動を行う事業所（61無店舗小売業）",null,"1645","印刷インキ製造業"]
[null,null,null,"611","通信販売・訪問販売小売業",null,"1646","洗浄剤・磨用剤製造業"]
[null,null,null,"612","自動販売機による小売業",null,"1647","ろうそく製造業"]
[null,null,null,"619","その他の無店舗小売業",null,"1651","医薬品原薬製造業"]
[null,null,null,"620","管理，補助的経済活動を行う事業所（62銀行業）",null,"1652","医薬品製剤製造業"]
[null,null,null,"621","中央銀行",null,"1653","生物学的製剤製造業"]
[null,null,null,"622","銀行（中央銀行を除く）",null,"1654","生薬・漢方製剤製造業"]
[null,null,null,"630","管理，補助的経済活動を行う事業所（63協同組織金融業）",null,"1655","動物用医薬品製造業"]
[null,null,null,"631","中小企業等金融業",null,"1661","仕上用・皮膚用化粧品製造業（香水，オーデコロンを含む）"]
[null,null,null,"632","農林水産金融業",null,"1662","頭髪用化粧品製造業"]
[null,null,null,"640","管理，補助的経済活動を行う事業所（64貸金業，クレジットカード業等非預金信用機関）",null,"1669","その他の化粧品・歯磨・化粧用調整品製造業"]
[null,null,null,"641","貸金業",null,"1691","火薬類製造業"]
[null,null,null,"642","質屋",null,"1692","農薬製造業"]
[null,null,null,"643","クレジットカード業，割賦金融業",null,"1693","香料製造業"]
[null,null,null,"649","その他の非預金信用機関",null,"1694","ゼラチン・接着剤製造業"]
[null,null,null,"650","管理，補助的経済活動を行う事業所（65金融商品取引業，商品先物取引業）",null,"1695","写真感光材料製造業"]
[null,null,null,"651","金融商品取引業",null,"1696","天然樹脂製品・木材化学製品製造業"]
[null,null,null,"652","商品先物取引業，商品投資顧問業",null,"1697","試薬製造業"]
[null,null,null,"660","管理，補助的経済活動を行う事業所（66補助的金融業等）",null,"1699","他に分類されない化学工業製品製造業"]
[null,null,null,"661","補助的金融業，金融附帯業",null,"1700","主として管理事務を行う本社等"]
[null,null,null,"662","信託業",null,"1709","その他の管理，補助的経済活動を行う事業所"]
[null,null,null,"663","金融代理業",null,"1711","石油精製業"]
[null,null,null,"670","管理，補助的経済活動を行う事業所（67保険業）",null,"1721","潤滑油・グリース製造業（石油精製業によらないもの）"]
[null,null,null,"671","生命保険業",null,"1731","コークス製造業"]
[null,null,null,"672","損害保険業",null,"1741","舗装材料製造業"]
[null,null,null,"673","共済事業，少額短期保険業",null,"1799","その他の石油製品・石炭製品製造業"]
[null,null,null,"674","保険媒介代理業",null,"1800","主として管理事務を行う本社等"]
[null,null,null,"675","保険サービス業",null,"1809","その他の管理，補助的経済活動を行う事業所"]
[null,null,null,"680","管理，補助的経済活動を行う事業所（68不動産取引業）",null,"1811","プラスチック板・棒製造業"]
[null,null,null,"681","建物売買業，土地売買業",null,"1812","プラスチック管製造業"]
[null,null,null,"682","不動産代理業・仲介業",null,"1813","プラスチック継手製造業"]
[null,null,null,"690","管理，補助的経済活動を行う事業所（69不動産賃貸業・管理業）",null,"1814","プラスチック異形押出製品製造業"]
[null,null,null,"691","不動産賃貸業（貸家業，貸間業を除く）",null,"1815","プラスチック板・棒・管・継手・異形押出製品加工業"]
[null,null,null,"692","貸家業，貸間業",null,"1821","プラスチックフィルム製造業"]
[null,null,null,"693","駐車場業",null,"1822","プラスチックシート製造業"]
[null,null,null,"694","不動産管理業",null,"1823","プラスチック床材製造業"]
[null,null,null,"700","管理，補助的経済活動を行う事業所（70物品賃貸業）",null,"1824","合成皮革製造業"]
[null,null,null,"701","各種物品賃貸業",null,"1825","プラスチックフィルム・シート・床材・合成皮革加工業"]
[null,null,null,"702","産業用機械器具賃貸業",null,"1831","電気機械器具用プラスチック製品製造業（加工業を除く）"]
[null,null,null,"703","事務用機械器具賃貸業",null,"1832","輸送機械器具用プラスチック製品製造業（加工業を除く）"]
[null,null,null,"704","自動車賃貸業",null,"1833","その他の工業用プラスチック製品製造業（加工業を除く）"]
[null,null,null,"705","スポーツ・娯楽用品賃貸業",null,"1834","工業用プラスチック製品加工業"]
[null,null,null,"709","その他の物品賃貸業",null,"1841","軟質プラスチック発泡製品製造業（半硬質性を含む）"]
[null,null,null,"710","管理，補助的経済活動を行う事業所（71学術・開発研究機関）",null,"1842","硬質プラスチック発泡製品製造業"]
[null,null,null,"711","自然科学研究所",null,"1843","強化プラスチック製板・棒・管・継手製造業"]
[null,null,null,"712","人文・社会科学研究所",null,"1844","強化プラスチック製容器・浴槽等製造業"]
[null,null,null,"720","管理，補助的経済活動を行う事業所（72専門サービス業）",null,"1845","発泡・強化プラスチック製品加工業"]
[null,null,null,"721","法律事務所，特許事務所",null,"1851","プラスチック成形材料製造業"]
[null,null,null,"722","公証人役場，司法書士事務所，土地家屋調査士事務所",null,"1852","廃プラスチック製品製造業"]
[null,null,null,"723","行政書士事務所",null,"1891","プラスチック製日用雑貨・食卓用品製造業"]
[null,null,null,"724","公認会計士事務所，税理士事務所",null,"1892","プラスチック製容器製造業"]
[null,null,null,"725","社会保険労務士事務所",null,"1897","他に分類されないプラスチック製品製造業"]
[null,null,null,"726","デザイン業",null,"1898","他に分類されないプラスチック製品加工業"]
[null,null,null,"727","著述・芸術家業",null,"1900","主として管理事務を行う本社等"]
[null,null,null,"728","経営コンサルタント業，純粋持株会社",null,"1909","その他の管理，補助的経済活動を行う事業所"]
[null,null,null,"729","その他の専門サービス業",null,"1911","自動車タイヤ・チューブ製造業"]
[null,null,null,"730","管理，補助的経済活動を行う事業所（73広告業）",null,"1919","その他のタイヤ・チューブ製造業"]
[null,null,null,"731","広告業",null,"1921","ゴム製履物・同附属品製造業"]
[null,null,null,"740","管理，補助的経済活動を行う事業所（74技術サービス業）",null,"1922","プラスチック製履物・同附属品製造業"]
[null,null,null,"741","獣医業",null,"1931","ゴムベルト製造業"]
[null,null,null,"742","土木建築サービス業",null,"1932","ゴムホース製造業"]
[null,null,null,"743","機械設計業",null,"1933","工業用ゴム製品製造業"]
[null,null,null,"744","商品・非破壊検査業",null,"1991","ゴム引布・同製品製造業"]
[null,null,null,"745","計量証明業",null,"1992","医療・衛生用ゴム製品製造業"]
[null,null,null,"746","写真業",null,"1993","ゴム練生地製造業"]
[null,null,null,"749","その他の技術サービス業",null,"1994","更生タイヤ製造業"]
[null,null,null,"750","管理，補助的経済活動を行う事業所（75宿泊業）",null,"1995","再生ゴム製造業"]
[null,null,null,"751","旅館，ホテル",null,"1999","他に分類されないゴム製品製造業"]
[null,null,null,"752","簡易宿所",null,"2000","主として管理事務を行う本社等"]
[null,null,null,"753","下宿業",null,"2009","その他の管理，補助的経済活動を行う事業所"]
[null,null,null,"759","その他の宿泊業",null,"2011","なめし革製造業"]
[null,null,null,"760","管理，補助的経済活動を行う事業所（76飲食店）",null,"2021","工業用革製品製造業（手袋を除く）"]
[null,null,null,"761","食堂，レストラン（専門料理店を除く）",null,"2031","革製履物用材料・同附属品製造業"]
[null,null,null,"762","専門料理店",null,"2041","革製履物製造業"]
[null,null,null,"763","そば・うどん店",null,"2051","革製手袋製造業"]
[null,null,null,"764","すし店",null,"2061","かばん製造業"]
[null,null,null,"765","酒場，ビヤホール",null,"2071","袋物製造業（ハンドバッグを除く）"]
[null,null,null,"766","バー，キャバレー，ナイトクラブ",null,"2072","ハンドバッグ製造業"]
[null,null,null,"767","喫茶店",null,"2081","毛皮製造業"]
[null,null,null,"769","その他の飲食店",null,"2099","その他のなめし革製品製造業"]
[null,null,null,"770","管理，補助的経済活動を行う事業所（77持ち帰り・配達飲食サービス業）",null,"2100","主として管理事務を行う本社等"]
[null,null,null,"771","持ち帰り飲食サービス業",null,"2109","その他の管理，補助的経済活動を行う事業所"]
[null,null,null,"772","配達飲食サービス業",null,"2111","板ガラス製造業"]
[null,null,null,"780","管理，補助的経済活動を行う事業所（78洗濯・理容・美容・浴場業）",null,"2112","板ガラス加工業"]
[null,null,null,"781","洗濯業",null,"2113","ガラス製加工素材製造業"]
[null,null,null,"782","理容業",null,"2114","ガラス容器製造業"]
[null,null,null,"783","美容業",null,"2115","理化学用・医療用ガラス器具製造業"]
[null,null,null,"784","一般公衆浴場業",null,"2116","卓上用・ちゅう房用ガラス器具製造業"]
[null,null,null,"785","その他の公衆浴場業",null,"2117","ガラス繊維・同製品製造業"]
[null,null,null,"789","その他の洗濯・理容・美容・浴場業",null,"2119","その他のガラス・同製品製造業"]
[null,null,null,"790","管理，補助的経済活動を行う事業所（79その他の生活関連サービス業）",null,"2121","セメント製造業"]
[null,null,null,"791","旅行業",null,"2122","生コンクリート製造業"]
[null,null,null,"792","家事サービス業",null,"2123","コンクリート製品製造業"]
[null,null,null,"793","衣服裁縫修理業",null,"2129","その他のセメント製品製造業"]
[null,null,null,"794","物品預り業",null,"2131","粘土かわら製造業"]
[null,null,null,"795","火葬・墓地管理業",null,"2132","普通れんが製造業"]
[null,null,null,"796","冠婚葬祭業",null,"2139","その他の建設用粘土製品製造業"]
[null,null,null,"799","他に分類されない生活関連サービス業",null,"2141","衛生陶器製造業"]
[null,null,null,"800","管理，補助的経済活動を行う事業所（80娯楽業）",null,"2142","食卓用・ちゅう房用陶磁器製造業"]
[null,null,null,"801","映画館",null,"2143","陶磁器製置物製造業"]
[null,null,null,"802","興行場（別掲を除く），興行団",null,"2144","電気用陶磁器製造業"]
[null,null,null,"803","競輪・競馬等の競走場，競技団",null,"2145","理化学用・工業用陶磁器製造業"]
[null,null,null,"804","スポーツ施設提供業",null,"2146","陶磁器製タイル製造業"]
[null,null,null,"805","公園，遊園地",null,"2147","陶磁器絵付業"]
[null,null,null,"806","遊戯場",null,"2148","陶磁器用はい（坏）土製造業"]
[null,null,null,"809","その他の娯楽業",null,"2149","その他の陶磁器・同関連製品製造業"]
[null,null,null,"810","管理，補助的経済活動を行う事業所（81学校教育）",null,"2151","耐火れんが製造業"]
[null,null,null,"811","幼稚園",null,"2152","不定形耐火物製造業"]
[null,null,null,"812","小学校",null,"2159","その他の耐火物製造業"]
[null,null,null,"813","中学校",null,"2161","炭素質電極製造業"]
[null,null,null,"814","高等学校，中等教育学校",null,"2169","その他の炭素・黒鉛製品製造業"]
[null,null,null,"815","特別支援学校",null,"2171","研磨材製造業"]
[null,null,null,"816","高等教育機関",null,"2172","研削と石製造業"]
[null,null,null,"817","専修学校，各種学校",null,"2173","研磨布紙製造業"]
[null,null,null,"818","学校教育支援機関",null,"2179","その他の研磨材・同製品製造業"]
[null,null,null,"819","幼保連携型認定こども園",null,"2181","砕石製造業"]
[null,null,null,"820","管理，補助的経済活動を行う事業所（82その他の教育，学習支援業）",null,"2182","再生骨材製造業"]
[null,null,null,"821","社会教育",null,"2183","人工骨材製造業"]
[null,null,null,"822","職業・教育支援施設",null,"2184","石工品製造業"]
[null,null,null,"823","学習塾",null,"2185","けいそう土・同製品製造業"]
[null,null,null,"824","教養・技能教授業",null,"2186","鉱物・土石粉砕等処理業"]
[null,null,null,"829","他に分類されない教育，学習支援業",null,"2191","ロックウール・同製品製造業"]
[null,null,null,"830","管理，補助的経済活動を行う事業所（83医療業）",null,"2192","石こう（膏）製品製造業"]
[null,null,null,"831","病院",null,"2193","石灰製造業"]
[null,null,null,"832","一般診療所",null,"2194","鋳型製造業（中子を含む）"]
[null,null,null,"833","歯科診療所",null,"2199","他に分類されない窯業・土石製品製造業"]
[null,null,null,"834","助産・看護業",null,"2200","主として管理事務を行う本社等"]
[null,null,null,"835","療術業",null,"2209","その他の管理，補助的経済活動を行う事業所"]
[null,null,null,"836","医療に附帯するサービス業",null,"2211","高炉による製鉄業"]
[null,null,null,"840","管理，補助的経済活動を行う事業所（84保健衛生）",null,"2212","高炉によらない製鉄業"]
[null,null,null,"841","保健所",null,"2213","フェロアロイ製造業"]
[null,null,null,"842","健康相談施設",null,"2221","製鋼・製鋼圧延業"]
[null,null,null,"849","その他の保健衛生",null,"2231","熱間圧延業（鋼管，伸鉄を除く）"]
[null,null,null,"850","管理，補助的経済活動を行う事業所（85社会保険・社会福祉・介護事業）",null,"2232","冷間圧延業（鋼管，伸鉄を除く）"]
[null,null,null,"851","社会保険事業団体",null,"2233","冷間ロール成型形鋼製造業"]
[null,null,null,"852","福祉事務所",null,"2234","鋼管製造業"]
[null,null,null,"853","児童福祉事業",null,"2235","伸鉄業"]
[null,null,null,"854","老人福祉・介護事業",null,"2236","磨棒鋼製造業"]
[null,null,null,"855","障害者福祉事業",null,"2237","引抜鋼管製造業"]
[null,null,null,"859","その他の社会保険・社会福祉・介護事業",null,"2238","伸線業"]
[null,null,null,"860","管理，補助的経済活動を行う事業所（86郵便局）",null,"2239","その他の製鋼を行わない鋼材製造業（表面処理鋼材を除く)"]
[null,null,null,"861","郵便局",null,"2241","亜鉛鉄板製造業"]
[null,null,null,"862","郵便局受託業",null,"2249","その他の表面処理鋼材製造業"]
[null,null,null,"870","管理，補助的経済活動を行う事業所（87協同組合）",null,"2251","銑鉄鋳物製造業（鋳鉄管，可鍛鋳鉄を除く）"]
[null,null,null,"871","農林水産業協同組合（他に分類されないもの）",null,"2252","可鍛鋳鉄製造業"]
[null,null,null,"872","事業協同組合（他に分類されないもの）",null,"2253","鋳鋼製造業"]
[null,null,null,"880","管理，補助的経済活動を行う事業所（88廃棄物処理業）",null,"2254","鍛工品製造業"]
[null,null,null,"881","一般廃棄物処理業",null,"2255","鍛鋼製造業"]
[null,null,null,"882","産業廃棄物処理業",null,"2291","鉄鋼シャースリット業"]
[null,null,null,"889","その他の廃棄物処理業",null,"2292","鉄スクラップ加工処理業"]
[null,null,null,"890","管理，補助的経済活動を行う事業所（89自動車整備業）",null,"2293","鋳鉄管製造業"]
[null,null,null,"891","自動車整備業",null,"2299","他に分類されない鉄鋼業"]
[null,null,null,"900","管理，補助的経済活動を行う事業所（90機械等修理業）",null,"2300","主として管理事務を行う本社等"]
[null,null,null,"901","機械修理業（電気機械器具を除く）",null,"2309","その他の管理，補助的経済活動を行う事業所"]
[null,null,null,"902","電気機械器具修理業",null,"2311","銅第１次製錬・精製業"]
[null,null,null,"903","表具業",null,"2312","亜鉛第１次製錬・精製業"]
[null,null,null,"909","その他の修理業",null,"2319","その他の非鉄金属第１次製錬・精製業"]
[null,null,null,"910","管理，補助的経済活動を行う事業所（91職業紹介・労働者派遣業）",null,"2321","鉛第２次製錬・精製業（鉛合金製造業を含む)"]
[null,null,null,"911","職業紹介業",null,"2322","アルミニウム第２次製錬・精製業（アルミニウム合金製造業を含む）"]
[null,null,null,"912","労働者派遣業",null,"2329","その他の非鉄金属第２次製錬・精製業（非鉄金属合金製造業を含む）"]
[null,null,null,"920","管理，補助的経済活動を行う事業所（92その他の事業サービス業）",null,"2331","伸銅品製造業"]
[null,null,null,"921","速記・ワープロ入力・複写業",null,"2332","アルミニウム・同合金圧延業（抽伸，押出しを含む）"]
[null,null,null,"922","建物サービス業",null,"2339","その他の非鉄金属・同合金圧延業（抽伸，押出しを含む）"]
[null,null,null,"923","警備業",null,"2341","電線・ケーブル製造業（光ファイバケーブルを除く）"]
[null,null,null,"929","他に分類されない事業サービス業",null,"2342","光ファイバケーブル製造業（通信複合ケーブルを含む）"]
[null,null,null,"931","経済団体",null,"2351","銅・同合金鋳物製造業（ダイカストを除く）"]
[null,null,null,"932","労働団体",null,"2352","非鉄金属鋳物製造業（銅・同合金鋳物及びダイカストを除く）"]
[null,null,null,"933","学術・文化団体",null,"2353","アルミニウム・同合金ダイカスト製造業"]
[null,null,null,"934","政治団体",null,"2354","非鉄金属ダイカスト製造業（アルミニウム・同合金ダイカストを除く）"]
[null,null,null,"939","他に分類されない非営利的団体",null,"2355","非鉄金属鍛造品製造業"]
[null,null,null,"941","神道系宗教",null,"2391","核燃料製造業"]
[null,null,null,"942","仏教系宗教",null,"2399","他に分類されない非鉄金属製造業"]
[null,null,null,"943","キリスト教系宗教",null,"2400","主として管理事務を行う本社等"]
[null,null,null,"949","その他の宗教",null,"2409","その他の管理，補助的経済活動を行う事業所"]
[null,null,null,"950","管理，補助的経済活動を行う事業所（95その他のサービス業）",null,"2411","ブリキ缶・その他のめっき板等製品製造業"]
[null,null,null,"951","集会場",null,"2421","洋食器製造業"]
[null,null,null,"952","と畜場",null,"2422","機械刃物製造業"]
[null,null,null,"959","他に分類されないサービス業",null,"2423","利器工匠具・手道具製造業（やすり，のこぎり，食卓用刃物を除く）"]
[null,null,null,"961","外国公館",null,"2424","作業工具製造業"]
[null,null,null,"969","その他の外国公務",null,"2425","手引のこぎり・のこ刃製造業"]
[null,null,null,"971","立法機関",null,"2426","農業用器具製造業（農業用機械を除く）"]
[null,null,null,"972","司法機関",null,"2429","その他の金物類製造業"]
[null,null,null,"973","行政機関",null,"2431","配管工事用附属品製造業（バルブ，コックを除く）"]
[null,null,null,"981","都道府県機関",null,"2432","ガス機器・石油機器製造業"]
[null,null,null,"982","市町村機関",null,"2433","温風・温水暖房装置製造業"]
[null,null,null,"999","分類不能の産業",null,"2439","その他の暖房・調理装置製造業（電気機械器具，ガス機器，石油機器を除く）"]
[null,null,null,null,null,null,"2441","鉄骨製造業"]
[null,null,null,null,null,null,"2442","建設用金属製品製造業（鉄骨を除く）"]
[null,null,null,null,null,null,"2443","金属製サッシ・ドア製造業"]
[null,null,null,null,null,null,"2444","鉄骨系プレハブ住宅製造業"]
[null,null,null,null,null,null,"2445","建築用金属製品製造業（サッシ，ドア，建築用金物を除く）"]
[null,null,null,null,null,null,"2446","製缶板金業"]
[null,null,null,null,null,null,"2451","アルミニウム・同合金プレス製品製造業"]
[null,null,null,null,null,null,"2452","金属プレス製品製造業（アルミニウム・同合金を除く）"]
[null,null,null,null,null,null,"2453","粉末や金製品製造業"]
[null,null,null,null,null,null,"2461","金属製品塗装業"]
[null,null,null,null,null,null,"2462","溶融めっき業（表面処理鋼材製造業を除く）"]
[null,null,null,null,null,null,"2463","金属彫刻業"]
[null,null,null,null,null,null,"2464","電気めっき業（表面処理鋼材製造業を除く）"]
[null,null,null,null,null,null,"2465","金属熱処理業"]
[null,null,null,null,null,null,"2469","その他の金属表面処理業"]
[null,null,null,null,null,null,"2471","くぎ製造業"]
[null,null,null,null,null,null,"2479","その他の金属線製品製造業"]
[null,null,null,null,null,null,"2481","ボルト・ナット・リベット・小ねじ・木ねじ等製造業"]
[null,null,null,null,null,null,"2491","金庫製造業"]
[null,null,null,null,null,null,"2492","金属製スプリング製造業"]
[null,null,null,null,null,null,"2499","他に分類されない金属製品製造業"]
[null,null,null,null,null,null,"2500","主として管理事務を行う本社等"]
[null,null,null,null,null,null,"2509","その他の管理，補助的経済活動を行う事業所"]
[null,null,null,null,null,null,"2511","ボイラ製造業"]
[null,null,null,null,null,null,"2512","蒸気機関・タービン・水力タービン製造業（舶用を除く）"]
[null,null,null,null,null,null,"2513","はん用内燃機関製造業"]
[null,null,null,null,null,null,"2519","その他の原動機製造業"]
[null,null,null,null,null,null,"2521","ポンプ・同装置製造業"]
[null,null,null,null,null,null,"2522","空気圧縮機・ガス圧縮機・送風機製造業"]
[null,null,null,null,null,null,"2523","油圧・空圧機器製造業"]
[null,null,null,null,null,null,"2531","動力伝導装置製造業（玉軸受，ころ軸受を除く）"]
[null,null,null,null,null,null,"2532","エレベータ・エスカレータ製造業"]
[null,null,null,null,null,null,"2533","物流運搬設備製造業"]
[null,null,null,null,null,null,"2534","工業窯炉製造業"]
[null,null,null,null,null,null,"2535","冷凍機・温湿調整装置製造業"]
[null,null,null,null,null,null,"2591","消火器具・消火装置製造業"]
[null,null,null,null,null,null,"2592","弁・同附属品製造業"]
[null,null,null,null,null,null,"2593","パイプ加工・パイプ附属品加工業"]
[null,null,null,null,null,null,"2594","玉軸受・ころ軸受製造業"]
[null,null,null,null,null,null,"2595","ピストンリング製造業"]
[null,null,null,null,null,null,"2596","他に分類されないはん用機械・装置製造業"]
[null,null,null,null,null,null,"2599","各種機械・同部分品製造修理業（注文製造・修理）"]
[null,null,null,null,null,null,"2600","主として管理事務を行う本社等"]
[null,null,null,null,null,null,"2609","その他の管理，補助的経済活動を行う事業所"]
[null,null,null,null,null,null,"2611","農業用機械製造業（農業用器具を除く）"]
[null,null,null,null,null,null,"2621","建設機械・鉱山機械製造業"]
[null,null,null,null,null,null,"2631","化学繊維機械・紡績機械製造業"]
[null,null,null,null,null,null,"2632","製織機械・編組機械製造業"]
[null,null,null,null,null,null,"2633","染色整理仕上機械製造業"]
[null,null,null,null,null,null,"2634","繊維機械部分品・取付具・附属品製造業"]
[null,null,null,null,null,null,"2635","縫製機械製造業"]
[null,null,null,null,null,null,"2641","食品機械・同装置製造業"]
[null,null,null,null,null,null,"2642","木材加工機械製造業"]
[null,null,null,null,null,null,"2643","パルプ装置・製紙機械製造業"]
[null,null,null,null,null,null,"2644","印刷・製本・紙工機械製造業"]
[null,null,null,null,null,null,"2645","包装・荷造機械製造業"]
[null,null,null,null,null,null,"2651","鋳造装置製造業"]
[null,null,null,null,null,null,"2652","化学機械・同装置製造業"]
[null,null,null,null,null,null,"2653","プラスチック加工機械・同附属装置製造業"]
[null,null,null,null,null,null,"2661","金属工作機械製造業"]
[null,null,null,null,null,null,"2662","金属加工機械製造業（金属工作機械を除く）"]
[null,null,null,null,null,null,"2663","金属工作機械用・金属加工機械用部分品・附属品製造業（機械工具，金型を除く）"]
[null,null,null,null,null,null,"2664","機械工具製造業（粉末や金業を除く）"]
[null,null,null,null,null,null,"2671","半導体製造装置製造業"]
[null,null,null,null,null,null,"2672","フラットパネルディスプレイ製造装置製造業"]
[null,null,null,null,null,null,"2691","金属用金型・同部分品・附属品製造業"]
[null,null,null,null,null,null,"2692","非金属用金型・同部分品・附属品製造業"]
[null,null,null,null,null,null,"2693","真空装置・真空機器製造業"]
[null,null,null,null,null,null,"2694","ロボット製造業"]
[null,null,null,null,null,null,"2699","他に分類されない生産用機械・同部分品製造業"]
[null,null,null,null,null,null,"2700","主として管理事務を行う本社等"]
[null,null,null,null,null,null,"2709","その他の管理，補助的経済活動を行う事業所"]
[null,null,null,null,null,null,"2711","複写機製造業"]
[null,null,null,null,null,null,"2719","その他の事務用機械器具製造業"]
[null,null,null,null,null,null,"2721","サービス用機械器具製造業"]
[null,null,null,null,null,null,"2722","娯楽用機械製造業"]
[null,null,null,null,null,null,"2723","自動販売機製造業"]
[null,null,null,null,null,null,"2729","その他のサービス用・娯楽用機械器具製造業"]
[null,null,null,null,null,null,"2731","体積計製造業"]
[null,null,null,null,null,null,"2732","はかり製造業"]
[null,null,null,null,null,null,"2733","圧力計・流量計・液面計等製造業"]
[null,null,null,null,null,null,"2734","精密測定器製造業"]
[null,null,null,null,null,null,"2735","分析機器製造業"]
[null,null,null,null,null,null,"2736","試験機製造業"]
[null,null,null,null,null,null,"2737","測量機械器具製造業"]
[null,null,null,null,null,null,"2738","理化学機械器具製造業"]
[null,null,null,null,null,null,"2739","その他の計量器・測定器・分析機器・試験機・測量機械器具・理化学機械器具製造業"]
[null,null,null,null,null,null,"2741","医療用機械器具製造業"]
[null,null,null,null,null,null,"2742","歯科用機械器具製造業"]
[null,null,null,null,null,null,"2743","医療用品製造業（動物用医療機械器具を含む）"]
[null,null,null,null,null,null,"2744","歯科材料製造業"]
[null,null,null,null,null,null,"2751","顕微鏡・望遠鏡等製造業"]
[null,null,null,null,null,null,"2752","写真機・映画用機械・同附属品製造業"]
[null,null,null,null,null,null,"2753","光学機械用レンズ・プリズム製造業"]
[null,null,null,null,null,null,"2761","武器製造業"]
[null,null,null,null,null,null,"2800","主として管理事務を行う本社等"]
[null,null,null,null,null,null,"2809","その他の管理，補助的経済活動を行う事業所"]
[null,null,null,null,null,null,"2811","電子管製造業"]
[null,null,null,null,null,null,"2812","光電変換素子製造業"]
[null,null,null,null,null,null,"2813","半導体素子製造業（光電変換素子を除く）"]
[null,null,null,null,null,null,"2814","集積回路製造業"]
[null,null,null,null,null,null,"2815","液晶パネル・フラットパネル製造業"]
[null,null,null,null,null,null,"2821","抵抗器・コンデンサ・変成器・複合部品製造業"]
[null,null,null,null,null,null,"2822","音響部品・磁気ヘッド・小形モータ製造業"]
[null,null,null,null,null,null,"2823","コネクタ・スイッチ・リレー製造業"]
[null,null,null,null,null,null,"2831","半導体メモリメディア製造業"]
[null,null,null,null,null,null,"2832","光ディスク・磁気ディスク・磁気テープ製造業"]
[null,null,null,null,null,null,"2841","電子回路基板製造業"]
[null,null,null,null,null,null,"2842","電子回路実装基板製造業"]
[null,null,null,null,null,null,"2851","電源ユニット・高周波ユニット・コントロールユニット製造業"]
[null,null,null,null,null,null,"2859","その他のユニット部品製造業"]
[null,null,null,null,null,null,"2899","その他の電子部品・デバイス・電子回路製造業"]
[null,null,null,null,null,null,"2900","主として管理事務を行う本社等"]
[null,null,null,null,null,null,"2909","その他の管理，補助的経済活動を行う事業所"]
[null,null,null,null,null,null,"2911","発電機・電動機・その他の回転電気機械製造業"]
[null,null,null,null,null,null,"2912","変圧器類製造業（電子機器用を除く)"]
[null,null,null,null,null,null,"2913","電力開閉装置製造業"]
[null,null,null,null,null,null,"2914","配電盤・電力制御装置製造業"]
[null,null,null,null,null,null,"2915","配線器具・配線附属品製造業"]
[null,null,null,null,null,null,"2921","電気溶接機製造業"]
[null,null,null,null,null,null,"2922","内燃機関電装品製造業"]
[null,null,null,null,null,null,"2929","その他の産業用電気機械器具製造業（車両用，船舶用を含む）"]
[null,null,null,null,null,null,"2931","ちゅう房機器製造業"]
[null,null,null,null,null,null,"2932","空調・住宅関連機器製造業"]
[null,null,null,null,null,null,"2933","衣料衛生関連機器製造業"]
[null,null,null,null,null,null,"2939","その他の民生用電気機械器具製造業"]
[null,null,null,null,null,null,"2941","電球製造業"]
[null,null,null,null,null,null,"2942","電気照明器具製造業"]
[null,null,null,null,null,null,"2951","蓄電池製造業"]
[null,null,null,null,null,null,"2952","一次電池（乾電池，湿電池）製造業"]
[null,null,null,null,null,null,"2961","Ｘ線装置製造業"]
[null,null,null,null,null,null,"2962","医療用電子応用装置製造業"]
[null,null,null,null,null,null,"2969","その他の電子応用装置製造業"]
[null,null,null,null,null,null,"2971","電気計測器製造業（別掲を除く）"]
[null,null,null,null,null,null,"2972","工業計器製造業"]
[null,null,null,null,null,null,"2973","医療用計測器製造業"]
[null,null,null,null,null,null,"2999","その他の電気機械器具製造業"]
[null,null,null,null,null,null,"3000","主として管理事務を行う本社等"]
[null,null,null,null,null,null,"3009","その他の管理，補助的経済活動を行う事業所"]
[null,null,null,null,null,null,"3011","有線通信機械器具製造業"]
[null,null,null,null,null,null,"3012","携帯電話機・ＰＨＳ電話機製造業"]
[null,null,null,null,null,null,"3013","無線通信機械器具製造業"]
[null,null,null,null,null,null,"3014","ラジオ受信機・テレビジョン受信機製造業"]
[null,null,null,null,null,null,"3015","交通信号保安装置製造業"]
[null,null,null,null,null,null,"3019","その他の通信機械器具・同関連機械器具製造業"]
[null,null,null,null,null,null,"3021","ビデオ機器製造業"]
[null,null,null,null,null,null,"3022","デジタルカメラ製造業"]
[null,null,null,null,null,null,"3023","電気音響機械器具製造業"]
[null,null,null,null,null,null,"3031","電子計算機製造業（パーソナルコンピュータを除く）"]
[null,null,null,null,null,null,"3032","パーソナルコンピュータ製造業"]
[null,null,null,null,null,null,"3033","外部記憶装置製造業"]
[null,null,null,null,null,null,"3034","印刷装置製造業"]
[null,null,null,null,null,null,"3035","表示装置製造業"]
[null,null,null,null,null,null,"3039","その他の附属装置製造業"]
[null,null,null,null,null,null,"3100","主として管理事務を行う本社等"]
[null,null,null,null,null,null,"3109","その他の管理，補助的経済活動を行う事業所"]
[null,null,null,null,null,null,"3111","自動車製造業（二輪自動車を含む）"]
[null,null,null,null,null,null,"3112","自動車車体・附随車製造業"]
[null,null,null,null,null,null,"3113","自動車部分品・附属品製造業"]
[null,null,null,null,null,null,"3121","鉄道車両製造業"]
[null,null,null,null,null,null,"3122","鉄道車両用部分品製造業"]
[null,null,null,null,null,null,"3131","船舶製造・修理業"]
[null,null,null,null,null,null,"3132","船体ブロック製造業"]
[null,null,null,null,null,null,"3133","舟艇製造・修理業"]
[null,null,null,null,null,null,"3134","舶用機関製造業"]
[null,null,null,null,null,null,"3141","航空機製造業"]
[null,null,null,null,null,null,"3142","航空機用原動機製造業"]
[null,null,null,null,null,null,"3149","その他の航空機部分品・補助装置製造業"]
[null,null,null,null,null,null,"3151","フォークリフトトラック・同部分品・附属品製造業"]
[null,null,null,null,null,null,"3159","その他の産業用運搬車両・同部分品・附属品製造業"]
[null,null,null,null,null,null,"3191","自転車・同部分品製造業"]
[null,null,null,null,null,null,"3199","他に分類されない輸送用機械器具製造業"]
[null,null,null,null,null,null,"3200","主として管理事務を行う本社等"]
[null,null,null,null,null,null,"3209","その他の管理，補助的経済活動を行う事業所"]
[null,null,null,null,null,null,"3211","貴金属・宝石製装身具（ジュエリー）製品製造業"]
[null,null,null,null,null,null,"3212","貴金属・宝石製装身具（ジュエリー）附属品・同材料加工業"]
[null,null,null,null,null,null,"3219","その他の貴金属製品製造業"]
[null,null,null,null,null,null,"3221","装身具・装飾品製造業（貴金属・宝石製を除く）"]
[null,null,null,null,null,null,"3222","造花・装飾用羽毛製造業"]
[null,null,null,null,null,null,"3223","ボタン製造業"]
[null,null,null,null,null,null,"3224","針・ピン・ホック・スナップ・同関連品製造業"]
[null,null,null,null,null,null,"3229","その他の装身具・装飾品製造業"]
[null,null,null,null,null,null,"3231","時計・同部分品製造業"]
[null,null,null,null,null,null,"3241","ピアノ製造業"]
[null,null,null,null,null,null,"3249","その他の楽器・楽器部品・同材料製造業"]
[null,null,null,null,null,null,"3251","娯楽用具・がん具製造業（人形を除く）"]
[null,null,null,null,null,null,"3252","人形製造業"]
[null,null,null,null,null,null,"3253","運動用具製造業"]
[null,null,null,null,null,null,"3261","万年筆・ペン類・鉛筆製造業"]
[null,null,null,null,null,null,"3262","毛筆・絵画用品製造業（鉛筆を除く）"]
[null,null,null,null,null,null,"3269","その他の事務用品製造業"]
[null,null,null,null,null,null,"3271","漆器製造業"]
[null,null,null,null,null,null,"3281","麦わら・パナマ類帽子・わら工品製造業"]
[null,null,null,null,null,null,"3282","畳製造業"]
[null,null,null,null,null,null,"3283","うちわ・扇子・ちょうちん製造業"]
[null,null,null,null,null,null,"3284","ほうき・ブラシ製造業"]
[null,null,null,null,null,null,"3285","喫煙用具製造業（貴金属・宝石製を除く）"]
[null,null,null,null,null,null,"3289","その他の生活雑貨製品製造業"]
[null,null,null,null,null,null,"3291","煙火製造業"]
[null,null,null,null,null,null,"3292","看板・標識機製造業"]
[null,null,null,null,null,null,"3293","パレット製造業"]
[null,null,null,null,null,null,"3294","モデル・模型製造業"]
[null,null,null,null,null,null,"3295","工業用模型製造業"]
[null,null,null,null,null,null,"3296","情報記録物製造業（新聞，書籍等の印刷物を除く）"]
[null,null,null,null,null,null,"3297","眼鏡製造業（枠を含む）"]
[null,null,null,null,null,null,"3299","他に分類されないその他の製造業"]
[null,null,null,null,null,null,"3300","主として管理事務を行う本社等"]
[null,null,null,null,null,null,"3309","その他の管理，補助的経済活動を行う事業所"]
[null,null,null,null,null,null,"3311","発電所"]
[null,null,null,null,null,null,"3312","変電所"]
[null,null,null,null,null,null,"3400","主として管理事務を行う本社等"]
[null,null,null,null,null,null,"3409","その他の管理，補助的経済活動を行う事業所"]
[null,null,null,null,null,null,"3411","ガス製造工場"]
[null,null,null,null,null,null,"3412","ガス供給所"]
[null,null,null,null,null,null,"3500","主として管理事務を行う本社等"]
[null,null,null,null,null,null,"3509","その他の管理，補助的経済活動を行う事業所"]
[null,null,null,null,null,null,"3511","熱供給業"]
[null,null,null,null,null,null,"3600","主として管理事務を行う本社等"]
[null,null,null,null,null,null,"3609","その他の管理，補助的経済活動を行う事業所"]
[null,null,null,null,null,null,"3611","上水道業"]
[null,null,null,null,null,null,"3621","工業用水道業"]
[null,null,null,null,null,null,"3631","下水道処理施設維持管理業"]
[null,null,null,null,null,null,"3632","下水道管路施設維持管理業"]
[null,null,null,null,null,null,"3700","主として管理事務を行う本社等"]
[null,null,null,null,null,null,"3709","その他の管理，補助的経済活動を行う事業所"]
[null,null,null,null,null,null,"3711","地域電気通信業（有線放送電話業を除く）"]
[null,null,null,null,null,null,"3712","長距離電気通信業"]
[null,null,null,null,null,null,"3713","有線放送電話業"]
[null,null,null,null,null,null,"3719","その他の固定電気通信業"]
[null,null,null,null,null,null,"3721","移動電気通信業"]
[null,null,null,null,null,null,"3731","電気通信に附帯するサービス業"]
[null,null,null,null,null,null,"3800","主として管理事務を行う本社等"]
[null,null,null,null,null,null,"3809","その他の管理，補助的経済活動を行う事業所"]
[null,null,null,null,null,null,"3811","公共放送業（有線放送業を除く）"]
[null,null,null,null,null,null,"3821","テレビジョン放送業（衛星放送業を除く）"]
[null,null,null,null,null,null,"3822","ラジオ放送業（衛星放送業を除く）"]
[null,null,null,null,null,null,"3823","衛星放送業"]
[null,null,null,null,null,null,"3829","その他の民間放送業"]
[null,null,null,null,null,null,"3831","有線テレビジョン放送業"]
[null,null,null,null,null,null,"3832","有線ラジオ放送業"]
[null,null,null,null,null,null,"3900","主として管理事務を行う本社等"]
[null,null,null,null,null,null,"3909","その他の管理，補助的経済活動を行う事業所"]
[null,null,null,null,null,null,"3911","受託開発ソフトウェア業"]
[null,null,null,null,null,null,"3912","組込みソフトウェア業"]
[null,null,null,null,null,null,"3913","パッケージソフトウェア業"]
[null,null,null,null,null,null,"3914","ゲームソフトウェア業"]
[null,null,null,null,null,null,"3921","情報処理サービス業"]
[null,null,null,null,null,null,"3922","情報提供サービス業"]
[null,null,null,null,null,null,"3923","市場調査・世論調査・社会調査業"]
[null,null,null,null,null,null,"3929","その他の情報処理・提供サービス業"]
[null,null,null,null,null,null,"4000","主として管理事務を行う本社等"]
[null,null,null,null,null,null,"4009","その他の管理，補助的経済活動を行う事業所"]
[null,null,null,null,null,null,"4011","ポータルサイト・サーバ運営業"]
[null,null,null,null,null,null,"4012","アプリケーション・サービス・コンテンツ・プロバイダ"]
[null,null,null,null,null,null,"4013","インターネット利用サポート業"]
[null,null,null,null,null,null,"4100","主として管理事務を行う本社等"]
[null,null,null,null,null,null,"4109","その他の管理，補助的経済活動を行う事業所"]
[null,null,null,null,null,null,"4111","映画・ビデオ制作業（テレビジョン番組制作業，アニメーション制作業を除く）"]
[null,null,null,null,null,null,"4112","テレビジョン番組制作業（アニメーション制作業を除く）"]
[null,null,null,null,null,null,"4113","アニメーション制作業"]
[null,null,null,null,null,null,"4114","映画・ビデオ・テレビジョン番組配給業"]
[null,null,null,null,null,null,"4121","レコード制作業"]
[null,null,null,null,null,null,"4122","ラジオ番組制作業"]
[null,null,null,null,null,null,"4131","新聞業"]
[null,null,null,null,null,null,"4141","出版業"]
[null,null,null,null,null,null,"4151","広告制作業"]
[null,null,null,null,null,null,"4161","ニュース供給業"]
[null,null,null,null,null,null,"4169","その他の映像・音声・文字情報制作に附帯するサービス業"]
[null,null,null,null,null,null,"4200","主として管理事務を行う本社等"]
[null,null,null,null,null,null,"4209","その他の管理，補助的経済活動を行う事業所"]
[null,null,null,null,null,null,"4211","普通鉄道業"]
[null,null,null,null,null,null,"4212","軌道業"]
[null,null,null,null,null,null,"4213","地下鉄道業"]
[null,null,null,null,null,null,"4214","モノレール鉄道業（地下鉄道業を除く）"]
[null,null,null,null,null,null,"4215","案内軌条式鉄道業（地下鉄道業を除く）"]
[null,null,null,null,null,null,"4216","鋼索鉄道業"]
[null,null,null,null,null,null,"4217","索道業"]
[null,null,null,null,null,null,"4219","その他の鉄道業"]
[null,null,null,null,null,null,"4300","主として管理事務を行う本社等"]
[null,null,null,null,null,null,"4309","その他の管理，補助的経済活動を行う事業所"]
[null,null,null,null,null,null,"4311","一般乗合旅客自動車運送業"]
[null,null,null,null,null,null,"4321","一般乗用旅客自動車運送業"]
[null,null,null,null,null,null,"4331","一般貸切旅客自動車運送業"]
[null,null,null,null,null,null,"4391","特定旅客自動車運送業"]
[null,null,null,null,null,null,"4399","他に分類されない道路旅客運送業"]
[null,null,null,null,null,null,"4400","主として管理事務を行う本社等"]
[null,null,null,null,null,null,"4409","その他の管理，補助的経済活動を行う事業所"]
[null,null,null,null,null,null,"4411","一般貨物自動車運送業（特別積合せ貨物運送業を除く）"]
[null,null,null,null,null,null,"4412","特別積合せ貨物運送業"]
[null,null,null,null,null,null,"4421","特定貨物自動車運送業"]
[null,null,null,null,null,null,"4431","貨物軽自動車運送業"]
[null,null,null,null,null,null,"4441","集配利用運送業"]
[null,null,null,null,null,null,"4499","その他の道路貨物運送業"]
[null,null,null,null,null,null,"4500","主として管理事務を行う本社等"]
[null,null,null,null,null,null,"4509","その他の管理，補助的経済活動を行う事業所"]
[null,null,null,null,null,null,"4511","外航旅客海運業"]
[null,null,null,null,null,null,"4512","外航貨物海運業"]
[null,null,null,null,null,null,"4521","沿海旅客海運業"]
[null,null,null,null,null,null,"4522","沿海貨物海運業"]
[null,null,null,null,null,null,"4531","港湾旅客海運業"]
[null,null,null,null,null,null,"4532","河川水運業"]
[null,null,null,null,null,null,"4533","湖沼水運業"]
[null,null,null,null,null,null,"4541","船舶貸渡業（内航船舶貸渡業を除く）"]
[null,null,null,null,null,null,"4542","内航船舶貸渡業"]
[null,null,null,null,null,null,"4600","主として管理事務を行う本社等"]
[null,null,null,null,null,null,"4609","その他の管理，補助的経済活動を行う事業所"]
[null,null,null,null,null,null,"4611","航空運送業"]
[null,null,null,null,null,null,"4621","航空機使用業（航空運送業を除く）"]
[null,null,null,null,null,null,"4700","主として管理事務を行う本社等"]
[null,null,null,null,null,null,"4709","その他の管理，補助的経済活動を行う事業所"]
[null,null,null,null,null,null,"4711","倉庫業（冷蔵倉庫業を除く）"]
[null,null,null,null,null,null,"4721","冷蔵倉庫業"]
[null,null,null,null,null,null,"4800","主として管理事務を行う本社等"]
[null,null,null,null,null,null,"4809","その他の管理，補助的経済活動を行う事業所"]
[null,null,null,null,null,null,"4811","港湾運送業"]
[null,null,null,null,null,null,"4821","利用運送業（集配利用運送業を除く）"]
[null,null,null,null,null,null,"4822","運送取次業"]
[null,null,null,null,null,null,"4831","運送代理店"]
[null,null,null,null,null,null,"4841","こん包業（組立こん包業を除く）"]
[null,null,null,null,null,null,"4842","組立こん包業"]
[null,null,null,null,null,null,"4851","鉄道施設提供業"]
[null,null,null,null,null,null,"4852","道路運送固定施設業"]
[null,null,null,null,null,null,"4853","自動車ターミナル業"]
[null,null,null,null,null,null,"4854","貨物荷扱固定施設業"]
[null,null,null,null,null,null,"4855","桟橋泊きょ業"]
[null,null,null,null,null,null,"4856","飛行場業"]
[null,null,null,null,null,null,"4891","海運仲立業"]
[null,null,null,null,null,null,"4899","他に分類されない運輸に附帯するサービス業"]
[null,null,null,null,null,null,"4901","管理，補助的経済活動を行う事業所"]
[null,null,null,null,null,null,"4911","郵便業（信書便事業を含む）"]
[null,null,null,null,null,null,"5000","主として管理事務を行う本社等"]
[null,null,null,null,null,null,"5008","自家用倉庫"]
[null,null,null,null,null,null,"5009","その他の管理，補助的経済活動を行う事業所"]
[null,null,null,null,null,null,"5011","各種商品卸売業（従業者が常時100人以上のもの）"]
[null,null,null,null,null,null,"5019","その他の各種商品卸売業"]
[null,null,null,null,null,null,"5100","主として管理事務を行う本社等"]
[null,null,null,null,null,null,"5108","自家用倉庫"]
[null,null,null,null,null,null,"5109","その他の管理，補助的経済活動を行う事業所"]
[null,null,null,null,null,null,"5111","繊維原料卸売業"]
[null,null,null,null,null,null,"5112","糸卸売業"]
[null,null,null,null,null,null,"5113","織物卸売業（室内装飾繊維品を除く）"]
[null,null,null,null,null,null,"5121","男子服卸売業"]
[null,null,null,null,null,null,"5122","婦人・子供服卸売業"]
[null,null,null,null,null,null,"5123","下着類卸売業"]
[null,null,null,null,null,null,"5129","その他の衣服卸売業"]
[null,null,null,null,null,null,"5131","寝具類卸売業"]
[null,null,null,null,null,null,"5132","靴・履物卸売業"]
[null,null,null,null,null,null,"5133","かばん・袋物卸売業"]
[null,null,null,null,null,null,"5139","その他の身の回り品卸売業"]
[null,null,null,null,null,null,"5200","主として管理事務を行う本社等"]
[null,null,null,null,null,null,"5208","自家用倉庫"]
[null,null,null,null,null,null,"5209","その他の管理，補助的経済活動を行う事業所"]
[null,null,null,null,null,null,"5211","米麦卸売業"]
[null,null,null,null,null,null,"5212","雑穀・豆類卸売業"]
[null,null,null,null,null,null,"5213","野菜卸売業"]
[null,null,null,null,null,null,"5214","果実卸売業"]
[null,null,null,null,null,null,"5215","食肉卸売業"]
[null,null,null,null,null,null,"5216","生鮮魚介卸売業"]
[null,null,null,null,null,null,"5219","その他の農畜産物・水産物卸売業"]
[null,null,null,null,null,null,"5221","砂糖・味そ・しょう油卸売業"]
[null,null,null,null,null,null,"5222","酒類卸売業"]
[null,null,null,null,null,null,"5223","乾物卸売業"]
[null,null,null,null,null,null,"5224","菓子・パン類卸売業"]
[null,null,null,null,null,null,"5225","飲料卸売業（別掲を除く）"]
[null,null,null,null,null,null,"5226","茶類卸売業"]
[null,null,null,null,null,null,"5227","牛乳・乳製品卸売業"]
[null,null,null,null,null,null,"5229","その他の食料・飲料卸売業"]
[null,null,null,null,null,null,"5300","主として管理事務を行う本社等"]
[null,null,null,null,null,null,"5308","自家用倉庫"]
[null,null,null,null,null,null,"5309","その他の管理，補助的経済活動を行う事業所"]
[null,null,null,null,null,null,"5311","木材・竹材卸売業"]
[null,null,null,null,null,null,"5312","セメント卸売業"]
[null,null,null,null,null,null,"5313","板ガラス卸売業"]
[null,null,null,null,null,null,"5314","建築用金属製品卸売業（建築用金物を除く）"]
[null,null,null,null,null,null,"5319","その他の建築材料卸売業"]
[null,null,null,null,null,null,"5321","塗料卸売業"]
[null,null,null,null,null,null,"5322","プラスチック卸売業"]
[null,null,null,null,null,null,"5329","その他の化学製品卸売業"]
[null,null,null,null,null,null,"5331","石油卸売業"]
[null,null,null,null,null,null,"5332","鉱物卸売業（石油を除く）"]
[null,null,null,null,null,null,"5341","鉄鋼粗製品卸売業"]
[null,null,null,null,null,null,"5342","鉄鋼一次製品卸売業"]
[null,null,null,null,null,null,"5349","その他の鉄鋼製品卸売業"]
[null,null,null,null,null,null,"5351","非鉄金属地金卸売業"]
[null,null,null,null,null,null,"5352","非鉄金属製品卸売業"]
[null,null,null,null,null,null,"5361","空瓶・空缶等空容器卸売業"]
[null,null,null,null,null,null,"5362","鉄スクラップ卸売業"]
[null,null,null,null,null,null,"5363","非鉄金属スクラップ卸売業"]
[null,null,null,null,null,null,"5364","古紙卸売業"]
[null,null,null,null,null,null,"5369","その他の再生資源卸売業"]
[null,null,null,null,null,null,"5400","主として管理事務を行う本社等"]
[null,null,null,null,null,null,"5408","自家用倉庫"]
[null,null,null,null,null,null,"5409","その他の管理，補助的経済活動を行う事業所"]
[null,null,null,null,null,null,"5411","農業用機械器具卸売業"]
[null,null,null,null,null,null,"5412","建設機械・鉱山機械卸売業"]
[null,null,null,null,null,null,"5413","金属加工機械卸売業"]
[null,null,null,null,null,null,"5414","事務用機械器具卸売業"]
[null,null,null,null,null,null,"5419","その他の産業機械器具卸売業"]
[null,null,null,null,null,null,"5421","自動車卸売業（二輪自動車を含む）"]
[null,null,null,null,null,null,"5422","自動車部分品・附属品卸売業（中古品を除く）"]
[null,null,null,null,null,null,"5423","自動車中古部品卸売業"]
[null,null,null,null,null,null,"5431","家庭用電気機械器具卸売業"]
[null,null,null,null,null,null,"5432","電気機械器具卸売業（家庭用電気機械器具を除く）"]
[null,null,null,null,null,null,"5491","輸送用機械器具卸売業（自動車を除く）"]
[null,null,null,null,null,null,"5492","計量器・理化学機械器具・光学機械器具等卸売業"]
[null,null,null,null,null,null,"5493","医療用機械器具卸売業（歯科用機械器具を含む）"]
[null,null,null,null,null,null,"5500","主として管理事務を行う本社等"]
[null,null,null,null,null,null,"5508","自家用倉庫"]
[null,null,null,null,null,null,"5509","その他の管理，補助的経済活動を行う事業所"]
[null,null,null,null,null,null,"5511","家具・建具卸売業"]
[null,null,null,null,null,null,"5512","荒物卸売業"]
[null,null,null,null,null,null,"5513","畳卸売業"]
[null,null,null,null,null,null,"5514","室内装飾繊維品卸売業"]
[null,null,null,null,null,null,"5515","陶磁器・ガラス器卸売業"]
[null,null,null,null,null,null,"5519","その他のじゅう器卸売業"]
[null,null,null,null,null,null,"5521","医薬品卸売業"]
[null,null,null,null,null,null,"5522","医療用品卸売業"]
[null,null,null,null,null,null,"5523","化粧品卸売業"]
[null,null,null,null,null,null,"5524","合成洗剤卸売業"]
[null,null,null,null,null,null,"5531","紙卸売業"]
[null,null,null,null,null,null,"5532","紙製品卸売業"]
[null,null,null,null,null,null,"5591","金物卸売業"]
[null,null,null,null,null,null,"5592","肥料・飼料卸売業"]
[null,null,null,null,null,null,"5593","スポーツ用品卸売業"]
[null,null,null,null,null,null,"5594","娯楽用品・がん具卸売業"]
[null,null,null,null,null,null,"5595","たばこ卸売業"]
[null,null,null,null,null,null,"5596","ジュエリー製品卸売業"]
[null,null,null,null,null,null,"5597","書籍・雑誌卸売業"]
[null,null,null,null,null,null,"5598","代理商，仲立業"]
[null,null,null,null,null,null,"5599","他に分類されないその他の卸売業"]
[null,null,null,null,null,null,"5600","主として管理事務を行う本社等"]
[null,null,null,null,null,null,"5608","自家用倉庫"]
[null,null,null,null,null,null,"5609","その他の管理，補助的経済活動を行う事業所"]
[null,null,null,null,null,null,"5611","百貨店，総合スーパー"]
[null,null,null,null,null,null,"5699","その他の各種商品小売業（従業者が常時50人未満のもの）"]
[null,null,null,null,null,null,"5700","主として管理事務を行う本社等"]
[null,null,null,null,null,null,"5708","自家用倉庫"]
[null,null,null,null,null,null,"5709","その他の管理，補助的経済活動を行う事業所"]
[null,null,null,null,null,null,"5711","呉服・服地小売業"]
[null,null,null,null,null,null,"5712","寝具小売業"]
[null,null,null,null,null,null,"5721","男子服小売業"]
[null,null,null,null,null,null,"5731","婦人服小売業"]
[null,null,null,null,null,null,"5732","子供服小売業"]
[null,null,null,null,null,null,"5741","靴小売業"]
[null,null,null,null,null,null,"5742","履物小売業（靴を除く）"]
[null,null,null,null,null,null,"5791","かばん・袋物小売業"]
[null,null,null,null,null,null,"5792","下着類小売業"]
[null,null,null,null,null,null,"5793","洋品雑貨・小間物小売業"]
[null,null,null,null,null,null,"5799","他に分類されない織物・衣服・身の回り品小売業"]
[null,null,null,null,null,null,"5800","主として管理事務を行う本社等"]
[null,null,null,null,null,null,"5808","自家用倉庫"]
[null,null,null,null,null,null,"5809","その他の管理，補助的経済活動を行う事業所"]
[null,null,null,null,null,null,"5811","各種食料品小売業"]
[null,null,null,null,null,null,"5821","野菜小売業"]
[null,null,null,null,null,null,"5822","果実小売業"]
[null,null,null,null,null,null,"5831","食肉小売業（卵，鳥肉を除く）"]
[null,null,null,null,null,null,"5832","卵・鳥肉小売業"]
[null,null,null,null,null,null,"5841","鮮魚小売業"]
[null,null,null,null,null,null,"5851","酒小売業"]
[null,null,null,null,null,null,"5861","菓子小売業（製造小売）"]
[null,null,null,null,null,null,"5862","菓子小売業（製造小売でないもの）"]
[null,null,null,null,null,null,"5863","パン小売業（製造小売）"]
[null,null,null,null,null,null,"5864","パン小売業（製造小売でないもの）"]
[null,null,null,null,null,null,"5891","コンビニエンスストア（飲食料品を中心とするものに限る）"]
[null,null,null,null,null,null,"5892","牛乳小売業"]
[null,null,null,null,null,null,"5893","飲料小売業（別掲を除く）"]
[null,null,null,null,null,null,"5894","茶類小売業"]
[null,null,null,null,null,null,"5895","料理品小売業"]
[null,null,null,null,null,null,"5896","米穀類小売業"]
[null,null,null,null,null,null,"5897","豆腐・かまぼこ等加工食品小売業"]
[null,null,null,null,null,null,"5898","乾物小売業"]
[null,null,null,null,null,null,"5899","他に分類されない飲食料品小売業"]
[null,null,null,null,null,null,"5900","主として管理事務を行う本社等"]
[null,null,null,null,null,null,"5908","自家用倉庫"]
[null,null,null,null,null,null,"5909","その他の管理，補助的経済活動を行う事業所"]
[null,null,null,null,null,null,"5911","自動車（新車）小売業"]
[null,null,null,null,null,null,"5912","中古自動車小売業"]
[null,null,null,null,null,null,"5913","自動車部分品・附属品小売業"]
[null,null,null,null,null,null,"5914","二輪自動車小売業（原動機付自転車を含む）"]
[null,null,null,null,null,null,"5921","自転車小売業"]
[null,null,null,null,null,null,"5931","電気機械器具小売業（中古品を除く）"]
[null,null,null,null,null,null,"5932","電気事務機械器具小売業（中古品を除く）"]
[null,null,null,null,null,null,"5933","中古電気製品小売業"]
[null,null,null,null,null,null,"5939","その他の機械器具小売業"]
[null,null,null,null,null,null,"6000","主として管理事務を行う本社等"]
[null,null,null,null,null,null,"6008","自家用倉庫"]
[null,null,null,null,null,null,"6009","その他の管理，補助的経済活動を行う事業所"]
[null,null,null,null,null,null,"6011","家具小売業"]
[null,null,null,null,null,null,"6012","建具小売業"]
[null,null,null,null,null,null,"6013","畳小売業"]
[null,null,null,null,null,null,"6014","宗教用具小売業"]
[null,null,null,null,null,null,"6021","金物小売業"]
[null,null,null,null,null,null,"6022","荒物小売業"]
[null,null,null,null,null,null,"6023","陶磁器・ガラス器小売業"]
[null,null,null,null,null,null,"6029","他に分類されないじゅう器小売業"]
[null,null,null,null,null,null,"6031","ドラッグストア"]
[null,null,null,null,null,null,"6032","医薬品小売業（調剤薬局を除く）"]
[null,null,null,null,null,null,"6033","調剤薬局"]
[null,null,null,null,null,null,"6034","化粧品小売業"]
[null,null,null,null,null,null,"6041","農業用機械器具小売業"]
[null,null,null,null,null,null,"6042","苗・種子小売業"]
[null,null,null,null,null,null,"6043","肥料・飼料小売業"]
[null,null,null,null,null,null,"6051","ガソリンスタンド"]
[null,null,null,null,null,null,"6052","燃料小売業（ガソリンスタンドを除く）"]
[null,null,null,null,null,null,"6061","書籍・雑誌小売業（古本を除く）"]
[null,null,null,null,null,null,"6062","古本小売業"]
[null,null,null,null,null,null,"6063","新聞小売業"]
[null,null,null,null,null,null,"6064","紙・文房具小売業"]
[null,null,null,null,null,null,"6071","スポーツ用品小売業"]
[null,null,null,null,null,null,"6072","がん具・娯楽用品小売業"]
[null,null,null,null,null,null,"6073","楽器小売業"]
[null,null,null,null,null,null,"6081","写真機・写真材料小売業"]
[null,null,null,null,null,null,"6082","時計・眼鏡・光学機械小売業"]
[null,null,null,null,null,null,"6091","ホームセンター"]
[null,null,null,null,null,null,"6092","たばこ・喫煙具専門小売業"]
[null,null,null,null,null,null,"6093","花・植木小売業"]
[null,null,null,null,null,null,"6094","建築材料小売業"]
[null,null,null,null,null,null,"6095","ジュエリー製品小売業"]
[null,null,null,null,null,null,"6096","ペット・ペット用品小売業"]
[null,null,null,null,null,null,"6097","骨とう品小売業"]
[null,null,null,null,null,null,"6098","中古品小売業（骨とう品を除く）"]
[null,null,null,null,null,null,"6099","他に分類されないその他の小売業"]
[null,null,null,null,null,null,"6100","主として管理事務を行う本社等"]
[null,null,null,null,null,null,"6108","自家用倉庫"]
[null,null,null,null,null,null,"6109","その他の管理，補助的経済活動を行う事業所"]
[null,null,null,null,null,null,"6111","無店舗小売業（各種商品小売）"]
[null,null,null,null,null,null,"6112","無店舗小売業（織物・衣服・身の回り品小売）"]
[null,null,null,null,null,null,"6113","無店舗小売業（飲食料品小売）"]
[null,null,null,null,null,null,"6114","無店舗小売業（機械器具小売）"]
[null,null,null,null,null,null,"6119","無店舗小売業（その他の小売）"]
[null,null,null,null,null,null,"6121","自動販売機による小売業"]
[null,null,null,null,null,null,"6199","その他の無店舗小売業"]
[null,null,null,null,null,null,"6200","主として管理事務を行う本社等"]
[null,null,null,null,null,null,"6209","その他の管理，補助的経済活動を行う事業所"]
[null,null,null,null,null,null,"6211","中央銀行"]
[null,null,null,null,null,null,"6221","普通銀行"]
[null,null,null,null,null,null,"6222","郵便貯金銀行"]
[null,null,null,null,null,null,"6223","信託銀行"]
[null,null,null,null,null,null,"6229","その他の銀行"]
[null,null,null,null,null,null,"6300","主として管理事務を行う本社等"]
[null,null,null,null,null,null,"6309","その他の管理，補助的経済活動を行う事業所"]
[null,null,null,null,null,null,"6311","信用金庫・同連合会"]
[null,null,null,null,null,null,"6312","信用協同組合・同連合会"]
[null,null,null,null,null,null,"6313","商工組合中央金庫"]
[null,null,null,null,null,null,"6314","労働金庫・同連合会"]
[null,null,null,null,null,null,"6321","農林中央金庫"]
[null,null,null,null,null,null,"6322","信用農業協同組合連合会"]
[null,null,null,null,null,null,"6323","信用漁業協同組合連合会，信用水産加工業協同組合連合会"]
[null,null,null,null,null,null,"6324","農業協同組合"]
[null,null,null,null,null,null,"6325","漁業協同組合，水産加工業協同組合"]
[null,null,null,null,null,null,"6400","主として管理事務を行う本社等"]
[null,null,null,null,null,null,"6409","その他の管理，補助的経済活動を行う事業所"]
[null,null,null,null,null,null,"6411","消費者向け貸金業"]
[null,null,null,null,null,null,"6412","事業者向け貸金業"]
[null,null,null,null,null,null,"6421","質屋"]
[null,null,null,null,null,null,"6431","クレジットカード業"]
[null,null,null,null,null,null,"6432","割賦金融業"]
[null,null,null,null,null,null,"6491","政府関係金融機関"]
[null,null,null,null,null,null,"6492","住宅専門金融業"]
[null,null,null,null,null,null,"6493","証券金融業"]
[null,null,null,null,null,null,"6499","他に分類されない非預金信用機関"]
[null,null,null,null,null,null,"6500","主として管理事務を行う本社等"]
[null,null,null,null,null,null,"6509","その他の管理，補助的経済活動を行う事業所"]
[null,null,null,null,null,null,"6511","金融商品取引業（投資助言・代理・運用業，補助的金融商品取引業を除く）"]
[null,null,null,null,null,null,"6512","投資助言・代理業"]
[null,null,null,null,null,null,"6513","投資運用業"]
[null,null,null,null,null,null,"6514","補助的金融商品取引業"]
[null,null,null,null,null,null,"6521","商品先物取引業"]
[null,null,null,null,null,null,"6522","商品投資顧問業"]
[null,null,null,null,null,null,"6529","その他の商品先物取引業，商品投資顧問業"]
[null,null,null,null,null,null,"6600","主として管理事務を行う本社等"]
[null,null,null,null,null,null,"6609","その他の管理，補助的経済活動を行う事業所"]
[null,null,null,null,null,null,"6611","短資業"]
[null,null,null,null,null,null,"6612","手形交換所"]
[null,null,null,null,null,null,"6613","両替業"]
[null,null,null,null,null,null,"6614","信用保証機関"]
[null,null,null,null,null,null,"6615","信用保証再保険機関"]
[null,null,null,null,null,null,"6616","預・貯金等保険機関"]
[null,null,null,null,null,null,"6617","金融商品取引所"]
[null,null,null,null,null,null,"6618","商品取引所"]
[null,null,null,null,null,null,"6619","その他の補助的金融業，金融附帯業"]
[null,null,null,null,null,null,"6621","運用型信託業"]
[null,null,null,null,null,null,"6622","管理型信託業"]
[null,null,null,null,null,null,"6631","金融商品仲介業"]
[null,null,null,null,null,null,"6632","信託契約代理業"]
[null,null,null,null,null,null,"6639","その他の金融代理業"]
[null,null,null,null,null,null,"6700","主として管理事務を行う本社等"]
[null,null,null,null,null,null,"6709","その他の管理，補助的経済活動を行う事業所"]
[null,null,null,null,null,null,"6711","生命保険業（郵便保険業，生命保険再保険業を除く）"]
[null,null,null,null,null,null,"6712","郵便保険業"]
[null,null,null,null,null,null,"6713","生命保険再保険業"]
[null,null,null,null,null,null,"6719","その他の生命保険業"]
[null,null,null,null,null,null,"6721","損害保険業（損害保険再保険業を除く）"]
[null,null,null,null,null,null,"6722","損害保険再保険業"]
[null,null,null,null,null,null,"6729","その他の損害保険業"]
[null,null,null,null,null,null,"6731","共済事業（各種災害補償法によるもの）"]
[null,null,null,null,null,null,"6732","共済事業（各種協同組合法等によるもの）"]
[null,null,null,null,null,null,"6733","少額短期保険業"]
[null,null,null,null,null,null,"6741","生命保険媒介業"]
[null,null,null,null,null,null,"6742","損害保険代理業"]
[null,null,null,null,null,null,"6743","共済事業媒介代理業・少額短期保険代理業"]
[null,null,null,null,null,null,"6751","保険料率算出団体"]
[null,null,null,null,null,null,"6752","損害査定業"]
[null,null,null,null,null,null,"6759","その他の保険サービス業"]
[null,null,null,null,null,null,"6800","主として管理事務を行う本社等"]
[null,null,null,null,null,null,"6809","その他の管理，補助的経済活動を行う事業所"]
[null,null,null,null,null,null,"6811","建物売買業"]
[null,null,null,null,null,null,"6812","土地売買業"]
[null,null,null,null,null,null,"6821","不動産代理業・仲介業"]
[null,null,null,null,null,null,"6900","主として管理事務を行う本社等"]
[null,null,null,null,null,null,"6909","その他の管理，補助的経済活動を行う事業所"]
[null,null,null,null,null,null,"6911","貸事務所業"]
[null,null,null,null,null,null,"6912","土地賃貸業"]
[null,null,null,null,null,null,"6919","その他の不動産賃貸業"]
[null,null,null,null,null,null,"6921","貸家業"]
[null,null,null,null,null,null,"6922","貸間業"]
[null,null,null,null,null,null,"6931","駐車場業"]
[null,null,null,null,null,null,"6941","不動産管理業"]
[null,null,null,null,null,null,"7000","主として管理事務を行う本社等"]
[null,null,null,null,null,null,"7009","その他の管理，補助的経済活動を行う事業所"]
[null,null,null,null,null,null,"7011","総合リース業"]
[null,null,null,null,null,null,"7019","その他の各種物品賃貸業"]
[null,null,null,null,null,null,"7021","産業用機械器具賃貸業（建設機械器具を除く）"]
[null,null,null,null,null,null,"7022","建設機械器具賃貸業"]
[null,null,null,null,null,null,"7031","事務用機械器具賃貸業（電子計算機を除く）"]
[null,null,null,null,null,null,"7032","電子計算機・同関連機器賃貸業"]
[null,null,null,null,null,null,"7041","自動車賃貸業"]
[null,null,null,null,null,null,"7051","スポーツ・娯楽用品賃貸業"]
[null,null,null,null,null,null,"7091","映画・演劇用品賃貸業"]
[null,null,null,null,null,null,"7092","音楽・映像記録物賃貸業（別掲を除く）"]
[null,null,null,null,null,null,"7093","貸衣しょう業（別掲を除く）"]
[null,null,null,null,null,null,"7099","他に分類されない物品賃貸業"]
[null,null,null,null,null,null,"7101","管理，補助的経済活動を行う事業所"]
[null,null,null,null,null,null,"7111","理学研究所"]
[null,null,null,null,null,null,"7112","工学研究所"]
[null,null,null,null,null,null,"7113","農学研究所"]
[null,null,null,null,null,null,"7114","医学・薬学研究所"]
[null,null,null,null,null,null,"7121","人文・社会科学研究所"]
[null,null,null,null,null,null,"7201","管理，補助的経済活動を行う事業所"]
[null,null,null,null,null,null,"7211","法律事務所"]
[null,null,null,null,null,null,"7212","特許事務所"]
[null,null,null,null,null,null,"7221","公証人役場，司法書士事務所"]
[null,null,null,null,null,null,"7222","土地家屋調査士事務所"]
[null,null,null,null,null,null,"7231","行政書士事務所"]
[null,null,null,null,null,null,"7241","公認会計士事務所"]
[null,null,null,null,null,null,"7242","税理士事務所"]
[null,null,null,null,null,null,"7251","社会保険労務士事務所"]
[null,null,null,null,null,null,"7261","デザイン業"]
[null,null,null,null,null,null,"7271","著述家業"]
[null,null,null,null,null,null,"7272","芸術家業"]
[null,null,null,null,null,null,"7281","経営コンサルタント業"]
[null,null,null,null,null,null,"7282","純粋持株会社"]
[null,null,null,null,null,null,"7291","興信所"]
[null,null,null,null,null,null,"7292","翻訳業（著述家業を除く）"]
[null,null,null,null,null,null,"7293","通訳業，通訳案内業"]
[null,null,null,null,null,null,"7294","不動産鑑定業"]
[null,null,null,null,null,null,"7299","他に分類されない専門サービス業"]
[null,null,null,null,null,null,"7300","主として管理事務を行う本社等"]
[null,null,null,null,null,null,"7309","その他の管理，補助的経済活動を行う事業所"]
[null,null,null,null,null,null,"7311","広告業"]
[null,null,null,null,null,null,"7401","管理，補助的経済活動を行う事業所"]
[null,null,null,null,null,null,"7411","獣医業"]
[null,null,null,null,null,null,"7421","建築設計業"]
[null,null,null,null,null,null,"7422","測量業"]
[null,null,null,null,null,null,"7429","その他の土木建築サービス業"]
[null,null,null,null,null,null,"7431","機械設計業"]
[null,null,null,null,null,null,"7441","商品検査業"]
[null,null,null,null,null,null,"7442","非破壊検査業"]
[null,null,null,null,null,null,"7451","一般計量証明業"]
[null,null,null,null,null,null,"7452","環境計量証明業"]
[null,null,null,null,null,null,"7459","その他の計量証明業"]
[null,null,null,null,null,null,"7461","写真業（商業写真業を除く）"]
[null,null,null,null,null,null,"7462","商業写真業"]
[null,null,null,null,null,null,"7499","その他の技術サービス業"]
[null,null,null,null,null,null,"7500","主として管理事務を行う本社等"]
[null,null,null,null,null,null,"7509","その他の管理，補助的経済活動を行う事業所"]
[null,null,null,null,null,null,"7511","旅館，ホテル"]
[null,null,null,null,null,null,"7521","簡易宿所"]
[null,null,null,null,null,null,"7531","下宿業"]
[null,null,null,null,null,null,"7591","会社・団体の宿泊所"]
[null,null,null,null,null,null,"7592","リゾートクラブ"]
[null,null,null,null,null,null,"7599","他に分類されない宿泊業"]
[null,null,null,null,null,null,"7600","主として管理事務を行う本社等"]
[null,null,null,null,null,null,"7609","その他の管理，補助的経済活動を行う事業所"]
[null,null,null,null,null,null,"7611","食堂，レストラン（専門料理店を除く）"]
[null,null,null,null,null,null,"7621","日本料理店"]
[null,null,null,null,null,null,"7622","料亭"]
[null,null,null,null,null,null,"7623","中華料理店"]
[null,null,null,null,null,null,"7624","ラーメン店"]
[null,null,null,null,null,null,"7625","焼肉店"]
[null,null,null,null,null,null,"7629","その他の専門料理店"]
[null,null,null,null,null,null,"7631","そば・うどん店"]
[null,null,null,null,null,null,"7641","すし店"]
[null,null,null,null,null,null,"7651","酒場，ビヤホール"]
[null,null,null,null,null,null,"7661","バー，キャバレー，ナイトクラブ"]
[null,null,null,null,null,null,"7671","喫茶店"]
[null,null,null,null,null,null,"7691","ハンバーガー店"]
[null,null,null,null,null,null,"7692","お好み焼き・焼きそば・たこ焼店"]
[null,null,null,null,null,null,"7699","他に分類されない飲食店"]
[null,null,null,null,null,null,"7700","主として管理事務を行う本社等"]
[null,null,null,null,null,null,"7709","その他の管理，補助的経済活動を行う事業所"]
[null,null,null,null,null,null,"7711","持ち帰り飲食サービス業"]
[null,null,null,null,null,null,"7721","配達飲食サービス業"]
[null,null,null,null,null,null,"7800","主として管理事務を行う本社等"]
[null,null,null,null,null,null,"7809","その他の管理，補助的経済活動を行う事業所"]
[null,null,null,null,null,null,"7811","普通洗濯業"]
[null,null,null,null,null,null,"7812","洗濯物取次業"]
[null,null,null,null,null,null,"7813","リネンサプライ業"]
[null,null,null,null,null,null,"7821","理容業"]
[null,null,null,null,null,null,"7831","美容業"]
[null,null,null,null,null,null,"7841","一般公衆浴場業"]
[null,null,null,null,null,null,"7851","その他の公衆浴場業"]
[null,null,null,null,null,null,"7891","洗張・染物業"]
[null,null,null,null,null,null,"7892","エステティック業"]
[null,null,null,null,null,null,"7893","リラクゼーション業（手技を用いるもの）"]
[null,null,null,null,null,null,"7894","ネイルサービス業"]
[null,null,null,null,null,null,"7899","他に分類されない洗濯・理容・美容・浴場業"]
[null,null,null,null,null,null,"7900","主として管理事務を行う本社等"]
[null,null,null,null,null,null,"7909","その他の管理，補助的経済活動を行う事業所"]
[null,null,null,null,null,null,"7911","旅行業(旅行業者代理業を除く)"]
[null,null,null,null,null,null,"7912","旅行業者代理業"]
[null,null,null,null,null,null,"7921","家事サービス業（住込みのもの）"]
[null,null,null,null,null,null,"7922","家事サービス業（住込みでないもの）"]
[null,null,null,null,null,null,"7931","衣服裁縫修理業"]
[null,null,null,null,null,null,"7941","物品預り業"]
[null,null,null,null,null,null,"7951","火葬業"]
[null,null,null,null,null,null,"7952","墓地管理業"]
[null,null,null,null,null,null,"7961","葬儀業"]
[null,null,null,null,null,null,"7962","結婚式場業"]
[null,null,null,null,null,null,"7963","冠婚葬祭互助会"]
[null,null,null,null,null,null,"7991","食品賃加工業"]
[null,null,null,null,null,null,"7992","結婚相談業，結婚式場紹介業"]
[null,null,null,null,null,null,"7993","写真プリント,現像・焼付業"]
[null,null,null,null,null,null,"7999","他に分類されないその他の生活関連サービス業"]
[null,null,null,null,null,null,"8000","主として管理事務を行う本社等"]
[null,null,null,null,null,null,"8009","その他の管理，補助的経済活動を行う事業所"]
[null,null,null,null,null,null,"8011","映画館"]
[null,null,null,null,null,null,"8021","劇場"]
[null,null,null,null,null,null,"8022","興行場"]
[null,null,null,null,null,null,"8023","劇団"]
[null,null,null,null,null,null,"8024","楽団，舞踏団"]
[null,null,null,null,null,null,"8025","演芸・スポーツ等興行団"]
[null,null,null,null,null,null,"8031","競輪場"]
[null,null,null,null,null,null,"8032","競馬場"]
[null,null,null,null,null,null,"8033","自動車・モータボートの競走場"]
[null,null,null,null,null,null,"8034","競輪競技団"]
[null,null,null,null,null,null,"8035","競馬競技団"]
[null,null,null,null,null,null,"8036","自動車・モータボートの競技団"]
[null,null,null,null,null,null,"8041","スポーツ施設提供業（別掲を除く）"]
[null,null,null,null,null,null,"8042","体育館"]
[null,null,null,null,null,null,"8043","ゴルフ場"]
[null,null,null,null,null,null,"8044","ゴルフ練習場"]
[null,null,null,null,null,null,"8045","ボウリング場"]
[null,null,null,null,null,null,"8046","テニス場"]
[null,null,null,null,null,null,"8047","バッティング・テニス練習場"]
[null,null,null,null,null,null,"8048","フィットネスクラブ"]
[null,null,null,null,null,null,"8051","公園"]
[null,null,null,null,null,null,"8052","遊園地（テーマパークを除く）"]
[null,null,null,null,null,null,"8053","テーマパーク"]
[null,null,null,null,null,null,"8061","ビリヤード場"]
[null,null,null,null,null,null,"8062","囲碁・将棋所"]
[null,null,null,null,null,null,"8063","マージャンクラブ"]
[null,null,null,null,null,null,"8064","パチンコホール"]
[null,null,null,null,null,null,"8065","ゲームセンター"]
[null,null,null,null,null,null,"8069","その他の遊戯場"]
[null,null,null,null,null,null,"8091","ダンスホール"]
[null,null,null,null,null,null,"8092","マリーナ業"]
[null,null,null,null,null,null,"8093","遊漁船業"]
[null,null,null,null,null,null,"8094","芸ぎ業"]
[null,null,null,null,null,null,"8095","カラオケボックス業"]
[null,null,null,null,null,null,"8096","娯楽に附帯するサービス業"]
[null,null,null,null,null,null,"8099","他に分類されない娯楽業"]
[null,null,null,null,null,null,"8101","管理，補助的経済活動を行う事業所"]
[null,null,null,null,null,null,"8111","幼稚園"]
[null,null,null,null,null,null,"8121","小学校"]
[null,null,null,null,null,null,"8131","中学校"]
[null,null,null,null,null,null,"8141","高等学校"]
[null,null,null,null,null,null,"8142","中等教育学校"]
[null,null,null,null,null,null,"8151","特別支援学校"]
[null,null,null,null,null,null,"8161","大学"]
[null,null,null,null,null,null,"8162","短期大学"]
[null,null,null,null,null,null,"8163","高等専門学校"]
[null,null,null,null,null,null,"8171","専修学校"]
[null,null,null,null,null,null,"8172","各種学校"]
[null,null,null,null,null,null,"8181","学校教育支援機関"]
[null,null,null,null,null,null,"8191","幼保連携型認定こども園"]
[null,null,null,null,null,null,"8200","主として管理事務を行う本社等"]
[null,null,null,null,null,null,"8209","その他の管理，補助的経済活動を行う事業所"]
[null,null,null,null,null,null,"8211","公民館"]
[null,null,null,null,null,null,"8212","図書館"]
[null,null,null,null,null,null,"8213","博物館，美術館"]
[null,null,null,null,null,null,"8214","動物園，植物園，水族館"]
[null,null,null,null,null,null,"8215","青少年教育施設"]
[null,null,null,null,null,null,"8216","社会通信教育"]
[null,null,null,null,null,null,"8219","その他の社会教育"]
[null,null,null,null,null,null,"8221","職員教育施設・支援業"]
[null,null,null,null,null,null,"8222","職業訓練施設"]
[null,null,null,null,null,null,"8229","その他の職業・教育支援施設"]
[null,null,null,null,null,null,"8231","学習塾"]
[null,null,null,null,null,null,"8241","音楽教授業"]
[null,null,null,null,null,null,"8242","書道教授業"]
[null,null,null,null,null,null,"8243","生花・茶道教授業"]
[null,null,null,null,null,null,"8244","そろばん教授業"]
[null,null,null,null,null,null,"8245","外国語会話教授業"]
[null,null,null,null,null,null,"8246","スポーツ・健康教授業"]
[null,null,null,null,null,null,"8249","その他の教養・技能教授業"]
[null,null,null,null,null,null,"8299","他に分類されない教育，学習支援業"]
[null,null,null,null,null,null,"8300","主として管理事務を行う本社等"]
[null,null,null,null,null,null,"8309","その他の管理，補助的経済活動を行う事業所"]
[null,null,null,null,null,null,"8311","一般病院"]
[null,null,null,null,null,null,"8312","精神科病院"]
[null,null,null,null,null,null,"8321","有床診療所"]
[null,null,null,null,null,null,"8322","無床診療所"]
[null,null,null,null,null,null,"8331","歯科診療所"]
[null,null,null,null,null,null,"8341","助産所"]
[null,null,null,null,null,null,"8342","看護業"]
[null,null,null,null,null,null,"8351","あん摩マッサージ指圧師・はり師・きゅう師・柔道整復師の施術所"]
[null,null,null,null,null,null,"8359","その他の療術業"]
[null,null,null,null,null,null,"8361","歯科技工所"]
[null,null,null,null,null,null,"8369","その他の医療に附帯するサービス業"]
[null,null,null,null,null,null,"8400","主として管理事務を行う本社等"]
[null,null,null,null,null,null,"8409","その他の管理，補助的経済活動を行う事業所"]
[null,null,null,null,null,null,"8411","保健所"]
[null,null,null,null,null,null,"8421","結核健康相談施設"]
[null,null,null,null,null,null,"8422","精神保健相談施設"]
[null,null,null,null,null,null,"8423","母子健康相談施設"]
[null,null,null,null,null,null,"8429","その他の健康相談施設"]
[null,null,null,null,null,null,"8491","検疫所（動物検疫所，植物防疫所を除く）"]
[null,null,null,null,null,null,"8492","検査業"]
[null,null,null,null,null,null,"8493","消毒業"]
[null,null,null,null,null,null,"8499","他に分類されない保健衛生"]
[null,null,null,null,null,null,"8500","主として管理事務を行う本社等"]
[null,null,null,null,null,null,"8509","その他の管理，補助的経済活動を行う事業所"]
[null,null,null,null,null,null,"8511","社会保険事業団体"]
[null,null,null,null,null,null,"8521","福祉事務所"]
[null,null,null,null,null,null,"8531","保育所"]
[null,null,null,null,null,null,"8539","その他の児童福祉事業"]
[null,null,null,null,null,null,"8541","特別養護老人ホーム"]
[null,null,null,null,null,null,"8542","介護老人保健施設"]
[null,null,null,null,null,null,"8543","通所・短期入所介護事業"]
[null,null,null,null,null,null,"8544","訪問介護事業"]
[null,null,null,null,null,null,"8545","認知症老人グループホーム"]
[null,null,null,null,null,null,"8546","有料老人ホーム"]
[null,null,null,null,null,null,"8549","その他の老人福祉・介護事業"]
[null,null,null,null,null,null,"8551","居住支援事業"]
[null,null,null,null,null,null,"8559","その他の障害者福祉事業"]
[null,null,null,null,null,null,"8591","更生保護事業"]
[null,null,null,null,null,null,"8599","他に分類されない社会保険・社会福祉・介護事業"]
[null,null,null,null,null,null,"8601","管理，補助的経済活動を行う事業所"]
[null,null,null,null,null,null,"8611","郵便局"]
[null,null,null,null,null,null,"8621","簡易郵便局"]
[null,null,null,null,null,null,"8629","その他の郵便局受託業"]
[null,null,null,null,null,null,"8701","管理，補助的経済活動を行う事業所"]
[null,null,null,null,null,null,"8711","農業協同組合（他に分類されないもの）"]
[null,null,null,null,null,null,"8712","漁業協同組合（他に分類されないもの）"]
[null,null,null,null,null,null,"8713","水産加工業協同組合（他に分類されないもの）"]
[null,null,null,null,null,null,"8714","森林組合（他に分類されないもの）"]
[null,null,null,null,null,null,"8721","事業協同組合（他に分類されないもの）"]
[null,null,null,null,null,null,"8800","主として管理事務を行う本社等"]
[null,null,null,null,null,null,"8809","その他の管理，補助的経済活動を行う事業所"]
[null,null,null,null,null,null,"8811","し尿収集運搬業"]
[null,null,null,null,null,null,"8812","し尿処分業"]
[null,null,null,null,null,null,"8813","浄化槽清掃業"]
[null,null,null,null,null,null,"8814","浄化槽保守点検業"]
[null,null,null,null,null,null,"8815","ごみ収集運搬業"]
[null,null,null,null,null,null,"8816","ごみ処分業"]
[null,null,null,null,null,null,"8817","清掃事務所"]
[null,null,null,null,null,null,"8821","産業廃棄物収集運搬業"]
[null,null,null,null,null,null,"8822","産業廃棄物処分業"]
[null,null,null,null,null,null,"8823","特別管理産業廃棄物収集運搬業"]
[null,null,null,null,null,null,"8824","特別管理産業廃棄物処分業"]
[null,null,null,null,null,null,"8891","死亡獣畜取扱業"]
[null,null,null,null,null,null,"8899","他に分類されない廃棄物処理業"]
[null,null,null,null,null,null,"8901","管理，補助的経済活動を行う事業所"]
[null,null,null,null,null,null,"8911","自動車一般整備業"]
[null,null,null,null,null,null,"8919","その他の自動車整備業"]
[null,null,null,null,null,null,"9000","主として管理事務を行う本社等"]
[null,null,null,null,null,null,"9009","その他の管理，補助的経済活動を行う事業所"]
[null,null,null,null,null,null,"9011","一般機械修理業（建設・鉱山機械を除く）"]
[null,null,null,null,null,null,"9012","建設・鉱山機械整備業"]
[null,null,null,null,null,null,"9021","電気機械器具修理業"]
[null,null,null,null,null,null,"9031","表具業"]
[null,null,null,null,null,null,"9091","家具修理業"]
[null,null,null,null,null,null,"9092","時計修理業"]
[null,null,null,null,null,null,"9093","履物修理業"]
[null,null,null,null,null,null,"9094","かじ業"]
[null,null,null,null,null,null,"9099","他に分類されない修理業"]
[null,null,null,null,null,null,"9100","主として管理事務を行う本社等"]
[null,null,null,null,null,null,"9109","その他の管理，補助的経済活動を行う事業所"]
[null,null,null,null,null,null,"9111","職業紹介業"]
[null,null,null,null,null,null,"9121","労働者派遣業"]
[null,null,null,null,null,null,"9200","主として管理事務を行う本社等"]
[null,null,null,null,null,null,"9209","その他の管理，補助的経済活動を行う事業所"]
[null,null,null,null,null,null,"9211","速記・ワープロ入力業"]
[null,null,null,null,null,null,"9212","複写業"]
[null,null,null,null,null,null,"9221","ビルメンテナンス業"]
[null,null,null,null,null,null,"9229","その他の建物サービス業"]
[null,null,null,null,null,null,"9231","警備業"]
[null,null,null,null,null,null,"9291","ディスプレイ業"]
[null,null,null,null,null,null,"9292","産業用設備洗浄業"]
[null,null,null,null,null,null,"9293","看板書き業"]
[null,null,null,null,null,null,"9294","コールセンター業"]
[null,null,null,null,null,null,"9299","他に分類されないその他の事業サービス業"]
[null,null,null,null,null,null,"9311","実業団体"]
[null,null,null,null,null,null,"9312","同業団体"]
[null,null,null,null,null,null,"9321","労働団体"]
[null,null,null,null,null,null,"9331","学術団体"]
[null,null,null,null,null,null,"9332","文化団体"]
[null,null,null,null,null,null,"9341","政治団体"]
[null,null,null,null,null,null,"9399","他に分類されない非営利的団体"]
[null,null,null,null,null,null,"9411","神社，神道教会"]
[null,null,null,null,null,null,"9412","教派事務所"]
[null,null,null,null,null,null,"9421","寺院，仏教教会"]
[null,null,null,null,null,null,"9422","宗派事務所"]
[null,null,null,null,null,null,"9431","キリスト教教会，修道院"]
[null,null,null,null,null,null,"9432","教団事務所"]
[null,null,null,null,null,null,"9491","その他の宗教の教会"]
[null,null,null,null,null,null,"9499","その他の宗教の教団事務所"]
[null,null,null,null,null,null,"9501","管理，補助的経済活動を行う事業所"]
[null,null,null,null,null,null,"9511","集会場"]
[null,null,null,null,null,null,"9521","と畜場"]
[null,null,null,null,null,null,"9599","他に分類されないサービス業"]
[null,null,null,null,null,null,"9611","外国公館"]
[null,null,null,null,null,null,"9699","その他の外国公務"]
[null,null,null,null,null,null,"9711","立法機関"]
[null,null,null,null,null,null,"9721","司法機関"]
[null,null,null,null,null,null,"9731","行政機関"]
[null,null,null,null,null,null,"9811","都道府県機関"]
[null,null,null,null,null,null,"9821","市町村機関"]

{"sheet":"対策リスト","index":24,"n_rows":81,"n_cols":82,"rows_kept":81,"cut":false,"hidden":true,"merged":[]}
[null,null,null,null,null,null,null,null,null,null,null,null,null,null,null,null,null,null,null,null,null,null,null,null,null,null,"全選択項目",null,null,null,null,null,null,null,null,null,null,null,"選択対策","対策内容",null,"リスト候補",null,null,null,"第3年度選択項目","第2年度選択項目","第1年度選択項目",null,null,null,null,"全その他項目",null,null,null,null,null,null,null,null,null,null,null,"その他対策",null,null,"リスト候補",null,null,null,"第3年度その他項目","第2年度その他項目","第1年度その他項目","第3年度その他取組内容","第2年度その他取組内容","第1年度その他取組内容",null,"実施状況第3年度","実施状況第2年度","実施状況第1年度","実施状況第基準年度"]
["基本対策",null,null,"選択対策",null,null,"その他対策",null,null,null,null,null,null,null,null,null,null,null,null,null,null,null,null,null,null,1,{"$f":"'計画書② (取組）'!C39","v":0},{"$f":"IF(AA2<>0,ROW()-1,\"\")","v":""},{"$f":"RANK(AB2,$AB$2:$AB$81,1)","v":{"$error":"#VALUE!"}},null,null,null,null,null,null,null,null,null,"外部機関による省エネ診断 ","外部機関による省エネ診断を受診している。\u009e提案された対策の一部又は全部を実施している。",{"$f":"IF(ISERROR(MATCH(AM2,$AA$2:$AA$81,0)),ROW(),\"\")","v":2},{"$f":"IFERROR(INDIRECT(\"AM\"&SMALL($AO$2:$AO$44,ROW()-1)),\"\")","v":"外部機関による省エネ診断 "},null,null,1,{"$f":"IFERROR(INDEX($AA$2:$AA$81,MATCH(AS2,$AC$2:$AC$81,0)),\"\")","v":""},{"$f":"IFERROR(INDEX($AA$2:$AA$61,MATCH(AS2,$AC$2:$AC$61,0)),\"\")","v":""},{"$f":"IFERROR(INDEX($AA$2:$AA$41,MATCH(AS2,$AC$2:$AC$41,0)),\"\")","v":""},null,null,null,1,{"$f":"IF('計画書② (取組）'!C63=\"\",\"\",'計画書② (取組）'!C63&\"‡\"&'計画書② (取組）'!D63)","v":""},{"$f":"IF(BA2<>\"\",ROW()-1,\"\")","v":""},{"$f":"RANK(BB2,$BB$2:$BB$41,1)","v":{"$error":"#VALUE!"}},{"$f":"'計画書② (取組）'!D63","v":0},{"$f":"LEFT(BA2,FIND(\"‡\",BA2)-1)","v":{"$error":"#VALUE!"}},null,null,null,1,{"$f":"IFERROR(INDEX($BE$2:$BE$41,MATCH(BI2,$BC$2:$BC$41,0)),\"\")","v":""},{"$f":"IFERROR(INDEX($BD$2:$BD$41,MATCH(BI2,$BC$2:$BC$41,0)),\"\")","v":""},null,"環境マネジメントシステムの導入",null,{"$f":"IF(ISERROR(MATCH(BM2,$BA$2:$BA$41,0)),ROW(),\"\")","v":2},{"$f":"IFERROR(INDIRECT(\"bM\"&SMALL($BO$2:$BO$26,ROW()-1)),\"\")","v":"環境マネジメントシステムの導入"},null,null,1,{"$f":"IFERROR(INDEX($BE$2:$BE$41,MATCH(BS2,$BC$2:$BC$41,0)),\"\")","v":""},{"$f":"IFERROR(INDEX($BE$2:$BE$41,MATCH(BS2,$BC$2:$BC$31,0)),\"\")","v":""},{"$f":"IFERROR(INDEX($BE$2:$BE$41,MATCH(BS2,$BC$2:$BC$21,0)),\"\")","v":""},{"$f":"IFERROR(INDEX($BD$2:$BD$41,MATCH(BS2,$BC$2:$BC$41,0)),\"\")","v":""},{"$f":"IFERROR(INDEX($BD$2:$BD$41,MATCH(BS2,$BC$2:$BC$31,0)),\"\")","v":""},{"$f":"IFERROR(INDEX($BD$2:$BD$41,MATCH(BS2,$BC$2:$BC$21,0)),\"\")","v":""},null,{"$f":"IF('報告書② 第3年度(取組）'!C70=\"\",\"\",'報告書② 第3年度(取組）'!H70&\"\")","v":""},{"$f":"IF('報告書② 第2年度(取組）'!C70=\"\",\"\",'報告書② 第2年度(取組）'!G70&\"\")","v":""},{"$f":"IF('報告書② 第1年度(取組）'!C70=\"\",\"\",'報告書② 第1年度(取組）'!F70&\"\")","v":""},{"$f":"IF('計画書② (取組）'!C63=\"\",\"\",'計画書② (取組）'!E63&\"\")","v":""}]
["エネルギー管理推進体制の整備","エネルギー管理推進体制が整備されている。エネルギー管理推進体制の中で、エネルギー管理が推進されている。",null,"外部機関による省エネ診断 ","外部機関による省エネ診断を受診している。\u009e提案された対策の一部又は全部を実施している。",null,"環境マネジメントシステムの導入",null,null,null,null,null,null,null,null,null,null,null,null,null,null,null,null,null,null,2,{"$f":"'計画書② (取組）'!C40","v":0},{"$f":"IF(AA3<>0,ROW()-1,\"\")","v":""},{"$f":"RANK(AB3,$AB$2:$AB$81,1)","v":{"$error":"#VALUE!"}},null,null,null,null,null,null,null,null,null,"生産性管理 ","生産歩留まり改善のための検討や、業務の生産性改善のための検討を継続して実施している。",{"$f":"IF(ISERROR(MATCH(AM3,$AA$2:$AA$81,0)),ROW(),\"\")","v":3},{"$f":"IFERROR(INDIRECT(\"AM\"&SMALL($AO$2:$AO$44,ROW()-1)),\"\")","v":"生産性管理 "},null,null,2,{"$f":"IFERROR(INDEX($AA$2:$AA$81,MATCH(AS3,$AC$2:$AC$81,0)),\"\")","v":""},{"$f":"IFERROR(INDEX($AA$2:$AA$61,MATCH(AS3,$AC$2:$AC$61,0)),\"\")","v":""},{"$f":"IFERROR(INDEX($AA$2:$AA$41,MATCH(AS3,$AC$2:$AC$41,0)),\"\")","v":""},null,null,null,2,{"$f":"IF('計画書② (取組）'!C64=\"\",\"\",'計画書② (取組）'!C64&\"‡\"&'計画書② (取組）'!D64)","v":""},{"$f":"IF(BA3<>\"\",ROW()-1,\"\")","v":""},{"$f":"RANK(BB3,$BB$2:$BB$41,1)","v":{"$error":"#VALUE!"}},{"$f":"'計画書② (取組）'!D64","v":0},{"$f":"LEFT(BA3,FIND(\"‡\",BA3)-1)","v":{"$error":"#VALUE!"}},null,null,null,2,{"$f":"IFERROR(INDEX($BE$2:$BE$41,MATCH(BI3,$BC$2:$BC$41,0)),\"\")","v":""},{"$f":"IFERROR(INDEX($BD$2:$BD$41,MATCH(BI3,$BC$2:$BC$41,0)),\"\")","v":""},null,"SBTやRE100等の国際的な気候変動イニシアティブなど脱炭素経営への取組",null,{"$f":"IF(ISERROR(MATCH(BM3,$BA$2:$BA$41,0)),ROW(),\"\")","v":3},{"$f":"IFERROR(INDIRECT(\"bM\"&SMALL($BO$2:$BO$26,ROW()-1)),\"\")","v":"SBTやRE100等の国際的な気候変動イニシアティブなど脱炭素経営への取組"},null,null,2,{"$f":"IFERROR(INDEX($BE$2:$BE$41,MATCH(BS3,$BC$2:$BC$41,0)),\"\")","v":""},{"$f":"IFERROR(INDEX($BE$2:$BE$41,MATCH(BS3,$BC$2:$BC$31,0)),\"\")","v":""},{"$f":"IFERROR(INDEX($BE$2:$BE$41,MATCH(BS3,$BC$2:$BC$21,0)),\"\")","v":""},{"$f":"IFERROR(INDEX($BD$2:$BD$41,MATCH(BS3,$BC$2:$BC$41,0)),\"\")","v":""},{"$f":"IFERROR(INDEX($BD$2:$BD$41,MATCH(BS3,$BC$2:$BC$31,0)),\"\")","v":""},{"$f":"IFERROR(INDEX($BD$2:$BD$41,MATCH(BS3,$BC$2:$BC$21,0)),\"\")","v":""},null,{"$f":"IF('報告書② 第3年度(取組）'!C71=\"\",\"\",'報告書② 第3年度(取組）'!H71&\"\")","v":""},{"$f":"IF('報告書② 第2年度(取組）'!C71=\"\",\"\",'報告書② 第2年度(取組）'!G71&\"\")","v":""},{"$f":"IF('報告書② 第1年度(取組）'!C71=\"\",\"\",'報告書② 第1年度(取組）'!F71&\"\")","v":""},{"$f":"IF('計画書② (取組）'!C64=\"\",\"\",'計画書② (取組）'!E64&\"\")","v":""}]
["エネルギー使用量の把握","主要なエネルギー使用先のエネルギー使用量を、エネルギー種類別に計測している。計測結果が集計され、記録されている。",null,"生産性管理 ","生産歩留まり改善のための検討や、業務の生産性改善のための検討を継続して実施している。",null,"SBTやRE100等の国際的な気候変動イニシアティブなど脱炭素経営への取組",null,null,null,null,null,null,null,null,null,null,null,null,null,null,null,null,null,null,3,{"$f":"'計画書② (取組）'!C41","v":0},"",{"$error":"#VALUE!"},null,null,null,null,null,null,null,null,null,"エネルギー消費機器管理台帳の整備 ","主要なエネルギー消費機器について管理台帳が整備されている。\u009e管理台帳が随時更新されている。",4,"エネルギー消費機器管理台帳の整備 ",null,null,3,"","","",null,null,null,3,{"$f":"IF('計画書② (取組）'!C65=\"\",\"\",'計画書② (取組）'!C65&\"‡\"&'計画書② (取組）'!D65)","v":""},"",{"$error":"#VALUE!"},{"$f":"'計画書② (取組）'!D65","v":0},{"$error":"#VALUE!"},null,null,null,3,"","",null,"従業員の自動車利用の抑制、公共交通機関の利用促進",null,4,"従業員の自動車利用の抑制、公共交通機関の利用促進",null,null,3,"","","","","","",null,{"$f":"IF('報告書② 第3年度(取組）'!C72=\"\",\"\",'報告書② 第3年度(取組）'!H72&\"\")","v":""},{"$f":"IF('報告書② 第2年度(取組）'!C72=\"\",\"\",'報告書② 第2年度(取組）'!G72&\"\")","v":""},{"$f":"IF('報告書② 第1年度(取組）'!C72=\"\",\"\",'報告書② 第1年度(取組）'!F72&\"\")","v":""},{"$f":"IF('計画書② (取組）'!C65=\"\",\"\",'計画書② (取組）'!E65&\"\")","v":""}]
["省エネルギー教育の実施","省エネルギー、地球温暖化防止に関する研修、教育を定期的に実施し、実施記録を残している。",null,"エネルギー消費機器管理台帳の整備 ","主要なエネルギー消費機器について管理台帳が整備されている。\u009e管理台帳が随時更新されている。",null,"従業員の自動車利用の抑制、公共交通機関の利用促進",null,null,null,null,null,null,null,null,null,null,null,null,null,null,null,null,null,null,4,{"$f":"'計画書② (取組）'!C42","v":0},"",{"$error":"#VALUE!"},null,null,null,null,null,null,null,null,null,"管理標準（管理マニュアル）の整備 ","主要なエネルギー消費機器について管理標準が整備されている。主要なエネルギー消費機器が管理標準に基づき運用され、必要な記録がある。管理標準が必要により更新されている。",5,"管理標準（管理マニュアル）の整備 ",null,null,4,"","","",null,null,null,4,{"$f":"IF('計画書② (取組）'!C66=\"\",\"\",'計画書② (取組）'!C66&\"‡\"&'計画書② (取組）'!D66)","v":""},"",{"$error":"#VALUE!"},{"$f":"'計画書② (取組）'!D66","v":0},{"$error":"#VALUE!"},null,null,null,4,"","",null,"環境教育・学習の実施（従業員以外を対象にしたもの）",null,5,"環境教育・学習の実施（従業員以外を対象にしたもの）",null,null,4,"","","","","","",null,{"$f":"IF('報告書② 第3年度(取組）'!C73=\"\",\"\",'報告書② 第3年度(取組）'!H73&\"\")","v":""},{"$f":"IF('報告書② 第2年度(取組）'!C73=\"\",\"\",'報告書② 第2年度(取組）'!G73&\"\")","v":""},{"$f":"IF('報告書② 第1年度(取組）'!C73=\"\",\"\",'報告書② 第1年度(取組）'!F73&\"\")","v":""},{"$f":"IF('計画書② (取組）'!C66=\"\",\"\",'計画書② (取組）'!E66&\"\")","v":""}]
["空調設定温度の管理","空調設定温度がルール化されている。空調を使用している場所の温度が記録されている。",null,"管理標準（管理マニュアル）の整備 ","主要なエネルギー消費機器について管理標準が整備されている。主要なエネルギー消費機器が管理標準に基づき運用され、必要な記録がある。管理標準が必要により更新されている。",null,"環境教育・学習の実施（従業員以外を対象にしたもの）",null,null,null,null,null,null,null,null,null,null,null,null,null,null,null,null,null,null,5,{"$f":"'計画書② (取組）'!C43","v":0},"",{"$error":"#VALUE!"},null,null,null,null,null,null,null,null,null,"エネルギー使用量の見える化（前年度比較） ","事業所のエネルギー使用量を計量し、グラフ化している。\u009eエネルギー使用量変化の理由を省エネ対策毎に分析し、対策効果の確認や更なる課題の発掘に活用している。",6,"エネルギー使用量の見える化（前年度比較） ",null,null,5,"","","",null,null,null,5,{"$f":"IF('計画書② (取組）'!C67=\"\",\"\",'計画書② (取組）'!C67&\"‡\"&'計画書② (取組）'!D67)","v":""},"",{"$error":"#VALUE!"},{"$f":"'計画書② (取組）'!D67","v":0},{"$error":"#VALUE!"},null,null,null,5,"","",null,"廃棄物削減対策の実施",null,6,"廃棄物削減対策の実施",null,null,5,"","","","","","",null,{"$f":"IF('報告書② 第3年度(取組）'!C74=\"\",\"\",'報告書② 第3年度(取組）'!H74&\"\")","v":""},{"$f":"IF('報告書② 第2年度(取組）'!C74=\"\",\"\",'報告書② 第2年度(取組）'!G74&\"\")","v":""},{"$f":"IF('報告書② 第1年度(取組）'!C74=\"\",\"\",'報告書② 第1年度(取組）'!F74&\"\")","v":""},{"$f":"IF('計画書② (取組）'!C67=\"\",\"\",'計画書② (取組）'!E67&\"\")","v":""}]
["換気設備の適正管理","室内の二酸化炭素濃度を定期的に測定し、許容値を超えない範囲で窓開け換気の回数を減らしている。\n全熱交換型換気扇による機械換気が適切に実施されている。",null,"エネルギー使用量の見える化（前年度比較） ","事業所のエネルギー使用量を計量し、グラフ化している。\u009eエネルギー使用量変化の理由を省エネ対策毎に分析し、対策効果の確認や更なる課題の発掘に活用している。",null,"廃棄物削減対策の実施",null,null,null,null,null,null,null,null,null,null,null,null,null,null,null,null,null,null,6,{"$f":"'計画書② (取組）'!C44","v":0},"",{"$error":"#VALUE!"},null,null,null,null,null,null,null,null,null,"エネルギー使用量の見える化（分計による課題発見） ","事業所のエネルギー使用量を、設備別、エネルギー種類別に計量し、グラフ化しており、エネルギー使用量変化の理由を分析して、省エネ対策の検討や対策効果の確認に利用している。",7,"エネルギー使用量の見える化（分計による課題発見） ",null,null,6,"","","",null,null,null,6,{"$f":"IF('計画書② (取組）'!C68=\"\",\"\",'計画書② (取組）'!C68&\"‡\"&'計画書② (取組）'!D68)","v":""},"",{"$error":"#VALUE!"},{"$f":"'計画書② (取組）'!D68","v":0},{"$error":"#VALUE!"},null,null,null,6,"","",null,"森林の保全・緑化の推進",null,7,"森林の保全・緑化の推進",null,null,6,"","","","","","",null,{"$f":"IF('報告書② 第3年度(取組）'!C75=\"\",\"\",'報告書② 第3年度(取組）'!H75&\"\")","v":""},{"$f":"IF('報告書② 第2年度(取組）'!C75=\"\",\"\",'報告書② 第2年度(取組）'!G75&\"\")","v":""},{"$f":"IF('報告書② 第1年度(取組）'!C75=\"\",\"\",'報告書② 第1年度(取組）'!F75&\"\")","v":""},{"$f":"IF('計画書② (取組）'!C68=\"\",\"\",'計画書② (取組）'!E68&\"\")","v":""}]
["空調機器の保全管理","空調機器、換気設備のフィルターを定期的に清掃・交換している。空調機器、換気設備のフィルターの清掃・交換記録がある。",null,"エネルギー使用量の見える化（分計による課題発見） ","事業所のエネルギー使用量を、設備別、エネルギー種類別に計量し、グラフ化しており、エネルギー使用量変化の理由を分析して、省エネ対策の検討や対策効果の確認に利用している。",null,"森林の保全・緑化の推進",null,null,null,null,null,null,null,null,null,null,null,null,null,null,null,null,null,null,7,{"$f":"'計画書② (取組）'!C45","v":0},"",{"$error":"#VALUE!"},null,null,null,null,null,null,null,null,null,"ボイラー、工業炉の空気比の把握・管理 ","燃焼設備の空気比が定期的に把握され、基準空気比の範囲内で管理されている。\u009e空気比管理の記録が残されている。",8,"ボイラー、工業炉の空気比の把握・管理 ",null,null,7,"","","",null,null,null,7,{"$f":"IF('計画書② (取組）'!C69=\"\",\"\",'計画書② (取組）'!C69&\"‡\"&'計画書② (取組）'!D69)","v":""},"",{"$error":"#VALUE!"},{"$f":"'計画書② (取組）'!D69","v":0},{"$error":"#VALUE!"},null,null,null,7,"","",null,"グリーン調達の実施",null,8,"グリーン調達の実施",null,null,7,"","","","","","",null,{"$f":"IF('報告書② 第3年度(取組）'!C76=\"\",\"\",'報告書② 第3年度(取組）'!H76&\"\")","v":""},{"$f":"IF('報告書② 第2年度(取組）'!C76=\"\",\"\",'報告書② 第2年度(取組）'!G76&\"\")","v":""},{"$f":"IF('報告書② 第1年度(取組）'!C76=\"\",\"\",'報告書② 第1年度(取組）'!F76&\"\")","v":""},{"$f":"IF('計画書② (取組）'!C69=\"\",\"\",'計画書② (取組）'!E69&\"\")","v":""}]
["照明器具の点灯時間管理","照明器具の点灯時間がルール化されている。不要な照明の使用や消し忘れをチェックする仕組みがある。センサー等による制御が導入されている。",null,"ボイラー、工業炉の空気比の把握・管理 ","燃焼設備の空気比が定期的に把握され、基準空気比の範囲内で管理されている。\u009e空気比管理の記録が残されている。",null,"グリーン調達の実施",null,null,null,null,null,null,null,null,null,null,null,null,null,null,null,null,null,null,8,{"$f":"'計画書② (取組）'!C46","v":0},"",{"$error":"#VALUE!"},null,null,null,null,null,null,null,null,null,"ボイラーの熱効率の把握・管理 ","ボイラーの熱効率が定期的に計算され記録されている。\u009eボイラーの熱効率を高く維持する運用・管理がされている。",9,"ボイラーの熱効率の把握・管理 ",null,null,8,"","","",null,null,null,8,{"$f":"IF('計画書② (取組）'!C70=\"\",\"\",'計画書② (取組）'!C70&\"‡\"&'計画書② (取組）'!D70)","v":""},"",{"$error":"#VALUE!"},{"$f":"'計画書② (取組）'!D70","v":0},{"$error":"#VALUE!"},null,null,null,8,"","",null,"カーボンオフセットの実施",null,9,"カーボンオフセットの実施",null,null,8,"","","","","","",null,{"$f":"IF('報告書② 第3年度(取組）'!C77=\"\",\"\",'報告書② 第3年度(取組）'!H77&\"\")","v":""},{"$f":"IF('報告書② 第2年度(取組）'!C77=\"\",\"\",'報告書② 第2年度(取組）'!G77&\"\")","v":""},{"$f":"IF('報告書② 第1年度(取組）'!C77=\"\",\"\",'報告書② 第1年度(取組）'!F77&\"\")","v":""},{"$f":"IF('計画書② (取組）'!C70=\"\",\"\",'計画書② (取組）'!E70&\"\")","v":""}]
["ＬＥＤ照明器具の導入","照明の交換時期にあわせ、ＬＥＤ照明に交換している。事業所内の照明の80%（消費電力基準）以上がＬＥＤ照明になっている。",null,"ボイラーの熱効率の把握・管理 ","ボイラーの熱効率が定期的に計算され記録されている。\u009eボイラーの熱効率を高く維持する運用・管理がされている。",null,"カーボンオフセットの実施",null,null,null,null,null,null,null,null,null,null,null,null,null,null,null,null,null,null,9,{"$f":"'計画書② (取組）'!C47","v":0},"",{"$error":"#VALUE!"},null,null,null,null,null,null,null,null,null,"ボイラーの運転効率管理 ","同一の蒸気配管系統に接続する複数のボイラーを台数制御運転するにあたり、高効率ボイラーに負荷を集約して運転している。\u009eボイラー群のシステム効率を評価している。",10,"ボイラーの運転効率管理 ",null,null,9,"","","",null,null,null,9,{"$f":"IF('計画書② (取組）'!C71=\"\",\"\",'計画書② (取組）'!C71&\"‡\"&'計画書② (取組）'!D71)","v":""},"",{"$error":"#VALUE!"},{"$f":"'計画書② (取組）'!D71","v":0},{"$error":"#VALUE!"},null,null,null,9,"","",null,"ヒートアイランド対策の実施",null,10,"ヒートアイランド対策の実施",null,null,9,"","","","","","",null,{"$f":"IF('報告書② 第3年度(取組）'!C78=\"\",\"\",'報告書② 第3年度(取組）'!H78&\"\")","v":""},{"$f":"IF('報告書② 第2年度(取組）'!C78=\"\",\"\",'報告書② 第2年度(取組）'!G78&\"\")","v":""},{"$f":"IF('報告書② 第1年度(取組）'!C78=\"\",\"\",'報告書② 第1年度(取組）'!F78&\"\")","v":""},{"$f":"IF('計画書② (取組）'!C71=\"\",\"\",'計画書② (取組）'!E71&\"\")","v":""}]
["給湯器の運転方法管理","給湯器の運転時間、季節毎の設定温度がルール化されている。給湯器がルールに従って運転されている。",null,"ボイラーの運転効率管理 ","同一の蒸気配管系統に接続する複数のボイラーを台数制御運転するにあたり、高効率ボイラーに負荷を集約して運転している。\u009eボイラー群のシステム効率を評価している。",null,"ヒートアイランド対策の実施",null,null,null,null,null,null,null,null,null,null,null,null,null,null,null,null,null,null,10,{"$f":"'計画書② (取組）'!C48","v":0},"",{"$error":"#VALUE!"},null,null,null,null,null,null,null,null,null,"ボイラーの給水及びブローの管理 ","ボイラー補給水の水質をJIS水質基準（JISB8223:2006)等に準じて管理している。水質に合わせ、適切なブローを行っている。",11,"ボイラーの給水及びブローの管理 ",null,null,10,"","","",null,null,null,10,{"$f":"IF('計画書② (取組）'!C72=\"\",\"\",'計画書② (取組）'!C72&\"‡\"&'計画書② (取組）'!D72)","v":""},"",{"$error":"#VALUE!"},{"$f":"'計画書② (取組）'!D72","v":0},{"$error":"#VALUE!"},null,null,null,10,"","",null,"計画期間以前の温室効果ガスの大幅な削減",null,11,"計画期間以前の温室効果ガスの大幅な削減",null,null,10,"","","","","","",null,{"$f":"IF('報告書② 第3年度(取組）'!C79=\"\",\"\",'報告書② 第3年度(取組）'!H79&\"\")","v":""},{"$f":"IF('報告書② 第2年度(取組）'!C79=\"\",\"\",'報告書② 第2年度(取組）'!G79&\"\")","v":""},{"$f":"IF('報告書② 第1年度(取組）'!C79=\"\",\"\",'報告書② 第1年度(取組）'!F79&\"\")","v":""},{"$f":"IF('計画書② (取組）'!C72=\"\",\"\",'計画書② (取組）'!E72&\"\")","v":""}]
["事務所機器の待機電力管理","PC、OA機器等の事務所機器が省エネモードに設定されており、長時間不使用の場合には電源を切ることがルール化されている。PC、OA機器等の事務所機器がルールに従って運転されている。",null,"ボイラーの給水及びブローの管理 ","ボイラー補給水の水質をJIS水質基準（JISB8223:2006)等に準じて管理している。水質に合わせ、適切なブローを行っている。",null,"計画期間以前の温室効果ガスの大幅な削減",null,null,null,null,null,null,null,null,null,null,null,null,null,null,null,null,null,null,11,{"$f":"'計画書② (取組）'!C49","v":0},"",{"$error":"#VALUE!"},null,null,null,null,null,null,null,null,null,"蒸気圧力・温度・供給量の管理 ","事業所内で使用する蒸気の必要な圧力、供給量を把握している。\u009eボイラーを必要な圧力、供給量が確保できるよう運用・管理している。",12,"蒸気圧力・温度・供給量の管理 ",null,null,11,"","","",null,null,null,11,{"$f":"IF('報告書② 第1年度(取組）'!C121=\"\",\"\",'報告書② 第1年度(取組）'!C121&\"‡\"&'報告書② 第1年度(取組）'!D121)","v":""},"",{"$error":"#VALUE!"},{"$f":"'報告書② 第1年度(取組）'!D121","v":0},{"$error":"#VALUE!"},null,null,null,11,"","",null,"排出係数の小さい電気事業者の選択",null,12,"排出係数の小さい電気事業者の選択",null,null,11,"","","","","",""]
["日射エネルギーに起因する空調負荷の抑制","庇、ブラインド、カーテン等を季節や日射量に合わせ調整することがルール化されている。庇、ブラインド、カーテン等がルールに従って調整されている。",null,"蒸気圧力・温度・供給量の管理 ","事業所内で使用する蒸気の必要な圧力、供給量を把握している。\u009eボイラーを必要な圧力、供給量が確保できるよう運用・管理している。",null,"ＤＲ（デマンドレスポンス）の実施",null,null,null,null,null,null,null,null,null,null,null,null,null,null,null,null,null,null,12,{"$f":"'計画書② (取組）'!C50","v":0},"",{"$error":"#VALUE!"},null,null,null,null,null,null,null,null,null,"使用しない蒸気配管の閉止 ","事業所内の蒸気配管系統図を整備している。\u009e不要な蒸気を送らないように蒸気バルブを閉止している。",13,"使用しない蒸気配管の閉止 ",null,null,12,"","","",null,null,null,12,{"$f":"IF('報告書② 第1年度(取組）'!C122=\"\",\"\",'報告書② 第1年度(取組）'!C122&\"‡\"&'報告書② 第1年度(取組）'!D122)","v":""},"",{"$error":"#VALUE!"},{"$f":"'報告書② 第1年度(取組）'!D122","v":0},{"$error":"#VALUE!"},null,null,null,12,"","",null,"市が実施する環境関連事業への参画",null,13,"市が実施する環境関連事業への参画",null,null,12,"","","","","",""]
["車両の点検整備","定期的に車両の点検整備を行い、その記録がある。必要により整備管理者が選任されている。",null,"使用しない蒸気配管の閉止 ","事業所内の蒸気配管系統図を整備している。\u009e不要な蒸気を送らないように蒸気バルブを閉止している。",null,"市が実施する環境関連事業への参画",null,null,null,null,null,null,null,null,null,null,null,null,null,null,null,null,null,null,13,{"$f":"'計画書② (取組）'!C51","v":0},"",{"$error":"#VALUE!"},null,null,null,null,null,null,null,null,null,"蒸気配管の弁やフランジ等の保温・断熱強化 ","蒸気配管、蒸気配管の弁やフランジ部分が保温されている。\u009e保温状態を定期的に確認している。",14,"蒸気配管の弁やフランジ等の保温・断熱強化 ",null,null,13,"","","",null,null,null,13,{"$f":"IF('報告書② 第1年度(取組）'!C123=\"\",\"\",'報告書② 第1年度(取組）'!C123&\"‡\"&'報告書② 第1年度(取組）'!D123)","v":""},"",{"$error":"#VALUE!"},{"$f":"'報告書② 第1年度(取組）'!D123","v":0},{"$error":"#VALUE!"},null,null,null,13,"","",null,"その他地球温暖化を防止する対策の実施",null,14,"その他地球温暖化を防止する対策の実施",null,null,13,"","","","","",""]
["エコドライブ実践","車両を運転する可能性のある全ての担当者を対象としてエコドライブ教育を実施し、その記録がある。「エコドライブ実践状況チェックシート」を運用している。",null,"蒸気配管の弁やフランジ等の保温・断熱強化 ","蒸気配管、蒸気配管の弁やフランジ部分が保温されている。\u009e保温状態を定期的に確認している。",null,"その他地球温暖化を防止する対策の実施",null,null,null,null,null,null,null,null,null,null,null,null,null,null,null,null,null,null,14,{"$f":"'計画書② (取組）'!C52","v":0},"",{"$error":"#VALUE!"},null,null,null,null,null,null,null,null,null,"蒸気トラップの管理 ","蒸気トラップを定期的に点検し、メンテナンスしている。",15,"蒸気トラップの管理 ",null,null,14,"","","",null,null,null,14,{"$f":"IF('報告書② 第1年度(取組）'!C124=\"\",\"\",'報告書② 第1年度(取組）'!C124&\"‡\"&'報告書② 第1年度(取組）'!D124)","v":""},"",{"$error":"#VALUE!"},{"$f":"'報告書② 第1年度(取組）'!D124","v":0},{"$error":"#VALUE!"}]
[null,null,null,"蒸気トラップの管理 ","蒸気トラップを定期的に点検し、メンテナンスしている。",null,null,null,null,null,null,null,null,null,null,null,null,null,null,null,null,null,null,null,null,15,{"$f":"'計画書② (取組）'!C53","v":0},"",{"$error":"#VALUE!"},null,null,null,null,null,null,null,null,null,"工業炉の断熱性能維持管理 ","工業炉の外壁温度を定期的に測定している。\u009e工業炉の外壁温度を目標値以下に保てるよう断熱材を補修・管理している。",16,"工業炉の断熱性能維持管理 ",null,null,15,"","","",null,null,null,15,{"$f":"IF('報告書② 第1年度(取組）'!C125=\"\",\"\",'報告書② 第1年度(取組）'!C125&\"‡\"&'報告書② 第1年度(取組）'!D125)","v":""},"",{"$error":"#VALUE!"},{"$f":"'報告書② 第1年度(取組）'!D125","v":0},{"$error":"#VALUE!"}]
[null,null,null,"工業炉の断熱性能維持管理 ","工業炉の外壁温度を定期的に測定している。\u009e工業炉の外壁温度を目標値以下に保てるよう断熱材を補修・管理している。",null,null,null,null,null,null,null,null,null,null,null,null,null,null,null,null,null,null,null,null,16,{"$f":"'計画書② (取組）'!C54","v":0},"",{"$error":"#VALUE!"},null,null,null,null,null,null,null,null,null,"廃熱回収の管理 ","事業所内に設置した工業炉やボイラーの排ガスから廃熱を回収して利用している。\u009e工業炉やボイラーの排ガスから廃熱を回収する等により、排ガス温度を下げている。",17,"廃熱回収の管理 ",null,null,16,"","","",null,null,null,16,{"$f":"IF('報告書② 第1年度(取組）'!C126=\"\",\"\",'報告書② 第1年度(取組）'!C126&\"‡\"&'報告書② 第1年度(取組）'!D126)","v":""},"",{"$error":"#VALUE!"},{"$f":"'報告書② 第1年度(取組）'!D126","v":0},{"$error":"#VALUE!"}]
[null,null,null,"廃熱回収の管理 ","事業所内に設置した工業炉やボイラーの排ガスから廃熱を回収して利用している。\u009e工業炉やボイラーの排ガスから廃熱を回収する等により、排ガス温度を下げている。",null,null,null,null,null,null,null,null,null,null,null,null,null,null,null,null,null,null,null,null,17,{"$f":"'計画書② (取組）'!C55","v":0},"",{"$error":"#VALUE!"},null,null,null,null,null,null,null,null,null,"再熱除湿運転回避 ","可能な場合は再熱除湿運転を行わない空調運転が行われている。",18,"再熱除湿運転回避 ",null,null,17,"","","",null,null,null,17,{"$f":"IF('報告書② 第1年度(取組）'!C127=\"\",\"\",'報告書② 第1年度(取組）'!C127&\"‡\"&'報告書② 第1年度(取組）'!D127)","v":""},"",{"$error":"#VALUE!"},{"$f":"'報告書② 第1年度(取組）'!D127","v":0},{"$error":"#VALUE!"}]
[null,null,null,"再熱除湿運転回避 ","可能な場合は再熱除湿運転を行わない空調運転が行われている。",null,null,null,null,null,null,null,null,null,null,null,null,null,null,null,null,null,null,null,null,18,{"$f":"'計画書② (取組）'!C56","v":0},"",{"$error":"#VALUE!"},null,null,null,null,null,null,null,null,null,"外気冷房 ","可能な場合には、外気を取入れて冷房を行っている。",19,"外気冷房 ",null,null,18,"","","",null,null,null,18,{"$f":"IF('報告書② 第1年度(取組）'!C128=\"\",\"\",'報告書② 第1年度(取組）'!C128&\"‡\"&'報告書② 第1年度(取組）'!D128)","v":""},"",{"$error":"#VALUE!"},{"$f":"'報告書② 第1年度(取組）'!D128","v":0},{"$error":"#VALUE!"}]
[null,null,null,"外気冷房 ","可能な場合には、外気を取入れて冷房を行っている。",null,null,null,null,null,null,null,null,null,null,null,null,null,null,null,null,null,null,null,null,19,{"$f":"'計画書② (取組）'!C57","v":0},"",{"$error":"#VALUE!"},null,null,null,null,null,null,null,null,null,"設備運転時間の管理 ","設備の運転時間が管理標準（管理マニュアル）で定められている。\u009e設備の運転時間が管理標準（管理マニュアル）に基づき管理されている。",20,"設備運転時間の管理 ",null,null,19,"","","",null,null,null,19,{"$f":"IF('報告書② 第1年度(取組）'!C129=\"\",\"\",'報告書② 第1年度(取組）'!C129&\"‡\"&'報告書② 第1年度(取組）'!D129)","v":""},"",{"$error":"#VALUE!"},{"$f":"'報告書② 第1年度(取組）'!D129","v":0},{"$error":"#VALUE!"}]
[null,null,null,"設備運転時間の管理 ","設備の運転時間が管理標準（管理マニュアル）で定められている。\u009e設備の運転時間が管理標準（管理マニュアル）に基づき管理されている。",null,null,null,null,null,null,null,null,null,null,null,null,null,null,null,null,null,null,null,null,20,{"$f":"'計画書② (取組）'!C58","v":0},"",{"$error":"#VALUE!"},null,null,null,null,null,null,null,null,null,"熱源設備に組み込まれた燃焼機器の運転管理 ","燃焼機器の負荷が蒸発量や空調負荷に応じて調整されている。\u009e燃焼機器の空気比が負荷変更の範囲内で適切に調整されている。熱源機器のメンテナンス記録及び運転管理記録がある。",21,"熱源設備に組み込まれた燃焼機器の運転管理 ",null,null,20,"","","",null,null,null,20,{"$f":"IF('報告書② 第1年度(取組）'!C130=\"\",\"\",'報告書② 第1年度(取組）'!C130&\"‡\"&'報告書② 第1年度(取組）'!D130)","v":""},"",{"$error":"#VALUE!"},{"$f":"'報告書② 第1年度(取組）'!D130","v":0},{"$error":"#VALUE!"}]
[null,null,null,"熱源設備に組み込まれた燃焼機器の運転管理 ","燃焼機器の負荷が蒸発量や空調負荷に応じて調整されている。\u009e燃焼機器の空気比が負荷変更の範囲内で適切に調整されている。熱源機器のメンテナンス記録及び運転管理記録がある。",null,null,null,null,null,null,null,null,null,null,null,null,null,null,null,null,null,null,null,null,21,{"$f":"'報告書② 第1年度(取組）'!C91","v":0},"",{"$error":"#VALUE!"},null,null,null,null,null,null,null,null,null,"熱源設備の運転時間管理 ","熱源設備、熱搬送設備の起動・停止時間が季節毎に設定されている。\u009e設定に基づき、熱源設備、熱搬送設備の起動・停止時間が適切に管理されている。",22,"熱源設備の運転時間管理 ",null,null,21,"","","",null,null,null,21,{"$f":"IF('報告書② 第2年度(取組）'!C121=\"\",\"\",'報告書② 第2年度(取組）'!C121&\"‡\"&'報告書② 第2年度(取組）'!D121)","v":""},"",{"$error":"#VALUE!"},{"$f":"'報告書② 第2年度(取組）'!D121","v":0},{"$error":"#VALUE!"}]
[null,null,null,"熱源設備の運転時間管理 ","熱源設備、熱搬送設備の起動・停止時間が季節毎に設定されている。\u009e設定に基づき、熱源設備、熱搬送設備の起動・停止時間が適切に管理されている。",null,null,null,null,null,null,null,null,null,null,null,null,null,null,null,null,null,null,null,null,22,{"$f":"'報告書② 第1年度(取組）'!C92","v":0},"",{"$error":"#VALUE!"},null,null,null,null,null,null,null,null,null,"冷水出口温度の管理 ","熱源設備の冷水出口温度が季節ごとに設定されている。\u009e設定に基づき、熱源設備の冷水出口温度が管理されている。",23,"冷水出口温度の管理 ",null,null,22,"","","",null,null,null,22,{"$f":"IF('報告書② 第2年度(取組）'!C122=\"\",\"\",'報告書② 第2年度(取組）'!C122&\"‡\"&'報告書② 第2年度(取組）'!D122)","v":""},"",{"$error":"#VALUE!"},{"$f":"'報告書② 第2年度(取組）'!D122","v":0},{"$error":"#VALUE!"}]
[null,null,null,"冷水出口温度の管理 ","熱源設備の冷水出口温度が季節ごとに設定されている。\u009e設定に基づき、熱源設備の冷水出口温度が管理されている。",null,null,null,null,null,null,null,null,null,null,null,null,null,null,null,null,null,null,null,null,23,{"$f":"'報告書② 第1年度(取組）'!C93","v":0},"",{"$error":"#VALUE!"},null,null,null,null,null,null,null,null,null,"熱源設備 冷却水温度の適正管理 ","冷却水温度を計測している。\u009e冷却水温度を適正な範囲に調整している。",24,"熱源設備 冷却水温度の適正管理 ",null,null,23,"","","",null,null,null,23,{"$f":"IF('報告書② 第2年度(取組）'!C123=\"\",\"\",'報告書② 第2年度(取組）'!C123&\"‡\"&'報告書② 第2年度(取組）'!D123)","v":""},"",{"$error":"#VALUE!"},{"$f":"'報告書② 第2年度(取組）'!D123","v":0},{"$error":"#VALUE!"}]
[null,null,null,"熱源設備 冷却水温度の適正管理 ","冷却水温度を計測している。\u009e冷却水温度を適正な範囲に調整している。",null,null,null,null,null,null,null,null,null,null,null,null,null,null,null,null,null,null,null,null,24,{"$f":"'報告書② 第1年度(取組）'!C94","v":0},"",{"$error":"#VALUE!"},null,null,null,null,null,null,null,null,null,"熱源設備 冷却水の水質管理 ","冷却水の水質を定期的に調査している。\u009e冷却水の水質を適正な範囲に調整している。",25,"熱源設備 冷却水の水質管理 ",null,null,24,"","","",null,null,null,24,{"$f":"IF('報告書② 第2年度(取組）'!C124=\"\",\"\",'報告書② 第2年度(取組）'!C124&\"‡\"&'報告書② 第2年度(取組）'!D124)","v":""},"",{"$error":"#VALUE!"},{"$f":"'報告書② 第2年度(取組）'!D124","v":0},{"$error":"#VALUE!"}]
[null,null,null,"熱源設備 冷却水の水質管理 ","冷却水の水質を定期的に調査している。\u009e冷却水の水質を適正な範囲に調整している。",null,null,null,null,null,null,null,null,null,null,null,null,null,null,null,null,null,null,null,null,25,{"$f":"'報告書② 第1年度(取組）'!C95","v":0},"",{"$error":"#VALUE!"},null,null,null,null,null,null,null,null,null,"冷温水ポンプの回転数制御、自動流量制御 ","空調の運転において、冷温水の行き・戻り温度差が適切になるように冷温水ポンプの流量制御を行っている。",{"$f":"IF(ISERROR(MATCH(AM26,$AA$2:$AA$81,0)),ROW(),\"\")","v":26},"冷温水ポンプの回転数制御、自動流量制御 ",null,null,25,"","","",null,null,null,25,{"$f":"IF('報告書② 第2年度(取組）'!C125=\"\",\"\",'報告書② 第2年度(取組）'!C125&\"‡\"&'報告書② 第2年度(取組）'!D125)","v":""},"",{"$error":"#VALUE!"},{"$f":"'報告書② 第2年度(取組）'!D125","v":0},{"$error":"#VALUE!"}]
[null,null,null,"冷温水ポンプの回転数制御、自動流量制御 ","空調の運転において、冷温水の行き・戻り温度差が適切になるように冷温水ポンプの流量制御を行っている。",null,null,null,null,null,null,null,null,null,null,null,null,null,null,null,null,null,null,null,null,26,{"$f":"'報告書② 第1年度(取組）'!C96","v":0},"",{"$error":"#VALUE!"},null,null,null,null,null,null,null,null,null,"コンプレッサーの運転圧力の管理  ","圧縮空気配管系統図が整備されている。\u009e配管系統の圧力損失（圧縮空気供給側と需要側の圧力差）が最小となるように管理されている。",{"$f":"IF(ISERROR(MATCH(AM27,$AA$2:$AA$81,0)),ROW(),\"\")","v":27},{"$f":"IFERROR(INDIRECT(\"AM\"&SMALL($AO$2:$AO$44,ROW()-1)),\"\")","v":"コンプレッサーの運転圧力の管理  "},null,null,26,null,null,null,null,null,null,26,{"$f":"IF('報告書② 第2年度(取組）'!C126=\"\",\"\",'報告書② 第2年度(取組）'!C126&\"‡\"&'報告書② 第2年度(取組）'!D126)","v":""},"",{"$error":"#VALUE!"},{"$f":"'報告書② 第2年度(取組）'!D126","v":0},{"$error":"#VALUE!"}]
[null,null,null,"コンプレッサーの運転圧力の管理  ","圧縮空気配管系統図が整備されている。\u009e配管系統の圧力損失（圧縮空気供給側と需要側の圧力差）が最小となるように管理されている。",null,null,null,null,null,null,null,null,null,null,null,null,null,null,null,null,null,null,null,null,27,{"$f":"'報告書② 第1年度(取組）'!C97","v":0},"",{"$error":"#VALUE!"},null,null,null,null,null,null,null,null,null,"非稼働エリアへの圧縮空気供給管理 ","主な稼働エリア毎に圧縮空気供給元弁が設置されている。\u009e非稼働エリアへの圧縮空気供給元弁が閉止されている。",28,"非稼働エリアへの圧縮空気供給管理 ",null,null,27,null,null,null,null,null,null,27,{"$f":"IF('報告書② 第2年度(取組）'!C127=\"\",\"\",'報告書② 第2年度(取組）'!C127&\"‡\"&'報告書② 第2年度(取組）'!D127)","v":""},"",{"$error":"#VALUE!"},{"$f":"'報告書② 第2年度(取組）'!D127","v":0},{"$error":"#VALUE!"}]
[null,null,null,"非稼働エリアへの圧縮空気供給管理 ","主な稼働エリア毎に圧縮空気供給元弁が設置されている。\u009e非稼働エリアへの圧縮空気供給元弁が閉止されている。",null,null,null,null,null,null,null,null,null,null,null,null,null,null,null,null,null,null,null,null,28,{"$f":"'報告書② 第1年度(取組）'!C98","v":0},"",{"$error":"#VALUE!"},null,null,null,null,null,null,null,null,null,"コンプレッサー吸気温度の管理 ","空冷式コンプレッサーの排気が、吸気温度に影響しない対策をしている。\u009eコンプレッサーの吸気温度が外気温度より高くならない対策をしている。",29,"コンプレッサー吸気温度の管理 ",null,null,28,null,null,null,null,null,null,28,{"$f":"IF('報告書② 第2年度(取組）'!C128=\"\",\"\",'報告書② 第2年度(取組）'!C128&\"‡\"&'報告書② 第2年度(取組）'!D128)","v":""},"",{"$error":"#VALUE!"},{"$f":"'報告書② 第2年度(取組）'!D128","v":0},{"$error":"#VALUE!"}]
[null,null,null,"コンプレッサー吸気温度の管理 ","空冷式コンプレッサーの排気が、吸気温度に影響しない対策をしている。\u009eコンプレッサーの吸気温度が外気温度より高くならない対策をしている。",null,null,null,null,null,null,null,null,null,null,null,null,null,null,null,null,null,null,null,null,29,{"$f":"'報告書② 第1年度(取組）'!C99","v":0},"",{"$error":"#VALUE!"},null,null,null,null,null,null,null,null,null,"圧縮空気系統の保全管理 ","圧縮空気配管系統を構成する機器、配管の保全管理マニュアルが整備されている。\u009e管理マニュアルに基づき、漏れ・詰まり等の点検が実施されている。",30,"圧縮空気系統の保全管理 ",null,null,29,null,null,null,null,null,null,29,{"$f":"IF('報告書② 第2年度(取組）'!C129=\"\",\"\",'報告書② 第2年度(取組）'!C129&\"‡\"&'報告書② 第2年度(取組）'!D129)","v":""},"",{"$error":"#VALUE!"},{"$f":"'報告書② 第2年度(取組）'!D129","v":0},{"$error":"#VALUE!"}]
[null,null,null,"圧縮空気系統の保全管理 ","圧縮空気配管系統を構成する機器、配管の保全管理マニュアルが整備されている。\u009e管理マニュアルに基づき、漏れ・詰まり等の点検が実施されている。",null,null,null,null,null,null,null,null,null,null,null,null,null,null,null,null,null,null,null,null,30,{"$f":"'報告書② 第1年度(取組）'!C100","v":0},"",{"$error":"#VALUE!"},null,null,null,null,null,null,null,null,null,"ポンプ、ファン、ブロワの吐出圧力、供給量の管理 ","ポンプ、ファン、ブロワの必要圧力、必要供給量が把握されている。\u009e必要圧力、必要供給量に合わせ制御（インバータ制御、台数制御等）している。",31,"ポンプ、ファン、ブロワの吐出圧力、供給量の管理 ",null,null,30,null,null,null,null,null,null,30,{"$f":"IF('報告書② 第2年度(取組）'!C130=\"\",\"\",'報告書② 第2年度(取組）'!C130&\"‡\"&'報告書② 第2年度(取組）'!D130)","v":""},"",{"$error":"#VALUE!"},{"$f":"'報告書② 第2年度(取組）'!D130","v":0},{"$error":"#VALUE!"}]
[null,null,null,"ポンプ、ファン、ブロワの吐出圧力、供給量の管理 ","ポンプ、ファン、ブロワの必要圧力、必要供給量が把握されている。\u009e必要圧力、必要供給量に合わせ制御（インバータ制御、台数制御等）している。",null,null,null,null,null,null,null,null,null,null,null,null,null,null,null,null,null,null,null,null,31,{"$f":"'報告書② 第1年度(取組）'!C101","v":0},"",{"$error":"#VALUE!"},null,null,null,null,null,null,null,null,null,"ポンプ、給水系統の保全管理 ","給水系統を構成する機器、配管の保全管理マニュアルが整備されている。\u009e管理マニュアルに基づき、漏れ・詰まりの点検・補修が実施されている。",32,"ポンプ、給水系統の保全管理 ",null,null,31,null,null,null,null,null,null,31,{"$f":"IF('報告書② 第3年度(取組）'!C121=\"\",\"\",'報告書② 第3年度(取組）'!C121&\"‡\"&'報告書② 第3年度(取組）'!D121)","v":""},"",{"$error":"#VALUE!"},{"$f":"'報告書② 第3年度(取組）'!D121","v":0},{"$error":"#VALUE!"}]
[null,null,null,"ポンプ、給水系統の保全管理 ","給水系統を構成する機器、配管の保全管理マニュアルが整備されている。\u009e管理マニュアルに基づき、漏れ・詰まりの点検・補修が実施されている。",null,null,null,null,null,null,null,null,null,null,null,null,null,null,null,null,null,null,null,null,32,{"$f":"'報告書② 第1年度(取組）'!C102","v":0},"",{"$error":"#VALUE!"},null,null,null,null,null,null,null,null,null,"ファン、ブロワ、給気系統の保全管理 ","給気系統を構成する機器、配管等の保全管理マニュアルが整備されている。\u009e管理マニュアルに基づき、漏れ・詰まりの点検・補修が実施されている。",33,"ファン、ブロワ、給気系統の保全管理 ",null,null,32,null,null,null,null,null,null,32,{"$f":"IF('報告書② 第3年度(取組）'!C122=\"\",\"\",'報告書② 第3年度(取組）'!C122&\"‡\"&'報告書② 第3年度(取組）'!D122)","v":""},"",{"$error":"#VALUE!"},{"$f":"'報告書② 第3年度(取組）'!D122","v":0},{"$error":"#VALUE!"}]
[null,null,null,"ファン、ブロワ、給気系統の保全管理 ","給気系統を構成する機器、配管等の保全管理マニュアルが整備されている。\u009e管理マニュアルに基づき、漏れ・詰まりの点検・補修が実施されている。",null,null,null,null,null,null,null,null,null,null,null,null,null,null,null,null,null,null,null,null,33,{"$f":"'報告書② 第1年度(取組）'!C103","v":0},"",{"$error":"#VALUE!"},null,null,null,null,null,null,null,null,null,"コジェネレーション運転効率の管理 ","コジェネレーション設備の発電効率、排熱回収効率の目標値を定めている。\u009eコジェネレーション設備の発電効率、排熱回収効率を計測・記録し、管理している。",34,"コジェネレーション運転効率の管理 ",null,null,33,null,null,null,null,null,null,33,{"$f":"IF('報告書② 第3年度(取組）'!C123=\"\",\"\",'報告書② 第3年度(取組）'!C123&\"‡\"&'報告書② 第3年度(取組）'!D123)","v":""},"",{"$error":"#VALUE!"},{"$f":"'報告書② 第3年度(取組）'!D123","v":0},{"$error":"#VALUE!"}]
[null,null,null,"コジェネレーション運転効率の管理 ","コジェネレーション設備の発電効率、排熱回収効率の目標値を定めている。\u009eコジェネレーション設備の発電効率、排熱回収効率を計測・記録し、管理している。",null,null,null,null,null,null,null,null,null,null,null,null,null,null,null,null,null,null,null,null,34,{"$f":"'報告書② 第1年度(取組）'!C104","v":0},"",{"$error":"#VALUE!"},null,null,null,null,null,null,null,null,null,"変圧器の負荷率管理 ","事業者内にある全ての変圧器の負荷率が把握されている。\u009e省エネ対策の結果、負荷が減った変圧器を統合し負荷の小さな変圧器を停止している。",35,"変圧器の負荷率管理 ",null,null,34,null,null,null,null,null,null,34,{"$f":"IF('報告書② 第3年度(取組）'!C124=\"\",\"\",'報告書② 第3年度(取組）'!C124&\"‡\"&'報告書② 第3年度(取組）'!D124)","v":""},"",{"$error":"#VALUE!"},{"$f":"'報告書② 第3年度(取組）'!D124","v":0},{"$error":"#VALUE!"}]
[null,null,null,"変圧器の負荷率管理 ","事業者内にある全ての変圧器の負荷率が把握されている。\u009e省エネ対策の結果、負荷が減った変圧器を統合し負荷の小さな変圧器を停止している。",null,null,null,null,null,null,null,null,null,null,null,null,null,null,null,null,null,null,null,null,35,{"$f":"'報告書② 第1年度(取組）'!C105","v":0},"",{"$error":"#VALUE!"},null,null,null,null,null,null,null,null,null,"デマンド管理 ","事業所が消費する受電電力を連続的に監視している。\u009e受電電力が、目標値を超えないよう電力消費機器の運転管理をしている。",36,"デマンド管理 ",null,null,35,null,null,null,null,null,null,35,{"$f":"IF('報告書② 第3年度(取組）'!C125=\"\",\"\",'報告書② 第3年度(取組）'!C125&\"‡\"&'報告書② 第3年度(取組）'!D125)","v":""},"",{"$error":"#VALUE!"},{"$f":"'報告書② 第3年度(取組）'!D125","v":0},{"$error":"#VALUE!"}]
[null,null,null,"デマンド管理 ","事業所が消費する受電電力を連続的に監視している。\u009e受電電力が、目標値を超えないよう電力消費機器の運転管理をしている。",null,null,null,null,null,null,null,null,null,null,null,null,null,null,null,null,null,null,null,null,36,{"$f":"'報告書② 第1年度(取組）'!C106","v":0},"",{"$error":"#VALUE!"},null,null,null,null,null,null,null,null,null,"負荷平準化 ","購入電力の昼夜間負荷平準化運用管理を行っている。",37,"負荷平準化 ",null,null,36,null,null,null,null,null,null,36,{"$f":"IF('報告書② 第3年度(取組）'!C126=\"\",\"\",'報告書② 第3年度(取組）'!C126&\"‡\"&'報告書② 第3年度(取組）'!D126)","v":""},"",{"$error":"#VALUE!"},{"$f":"'報告書② 第3年度(取組）'!D126","v":0},{"$error":"#VALUE!"}]
[null,null,null,"負荷平準化 ","購入電力の昼夜間負荷平準化運用管理を行っている。",null,null,null,null,null,null,null,null,null,null,null,null,null,null,null,null,null,null,null,null,37,{"$f":"'報告書② 第1年度(取組）'!C107","v":0},"",{"$error":"#VALUE!"},null,null,null,null,null,null,null,null,null,"窓の断熱性向上 ","窓の断熱性能の向上（二重窓、複層ガラス、断熱フィルム等）対策を実施している。",38,"窓の断熱性向上 ",null,null,37,null,null,null,null,null,null,37,{"$f":"IF('報告書② 第3年度(取組）'!C127=\"\",\"\",'報告書② 第3年度(取組）'!C127&\"‡\"&'報告書② 第3年度(取組）'!D127)","v":""},"",{"$error":"#VALUE!"},{"$f":"'報告書② 第3年度(取組）'!D127","v":0},{"$error":"#VALUE!"}]
[null,null,null,"窓の断熱性向上 ","窓の断熱性能の向上（二重窓、複層ガラス、断熱フィルム等）対策を実施している。",null,null,null,null,null,null,null,null,null,null,null,null,null,null,null,null,null,null,null,null,38,{"$f":"'報告書② 第1年度(取組）'!C108","v":0},"",{"$error":"#VALUE!"},null,null,null,null,null,null,null,null,null,"壁面緑化 ","壁面緑化や屋上緑化を実施している。",39,"壁面緑化 ",null,null,38,null,null,null,null,null,null,38,{"$f":"IF('報告書② 第3年度(取組）'!C128=\"\",\"\",'報告書② 第3年度(取組）'!C128&\"‡\"&'報告書② 第3年度(取組）'!D128)","v":""},"",{"$error":"#VALUE!"},{"$f":"'報告書② 第3年度(取組）'!D128","v":0},{"$error":"#VALUE!"}]
[null,null,null,"壁面緑化 ","壁面緑化や屋上緑化を実施している。",null,null,null,null,null,null,null,null,null,null,null,null,null,null,null,null,null,null,null,null,39,{"$f":"'報告書② 第1年度(取組）'!C109","v":0},"",{"$error":"#VALUE!"},null,null,null,null,null,null,null,null,null,"再生可能エネルギーの導入 ","事業所内に太陽光発電、太陽熱利用システム、地中熱利用システム等の再生可能エネルギーが導入されている。",40,"再生可能エネルギーの導入 ",null,null,39,null,null,null,null,null,null,39,{"$f":"IF('報告書② 第3年度(取組）'!C129=\"\",\"\",'報告書② 第3年度(取組）'!C129&\"‡\"&'報告書② 第3年度(取組）'!D129)","v":""},"",{"$error":"#VALUE!"},{"$f":"'報告書② 第3年度(取組）'!D129","v":0},{"$error":"#VALUE!"}]
[null,null,null,"再生可能エネルギーの導入 ","事業所内に太陽光発電、太陽熱利用システム、地中熱利用システム等の再生可能エネルギーが導入されている。",null,null,null,null,null,null,null,null,null,null,null,null,null,null,null,null,null,null,null,null,40,{"$f":"'報告書② 第1年度(取組）'!C110","v":0},"",{"$error":"#VALUE!"},null,null,null,null,null,null,null,null,null,"蓄電システムの導入 ","事業所内に再生可能エネルギーの利用割合を高めるため、蓄電池等の蓄電システムを導入されている。",41,"蓄電システムの導入 ",null,null,40,null,null,null,null,null,null,40,{"$f":"IF('報告書② 第3年度(取組）'!C130=\"\",\"\",'報告書② 第3年度(取組）'!C130&\"‡\"&'報告書② 第3年度(取組）'!D130)","v":""},"",{"$error":"#VALUE!"},{"$f":"'報告書② 第3年度(取組）'!D130","v":0},{"$error":"#VALUE!"}]
[null,null,null,"蓄電システムの導入 ","事業所内に再生可能エネルギーの利用割合を高めるため、蓄電池等の蓄電システムを導入されている。",null,null,null,null,null,null,null,null,null,null,null,null,null,null,null,null,null,null,null,null,41,{"$f":"'報告書② 第2年度(取組）'!C91","v":0},"",{"$error":"#VALUE!"},null,null,null,null,null,null,null,null,null,"商品や原料輸送時の省エネ ","商品や原料の搬出入を行う者（外部輸送事業者を含む）に対して、使用する車両をエコカーに更新するよう要請している。\u009e輸送時の省エネを考慮して発送・荷受けの日時を指示している。",42,"商品や原料輸送時の省エネ ",null,null,41]
[null,null,null,"商品や原料輸送時の省エネ ","商品や原料の搬出入を行う者（外部輸送事業者を含む）に対して、使用する車両をエコカーに更新するよう要請している。\u009e輸送時の省エネを考慮して発送・荷受けの日時を指示している。",null,null,null,null,null,null,null,null,null,null,null,null,null,null,null,null,null,null,null,null,42,{"$f":"'報告書② 第2年度(取組）'!C92","v":0},"",{"$error":"#VALUE!"},null,null,null,null,null,null,null,null,null,"燃費性能の良い車両の計画的導入 ","環境性能の優れた車両を計画的に導入している。",43,"燃費性能の良い車両の計画的導入 ",null,null,42]
[null,null,null,"燃費性能の良い車両の計画的導入 ","環境性能の優れた車両を計画的に導入している。",null,null,null,null,null,null,null,null,null,null,null,null,null,null,null,null,null,null,null,null,43,{"$f":"'報告書② 第2年度(取組）'!C93","v":0},"",{"$error":"#VALUE!"},null,null,null,null,null,null,null,null,null,"エコドライブ教育実施 ","エコドライブ推進担当者を設置している。\u009e車両を運転する全社員に対するエコドライブ教育を定期的に実施している。",44,"エコドライブ教育実施 ",null,null,43]
[null,null,null,"エコドライブ教育実施 ","エコドライブ推進担当者を設置している。\u009e車両を運転する全社員に対するエコドライブ教育を定期的に実施している。",null,null,null,null,null,null,null,null,null,null,null,null,null,null,null,null,null,null,null,null,44,{"$f":"'報告書② 第2年度(取組）'!C94","v":0},"",{"$error":"#VALUE!"}]
[null,null,null,null,null,null,null,null,null,null,null,null,null,null,null,null,null,null,null,null,null,null,null,null,null,45,{"$f":"'報告書② 第2年度(取組）'!C95","v":0},"",{"$error":"#VALUE!"}]
[null,null,null,null,null,null,null,null,null,null,null,null,null,null,null,null,null,null,null,null,null,null,null,null,null,46,{"$f":"'報告書② 第2年度(取組）'!C96","v":0},"",{"$error":"#VALUE!"}]
[null,null,null,null,null,null,null,null,null,null,null,null,null,null,null,null,null,null,null,null,null,null,null,null,null,47,{"$f":"'報告書② 第2年度(取組）'!C97","v":0},"",{"$error":"#VALUE!"}]
[null,null,null,null,null,null,null,null,null,null,null,null,null,null,null,null,null,null,null,null,null,null,null,null,null,48,{"$f":"'報告書② 第2年度(取組）'!C98","v":0},"",{"$error":"#VALUE!"}]
[null,null,null,null,null,null,null,null,null,null,null,null,null,null,null,null,null,null,null,null,null,null,null,null,null,49,{"$f":"'報告書② 第2年度(取組）'!C99","v":0},"",{"$error":"#VALUE!"}]
[null,null,null,null,null,null,null,null,null,null,null,null,null,null,null,null,null,null,null,null,null,null,null,null,null,50,{"$f":"'報告書② 第2年度(取組）'!C100","v":0},"",{"$error":"#VALUE!"}]
[null,null,null,null,null,null,null,null,null,null,null,null,null,null,null,null,null,null,null,null,null,null,null,null,null,51,{"$f":"'報告書② 第2年度(取組）'!C101","v":0},"",{"$error":"#VALUE!"}]
[null,null,null,null,null,null,null,null,null,null,null,null,null,null,null,null,null,null,null,null,null,null,null,null,null,52,{"$f":"'報告書② 第2年度(取組）'!C102","v":0},"",{"$error":"#VALUE!"}]
[null,null,null,null,null,null,null,null,null,null,null,null,null,null,null,null,null,null,null,null,null,null,null,null,null,53,{"$f":"'報告書② 第2年度(取組）'!C103","v":0},"",{"$error":"#VALUE!"}]
[null,null,null,null,null,null,null,null,null,null,null,null,null,null,null,null,null,null,null,null,null,null,null,null,null,54,{"$f":"'報告書② 第2年度(取組）'!C104","v":0},"",{"$error":"#VALUE!"}]
[null,null,null,null,null,null,null,null,null,null,null,null,null,null,null,null,null,null,null,null,null,null,null,null,null,55,{"$f":"'報告書② 第2年度(取組）'!C105","v":0},"",{"$error":"#VALUE!"}]
[null,null,null,null,null,null,null,null,null,null,null,null,null,null,null,null,null,null,null,null,null,null,null,null,null,56,{"$f":"'報告書② 第2年度(取組）'!C106","v":0},"",{"$error":"#VALUE!"}]
[null,null,null,null,null,null,null,null,null,null,null,null,null,null,null,null,null,null,null,null,null,null,null,null,null,57,{"$f":"'報告書② 第2年度(取組）'!C107","v":0},"",{"$error":"#VALUE!"}]
[null,null,null,null,null,null,null,null,null,null,null,null,null,null,null,null,null,null,null,null,null,null,null,null,null,58,{"$f":"'報告書② 第2年度(取組）'!C108","v":0},"",{"$error":"#VALUE!"}]
[null,null,null,null,null,null,null,null,null,null,null,null,null,null,null,null,null,null,null,null,null,null,null,null,null,59,{"$f":"'報告書② 第2年度(取組）'!C109","v":0},"",{"$error":"#VALUE!"}]
[null,null,null,null,null,null,null,null,null,null,null,null,null,null,null,null,null,null,null,null,null,null,null,null,null,60,{"$f":"'報告書② 第2年度(取組）'!C110","v":0},"",{"$error":"#VALUE!"}]
[null,null,null,null,null,null,null,null,null,null,null,null,null,null,null,null,null,null,null,null,null,null,null,null,null,61,{"$f":"'報告書② 第3年度(取組）'!C91","v":0},"",{"$error":"#VALUE!"}]
[null,null,null,null,null,null,null,null,null,null,null,null,null,null,null,null,null,null,null,null,null,null,null,null,null,62,{"$f":"'報告書② 第3年度(取組）'!C92","v":0},"",{"$error":"#VALUE!"}]
[null,null,null,null,null,null,null,null,null,null,null,null,null,null,null,null,null,null,null,null,null,null,null,null,null,63,{"$f":"'報告書② 第3年度(取組）'!C93","v":0},"",{"$error":"#VALUE!"}]
[null,null,null,null,null,null,null,null,null,null,null,null,null,null,null,null,null,null,null,null,null,null,null,null,null,64,{"$f":"'報告書② 第3年度(取組）'!C94","v":0},"",{"$error":"#VALUE!"}]
[null,null,null,null,null,null,null,null,null,null,null,null,null,null,null,null,null,null,null,null,null,null,null,null,null,65,{"$f":"'報告書② 第3年度(取組）'!C95","v":0},"",{"$error":"#VALUE!"}]
[null,null,null,null,null,null,null,null,null,null,null,null,null,null,null,null,null,null,null,null,null,null,null,null,null,66,{"$f":"'報告書② 第3年度(取組）'!C96","v":0},{"$f":"IF(AA67<>0,ROW()-1,\"\")","v":""},{"$f":"RANK(AB67,$AB$2:$AB$81,1)","v":{"$error":"#VALUE!"}}]
[null,null,null,null,null,null,null,null,null,null,null,null,null,null,null,null,null,null,null,null,null,null,null,null,null,67,{"$f":"'報告書② 第3年度(取組）'!C97","v":0},"",{"$error":"#VALUE!"}]
[null,null,null,null,null,null,null,null,null,null,null,null,null,null,null,null,null,null,null,null,null,null,null,null,null,68,{"$f":"'報告書② 第3年度(取組）'!C98","v":0},"",{"$error":"#VALUE!"}]
[null,null,null,null,null,null,null,null,null,null,null,null,null,null,null,null,null,null,null,null,null,null,null,null,null,69,{"$f":"'報告書② 第3年度(取組）'!C99","v":0},"",{"$error":"#VALUE!"}]
[null,null,null,null,null,null,null,null,null,null,null,null,null,null,null,null,null,null,null,null,null,null,null,null,null,70,{"$f":"'報告書② 第3年度(取組）'!C100","v":0},"",{"$error":"#VALUE!"}]
[null,null,null,null,null,null,null,null,null,null,null,null,null,null,null,null,null,null,null,null,null,null,null,null,null,71,{"$f":"'報告書② 第3年度(取組）'!C101","v":0},"",{"$error":"#VALUE!"}]
[null,null,null,null,null,null,null,null,null,null,null,null,null,null,null,null,null,null,null,null,null,null,null,null,null,72,{"$f":"'報告書② 第3年度(取組）'!C102","v":0},"",{"$error":"#VALUE!"}]
[null,null,null,null,null,null,null,null,null,null,null,null,null,null,null,null,null,null,null,null,null,null,null,null,null,73,{"$f":"'報告書② 第3年度(取組）'!C103","v":0},"",{"$error":"#VALUE!"}]
[null,null,null,null,null,null,null,null,null,null,null,null,null,null,null,null,null,null,null,null,null,null,null,null,null,74,{"$f":"'報告書② 第3年度(取組）'!C104","v":0},"",{"$error":"#VALUE!"}]
[null,null,null,null,null,null,null,null,null,null,null,null,null,null,null,null,null,null,null,null,null,null,null,null,null,75,{"$f":"'報告書② 第3年度(取組）'!C105","v":0},"",{"$error":"#VALUE!"}]
[null,null,null,null,null,null,null,null,null,null,null,null,null,null,null,null,null,null,null,null,null,null,null,null,null,76,{"$f":"'報告書② 第3年度(取組）'!C106","v":0},"",{"$error":"#VALUE!"}]
[null,null,null,null,null,null,null,null,null,null,null,null,null,null,null,null,null,null,null,null,null,null,null,null,null,77,{"$f":"'報告書② 第3年度(取組）'!C107","v":0},"",{"$error":"#VALUE!"}]
[null,null,null,null,null,null,null,null,null,null,null,null,null,null,null,null,null,null,null,null,null,null,null,null,null,78,{"$f":"'報告書② 第3年度(取組）'!C108","v":0},"",{"$error":"#VALUE!"}]
[null,null,null,null,null,null,null,null,null,null,null,null,null,null,null,null,null,null,null,null,null,null,null,null,null,79,{"$f":"'報告書② 第3年度(取組）'!C109","v":0},"",{"$error":"#VALUE!"}]
[null,null,null,null,null,null,null,null,null,null,null,null,null,null,null,null,null,null,null,null,null,null,null,null,null,80,{"$f":"'報告書② 第3年度(取組）'!C110","v":0},"",{"$error":"#VALUE!"}]

{"sheet":"リスト1","index":25,"n_rows":491,"n_cols":25,"rows_kept":491,"cut":false,"hidden":true,"merged":[]}
["項目エクセル","元シート","元セル","転記先シート名","セル","値区分",null,null,null,null,"通番","番号",null,null,null,null,null,null,null,null,null,null,null,"通番","番号"]
["整理番号","はじめに","S2","はじめに","S2",null,null,null,null,null,1,1,null,null,null,null,null,null,null,null,null,null,null,1,1]
["提出年月日1","はじめに","E5","はじめに","E5",null,null,null,null,null,2,2,null,null,null,null,null,null,null,null,null,null,null,2,2]
["提出年月日2","はじめに","G5","はじめに","G5",null,null,null,null,null,3,3,null,null,null,null,null,null,null,null,null,null,null,3,3]
["提出年月日3","はじめに","I5","はじめに","I5",null,null,null,null,null,4,4,null,null,null,null,null,null,null,null,null,null,null,4,4]
["法人の名称","はじめに","E6","はじめに","E6",null,null,null,null,null,5,5,null,null,null,null,null,null,null,null,null,null,null,5,5]
["法人の所在地","はじめに","E7","はじめに","E7",null,null,null,null,null,6,6,null,null,null,null,null,null,null,null,null,null,null,6,6]
["代表者の職・氏名","はじめに","E8","はじめに","E8",null,null,null,null,null,7,7,null,null,null,null,null,null,null,null,null,null,null,7,7]
["代理者の職・氏名","はじめに","E9","はじめに","E9",null,null,null,null,null,8,8,null,null,null,null,null,null,null,null,null,null,null,8,8]
["条例第２条第５号イ","対象外","S10","はじめに","S10",null,null,null,null,null,9,9,null,null,null,null,null,null,null,null,null,null,null,9,9]
["条例第２条第５号ロ","対象外","S11","はじめに","S11",null,null,null,null,null,10,10,null,null,null,null,null,null,null,null,null,null,null,10,10]
["条例第２条第５号ハ","対象外","S12","はじめに","S12",null,null,null,null,null,11,11,null,null,null,null,null,null,null,null,null,null,null,11,11]
["一般事業者","対象外","S13","はじめに","S13",null,null,null,null,null,12,12,null,null,null,null,null,null,null,null,null,null,null,12,12]
["事業所の名称","はじめに","E14","はじめに","E14",null,null,null,null,null,13,13,null,null,null,null,null,null,null,null,null,null,null,13,13]
["郵便番号1","はじめに","F15","はじめに","F15",null,null,null,null,null,14,14,null,null,null,null,null,null,null,null,null,null,null,14,14]
["郵便番号2","はじめに","H15","はじめに","H15",null,null,null,null,null,15,15,null,null,null,null,null,null,null,null,null,null,null,15,15]
["事業所の所在地","はじめに","E16","はじめに","E16",null,null,null,null,null,16,16,null,null,null,null,null,null,null,null,null,null,null,16,16]
["産業分類番号1","はじめに","E17","はじめに","E17",null,null,null,null,null,17,17,null,null,null,null,null,null,null,null,null,null,null,17,17]
["産業分類番号2","はじめに","F17","はじめに","F17",null,null,null,null,null,18,18,null,null,null,null,null,null,null,null,null,null,null,18,18]
["産業分類番号3","はじめに","G17","はじめに","G17",null,null,null,null,null,19,19,null,null,null,null,null,null,null,null,null,null,null,19,19]
["産業分類番号4","はじめに","H17","はじめに","H17",null,null,null,null,null,20,20,null,null,null,null,null,null,null,null,null,null,null,20,20]
["従業員数","はじめに","E19","はじめに","S2",null,null,null,null,null,21,21,null,null,null,null,null,null,null,null,null,null,null,21,21]
["延べ床面積","はじめに","E20","はじめに","S2",null,null,null,null,null,22,22,null,null,null,null,null,null,null,null,null,null,null,22,22]
["所属部署","はじめに","E21","はじめに","E21",null,null,null,null,null,23,23,null,null,null,null,null,null,null,null,null,null,null,23,23]
["郵便番号3","はじめに","F22","はじめに","F22",null,null,null,null,null,24,24,null,null,null,null,null,null,null,null,null,null,null,24,24]
["郵便番号4","はじめに","H22","はじめに","H22",null,null,null,null,null,25,25,null,null,null,null,null,null,null,null,null,null,null,25,25]
["住所","はじめに","E23","はじめに","E23",null,null,null,null,null,26,26,null,null,null,null,null,null,null,null,null,null,null,26,26]
["氏名","はじめに","E24","はじめに","E24",null,null,null,null,null,27,27]
["電話番号","はじめに","E25","はじめに","E25",null,null,null,null,null,28,28]
["FAX番号","はじめに","E26","はじめに","E26",null,null,null,null,null,29,29]
["Eメールアドレス","はじめに","E27","はじめに","E27",null,null,null,null,null,30,30]
["２．目標排出量","計画書①（事業所概要・目標）","H25","計画書①（事業所概要・目標）","H25",null,null,null,null,null,31,1]
["２．目標原単位","計画書①（事業所概要・目標）","M25","計画書①（事業所概要・目標）","M25",null,null,null,null,null,32,2]
["２．非化石電気","計画書①（事業所概要・目標）","H27","計画書①（事業所概要・目標）","H27",null,null,null,null,null,33,3]
["２．その他の非化石エネルギー","計画書①（事業所概要・目標）","M27","計画書①（事業所概要・目標）","M27",null,null,null,null,null,34,4]
["２．目標設置の考え方","計画書①（事業所概要・目標）","C28","計画書①（事業所概要・目標）","C28",null,null,null,null,null,35,5]
["５の１（基本対策）状況1","計画書② (取組）","E5","計画書② (取組）","E5",null,null,null,null,null,36,1]
["５の１（基本対策）状況2","計画書② (取組）","E6","計画書② (取組）","E6",null,null,null,null,null,37,2]
["５の１（基本対策）状況3","計画書② (取組）","E7","計画書② (取組）","E7",null,null,null,null,null,38,3]
["５の１（基本対策）状況4","計画書② (取組）","E8","計画書② (取組）","E8",null,null,null,null,null,39,4]
["５の１（基本対策）状況5","計画書② (取組）","E9","計画書② (取組）","E9",null,null,null,null,null,40,5]
["５の１（基本対策）状況6","計画書② (取組）","E10","計画書② (取組）","E10",null,null,null,null,null,41,6]
["５の１（基本対策）状況7","計画書② (取組）","E11","計画書② (取組）","E11",null,null,null,null,null,42,7]
["５の１（基本対策）状況8","計画書② (取組）","E12","計画書② (取組）","E12",null,null,null,null,null,43,8]
["５の１（基本対策）状況9","計画書② (取組）","E13","計画書② (取組）","E13",null,null,null,null,null,44,9]
["５の１（基本対策）状況10","計画書② (取組）","E14","計画書② (取組）","E14",null,null,null,null,null,45,10]
["５の１（基本対策）状況11","計画書② (取組）","E15","計画書② (取組）","E15",null,null,null,null,null,46,11]
["５の１（基本対策）状況12","計画書② (取組）","E16","計画書② (取組）","E16",null,null,null,null,null,47,12]
["５の１（基本対策）状況13","計画書② (取組）","E17","計画書② (取組）","E17",null,null,null,null,null,48,13]
["５の１（基本対策）予定1","計画書② (取組）","F5","計画書② (取組）","F5",null,null,null,null,null,49,31]
["５の１（基本対策）予定2","計画書② (取組）","F6","計画書② (取組）","F6",null,null,null,null,null,50,32]
["５の１（基本対策）予定3","計画書② (取組）","F7","計画書② (取組）","F7",null,null,null,null,null,51,33]
["５の１（基本対策）予定4","計画書② (取組）","F8","計画書② (取組）","F8",null,null,null,null,null,52,34]
["５の１（基本対策）予定5","計画書② (取組）","F9","計画書② (取組）","F9",null,null,null,null,null,53,35]
["５の１（基本対策）予定6","計画書② (取組）","F10","計画書② (取組）","F10",null,null,null,null,null,54,36]
["５の１（基本対策）予定7","計画書② (取組）","F11","計画書② (取組）","F11",null,null,null,null,null,55,37]
["５の１（基本対策）予定8","計画書② (取組）","F12","計画書② (取組）","F12",null,null,null,null,null,56,38]
["５の１（基本対策）予定9","計画書② (取組）","F13","計画書② (取組）","F13",null,null,null,null,null,57,39]
["５の１（基本対策）予定10","計画書② (取組）","F14","計画書② (取組）","F14",null,null,null,null,null,58,40]
["５の１（基本対策）予定11","計画書② (取組）","F15","計画書② (取組）","F15",null,null,null,null,null,59,41]
["５の１（基本対策）予定12","計画書② (取組）","F16","計画書② (取組）","F16",null,null,null,null,null,60,42]
["５の１（基本対策）予定13","計画書② (取組）","F17","計画書② (取組）","F17",null,null,null,null,null,61,43]
["５の２（選択対策）項目1","計画書② (取組）","C39","計画書② (取組）","C39",null,null,null,null,null,62,61]
["５の２（選択対策）項目2","計画書② (取組）","C40","計画書② (取組）","C40",null,null,null,null,null,63,62]
["５の２（選択対策）項目3","計画書② (取組）","C41","計画書② (取組）","C41",null,null,null,null,null,64,63]
["５の２（選択対策）項目4","計画書② (取組）","C42","計画書② (取組）","C42",null,null,null,null,null,65,64]
["５の２（選択対策）項目5","計画書② (取組）","C43","計画書② (取組）","C43",null,null,null,null,null,66,65]
["５の２（選択対策）項目6","計画書② (取組）","C44","計画書② (取組）","C44",null,null,null,null,null,67,66]
["５の２（選択対策）項目7","計画書② (取組）","C45","計画書② (取組）","C45",null,null,null,null,null,68,67]
["５の２（選択対策）項目8","計画書② (取組）","C46","計画書② (取組）","C46",null,null,null,null,null,69,68]
["５の２（選択対策）項目9","計画書② (取組）","C47","計画書② (取組）","C47",null,null,null,null,null,70,69]
["５の２（選択対策）項目10","計画書② (取組）","C48","計画書② (取組）","C48",null,null,null,null,null,71,70]
["５の２（選択対策）項目11","計画書② (取組）","C49","計画書② (取組）","C49",null,null,null,null,null,72,71]
["５の２（選択対策）項目12","計画書② (取組）","C50","計画書② (取組）","C50",null,null,null,null,null,73,72]
["５の２（選択対策）項目13","計画書② (取組）","C51","計画書② (取組）","C51",null,null,null,null,null,74,73]
["５の２（選択対策）項目14","計画書② (取組）","C52","計画書② (取組）","C52",null,null,null,null,null,75,74]
["５の２（選択対策）項目15","計画書② (取組）","C53","計画書② (取組）","C53",null,null,null,null,null,76,75]
["５の２（選択対策）項目16","計画書② (取組）","C54","計画書② (取組）","C54",null,null,null,null,null,77,76]
["５の２（選択対策）項目17","計画書② (取組）","C55","計画書② (取組）","C55",null,null,null,null,null,78,77]
["５の２（選択対策）項目18","計画書② (取組）","C56","計画書② (取組）","C56",null,null,null,null,null,79,78]
["５の２（選択対策）項目19","計画書② (取組）","C57","計画書② (取組）","C57",null,null,null,null,null,80,79]
["５の２（選択対策）項目20","計画書② (取組）","C58","計画書② (取組）","C58",null,null,null,null,null,81,80]
["５の２（選択対策）状況1","計画書② (取組）","E39","計画書② (取組）","E39",null,null,null,null,null,82,81]
["５の２（選択対策）状況2","計画書② (取組）","E40","計画書② (取組）","E40",null,null,null,null,null,83,82]
["５の２（選択対策）状況3","計画書② (取組）","E41","計画書② (取組）","E41",null,null,null,null,null,84,83]
["５の２（選択対策）状況4","計画書② (取組）","E42","計画書② (取組）","E42",null,null,null,null,null,85,84]
["５の２（選択対策）状況5","計画書② (取組）","E43","計画書② (取組）","E43",null,null,null,null,null,86,85]
["５の２（選択対策）状況6","計画書② (取組）","E44","計画書② (取組）","E44",null,null,null,null,null,87,86]
["５の２（選択対策）状況7","計画書② (取組）","E45","計画書② (取組）","E45",null,null,null,null,null,88,87]
["５の２（選択対策）状況8","計画書② (取組）","E46","計画書② (取組）","E46",null,null,null,null,null,89,88]
["５の２（選択対策）状況9","計画書② (取組）","E47","計画書② (取組）","E47",null,null,null,null,null,90,89]
["５の２（選択対策）状況10","計画書② (取組）","E48","計画書② (取組）","E48",null,null,null,null,null,91,90]
["５の２（選択対策）状況11","計画書② (取組）","E49","計画書② (取組）","E49",null,null,null,null,null,92,91]
["５の２（選択対策）状況12","計画書② (取組）","E50","計画書② (取組）","E50",null,null,null,null,null,93,92]
["５の２（選択対策）状況13","計画書② (取組）","E51","計画書② (取組）","E51",null,null,null,null,null,94,93]
["５の２（選択対策）状況14","計画書② (取組）","E52","計画書② (取組）","E52",null,null,null,null,null,95,94]
["５の２（選択対策）状況15","計画書② (取組）","E53","計画書② (取組）","E53",null,null,null,null,null,96,95]
["５の２（選択対策）状況16","計画書② (取組）","E54","計画書② (取組）","E54",null,null,null,null,null,97,96]
["５の２（選択対策）状況17","計画書② (取組）","E55","計画書② (取組）","E55",null,null,null,null,null,98,97]
["５の２（選択対策）状況18","計画書② (取組）","E56","計画書② (取組）","E56",null,null,null,null,null,99,98]
["５の２（選択対策）状況19","計画書② (取組）","E57","計画書② (取組）","E57",null,null,null,null,null,100,99]
["５の２（選択対策）状況20","計画書② (取組）","E58","計画書② (取組）","E58",null,null,null,null,null,101,100]
["５の２（選択対策）予定1","計画書② (取組）","F39","計画書② (取組）","F39",null,null,null,null,null,102,101]
["５の２（選択対策）予定2","計画書② (取組）","F40","計画書② (取組）","F40",null,null,null,null,null,103,102]
["５の２（選択対策）予定3","計画書② (取組）","F41","計画書② (取組）","F41",null,null,null,null,null,104,103]
["５の２（選択対策）予定4","計画書② (取組）","F42","計画書② (取組）","F42",null,null,null,null,null,105,104]
["５の２（選択対策）予定5","計画書② (取組）","F43","計画書② (取組）","F43",null,null,null,null,null,106,105]
["５の２（選択対策）予定6","計画書② (取組）","F44","計画書② (取組）","F44",null,null,null,null,null,107,106]
["５の２（選択対策）予定7","計画書② (取組）","F45","計画書② (取組）","F45",null,null,null,null,null,108,107]
["５の２（選択対策）予定8","計画書② (取組）","F46","計画書② (取組）","F46",null,null,null,null,null,109,108]
["５の２（選択対策）予定9","計画書② (取組）","F47","計画書② (取組）","F47",null,null,null,null,null,110,109]
["５の２（選択対策）予定10","計画書② (取組）","F48","計画書② (取組）","F48",null,null,null,null,null,111,110]
["５の２（選択対策）予定11","計画書② (取組）","F49","計画書② (取組）","F49",null,null,null,null,null,112,111]
["５の２（選択対策）予定12","計画書② (取組）","F50","計画書② (取組）","F50",null,null,null,null,null,113,112]
["５の２（選択対策）予定13","計画書② (取組）","F51","計画書② (取組）","F51",null,null,null,null,null,114,113]
["５の２（選択対策）予定14","計画書② (取組）","F52","計画書② (取組）","F52",null,null,null,null,null,115,114]
["５の２（選択対策）予定15","計画書② (取組）","F53","計画書② (取組）","F53",null,null,null,null,null,116,115]
["５の２（選択対策）予定16","計画書② (取組）","F54","計画書② (取組）","F54",null,null,null,null,null,117,116]
["５の２（選択対策）予定17","計画書② (取組）","F55","計画書② (取組）","F55",null,null,null,null,null,118,117]
["５の２（選択対策）予定18","計画書② (取組）","F56","計画書② (取組）","F56",null,null,null,null,null,119,118]
["５の２（選択対策）予定19","計画書② (取組）","F57","計画書② (取組）","F57",null,null,null,null,null,120,119]
["５の２（選択対策）予定20","計画書② (取組）","F58","計画書② (取組）","F58",null,null,null,null,null,121,120]
["５の３（その他の対策）項目1","計画書② (取組）","C63","計画書② (取組）","C63",null,null,null,null,null,122,121]
["５の３（その他の対策）項目2","計画書② (取組）","C64","計画書② (取組）","C64",null,null,null,null,null,123,122]
["５の３（その他の対策）項目3","計画書② (取組）","C65","計画書② (取組）","C65",null,null,null,null,null,124,123]
["５の３（その他の対策）項目4","計画書② (取組）","C66","計画書② (取組）","C66",null,null,null,null,null,125,124]
["５の３（その他の対策）項目5","計画書② (取組）","C67","計画書② (取組）","C67",null,null,null,null,null,126,125]
["５の３（その他の対策）項目6","計画書② (取組）","C68","計画書② (取組）","C68",null,null,null,null,null,127,126]
["５の３（その他の対策）項目7","計画書② (取組）","C69","計画書② (取組）","C69",null,null,null,null,null,128,127]
["５の３（その他の対策）項目8","計画書② (取組）","C70","計画書② (取組）","C70",null,null,null,null,null,129,128]
["５の３（その他の対策）項目9","計画書② (取組）","C71","計画書② (取組）","C71",null,null,null,null,null,130,129]
["５の３（その他の対策）項目10","計画書② (取組）","C72","計画書② (取組）","C72",null,null,null,null,null,131,130]
["５の３（その他の対策）取組1","計画書② (取組）","D63","計画書② (取組）","D63",null,null,null,null,null,132,131]
["５の３（その他の対策）取組2","計画書② (取組）","D64","計画書② (取組）","D64",null,null,null,null,null,133,132]
["５の３（その他の対策）取組3","計画書② (取組）","D65","計画書② (取組）","D65",null,null,null,null,null,134,133]
["５の３（その他の対策）取組4","計画書② (取組）","D66","計画書② (取組）","D66",null,null,null,null,null,135,134]
["５の３（その他の対策）取組5","計画書② (取組）","D67","計画書② (取組）","D67",null,null,null,null,null,136,135]
["５の３（その他の対策）取組6","計画書② (取組）","D68","計画書② (取組）","D68",null,null,null,null,null,137,136]
["５の３（その他の対策）取組7","計画書② (取組）","D69","計画書② (取組）","D69",null,null,null,null,null,138,137]
["５の３（その他の対策）取組8","計画書② (取組）","D70","計画書② (取組）","D70",null,null,null,null,null,139,138]
["５の３（その他の対策）取組9","計画書② (取組）","D71","計画書② (取組）","D71",null,null,null,null,null,140,139]
["５の３（その他の対策）取組10","計画書② (取組）","D72","計画書② (取組）","D72",null,null,null,null,null,141,140]
["５の３（その他の対策）状況1","計画書② (取組）","E63","計画書② (取組）","E63",null,null,null,null,null,142,141]
["５の３（その他の対策）状況2","計画書② (取組）","E64","計画書② (取組）","E64",null,null,null,null,null,143,142]
["５の３（その他の対策）状況3","計画書② (取組）","E65","計画書② (取組）","E65",null,null,null,null,null,144,143]
["５の３（その他の対策）状況4","計画書② (取組）","E66","計画書② (取組）","E66",null,null,null,null,null,145,144]
["５の３（その他の対策）状況5","計画書② (取組）","E67","計画書② (取組）","E67",null,null,null,null,null,146,145]
["５の３（その他の対策）状況6","計画書② (取組）","E68","計画書② (取組）","E68",null,null,null,null,null,147,146]
["５の３（その他の対策）状況7","計画書② (取組）","E69","計画書② (取組）","E69",null,null,null,null,null,148,147]
["５の３（その他の対策）状況8","計画書② (取組）","E70","計画書② (取組）","E70",null,null,null,null,null,149,148]
["５の３（その他の対策）状況9","計画書② (取組）","E71","計画書② (取組）","E71",null,null,null,null,null,150,149]
["５の３（その他の対策）状況10","計画書② (取組）","E72","計画書② (取組）","E72",null,null,null,null,null,151,150]
["５の３（その他の対策）予定1","計画書② (取組）","F63","計画書② (取組）","F63",null,null,null,null,null,152,151]
["５の３（その他の対策）予定2","計画書② (取組）","F64","計画書② (取組）","F64",null,null,null,null,null,153,152]
["５の３（その他の対策）予定3","計画書② (取組）","F65","計画書② (取組）","F65",null,null,null,null,null,154,153]
["５の３（その他の対策）予定4","計画書② (取組）","F66","計画書② (取組）","F66",null,null,null,null,null,155,154]
["５の３（その他の対策）予定5","計画書② (取組）","F67","計画書② (取組）","F67",null,null,null,null,null,156,155]
["５の３（その他の対策）予定6","計画書② (取組）","F68","計画書② (取組）","F68",null,null,null,null,null,157,156]
["５の３（その他の対策）予定7","計画書② (取組）","F69","計画書② (取組）","F69",null,null,null,null,null,158,157]
["５の３（その他の対策）予定8","計画書② (取組）","F70","計画書② (取組）","F70",null,null,null,null,null,159,158]
["５の３（その他の対策）予定9","計画書② (取組）","F71","計画書② (取組）","F71",null,null,null,null,null,160,159]
["５の３（その他の対策）予定10","計画書② (取組）","F72","計画書② (取組）","F72",null,null,null,null,null,161,160]
["参考１（詳細）対策1","計画書③（任意記載）","B4","計画書③（任意記載）","B4",null,null,null,null,null,162,1]
["参考１（詳細）対策2","計画書③（任意記載）","B5","計画書③（任意記載）","B5",null,null,null,null,null,163,2]
["参考１（詳細）対策3","計画書③（任意記載）","B6","計画書③（任意記載）","B6",null,null,null,null,null,164,3]
["参考１（詳細）対策4","計画書③（任意記載）","B7","計画書③（任意記載）","B7",null,null,null,null,null,165,4]
["参考１（詳細）対策5","計画書③（任意記載）","B8","計画書③（任意記載）","B8",null,null,null,null,null,166,5]
["参考１（詳細）対策6","計画書③（任意記載）","B9","計画書③（任意記載）","B9",null,null,null,null,null,167,6]
["参考１（詳細）対策7","計画書③（任意記載）","B10","計画書③（任意記載）","B10",null,null,null,null,null,168,7]
["参考１（詳細）対策8","計画書③（任意記載）","B11","計画書③（任意記載）","B11",null,null,null,null,null,169,8]
["参考１（詳細）対策9","計画書③（任意記載）","B12","計画書③（任意記載）","B12",null,null,null,null,null,170,9]
["参考１（詳細）対策10","計画書③（任意記載）","B13","計画書③（任意記載）","B13",null,null,null,null,null,171,10]
["参考１（詳細）実施年度1","計画書③（任意記載）","C4","計画書③（任意記載）","C4",null,null,null,null,null,172,11]
["参考１（詳細）実施年度2","計画書③（任意記載）","C5","計画書③（任意記載）","C5",null,null,null,null,null,173,12]
["参考１（詳細）実施年度3","計画書③（任意記載）","C6","計画書③（任意記載）","C6",null,null,null,null,null,174,13]
["参考１（詳細）実施年度4","計画書③（任意記載）","C7","計画書③（任意記載）","C7",null,null,null,null,null,175,14]
["参考１（詳細）実施年度5","計画書③（任意記載）","C8","計画書③（任意記載）","C8",null,null,null,null,null,176,15]
["参考１（詳細）実施年度6","計画書③（任意記載）","C9","計画書③（任意記載）","C9",null,null,null,null,null,177,16]
["参考１（詳細）実施年度7","計画書③（任意記載）","C10","計画書③（任意記載）","C10",null,null,null,null,null,178,17]
["参考１（詳細）実施年度8","計画書③（任意記載）","C11","計画書③（任意記載）","C11",null,null,null,null,null,179,18]
["参考１（詳細）実施年度9","計画書③（任意記載）","C12","計画書③（任意記載）","C12",null,null,null,null,null,180,19]
["参考１（詳細）実施年度10","計画書③（任意記載）","C13","計画書③（任意記載）","C13",null,null,null,null,null,181,20]
["参考１（詳細）推計削減量1","計画書③（任意記載）","D4","計画書③（任意記載）","D4",null,null,null,null,null,182,21]
["参考１（詳細）推計削減量2","計画書③（任意記載）","D5","計画書③（任意記載）","D5",null,null,null,null,null,183,22]
["参考１（詳細）推計削減量3","計画書③（任意記載）","D6","計画書③（任意記載）","D6",null,null,null,null,null,184,23]
["参考１（詳細）推計削減量4","計画書③（任意記載）","D7","計画書③（任意記載）","D7",null,null,null,null,null,185,24]
["参考１（詳細）推計削減量5","計画書③（任意記載）","D8","計画書③（任意記載）","D8",null,null,null,null,null,186,25]
["参考１（詳細）推計削減量6","計画書③（任意記載）","D9","計画書③（任意記載）","D9",null,null,null,null,null,187,26]
["参考１（詳細）推計削減量7","計画書③（任意記載）","D10","計画書③（任意記載）","D10",null,null,null,null,null,188,27]
["参考１（詳細）推計削減量8","計画書③（任意記載）","D11","計画書③（任意記載）","D11",null,null,null,null,null,189,28]
["参考１（詳細）推計削減量9","計画書③（任意記載）","D12","計画書③（任意記載）","D12",null,null,null,null,null,190,29]
["参考１（詳細）推計削減量10","計画書③（任意記載）","D13","計画書③（任意記載）","D13",null,null,null,null,null,191,30]
["参考２（詳細）対策1","計画書③（任意記載）","B17","計画書③（任意記載）","B17",null,null,null,null,null,192,31]
["参考２（詳細）対策2","計画書③（任意記載）","B18","計画書③（任意記載）","B18",null,null,null,null,null,193,32]
["参考２（詳細）対策3","計画書③（任意記載）","B19","計画書③（任意記載）","B19",null,null,null,null,null,194,33]
["参考２（詳細）対策4","計画書③（任意記載）","B20","計画書③（任意記載）","B20",null,null,null,null,null,195,34]
["参考２（詳細）対策5","計画書③（任意記載）","B21","計画書③（任意記載）","B21",null,null,null,null,null,196,35]
["参考２（詳細）対策6","計画書③（任意記載）","B22","計画書③（任意記載）","B22",null,null,null,null,null,197,36]
["参考２（詳細）対策7","計画書③（任意記載）","B23","計画書③（任意記載）","B23",null,null,null,null,null,198,37]
["参考２（詳細）対策8","計画書③（任意記載）","B24","計画書③（任意記載）","B24",null,null,null,null,null,199,38]
["参考２（詳細）対策9","計画書③（任意記載）","B25","計画書③（任意記載）","B25",null,null,null,null,null,200,39]
["参考２（詳細）対策10","計画書③（任意記載）","B26","計画書③（任意記載）","B26",null,null,null,null,null,201,40]
["参考２（詳細）実施年度1","計画書③（任意記載）","C17","計画書③（任意記載）","C17",null,null,null,null,null,202,41]
["参考２（詳細）実施年度2","計画書③（任意記載）","C18","計画書③（任意記載）","C18",null,null,null,null,null,203,42]
["参考２（詳細）実施年度3","計画書③（任意記載）","C19","計画書③（任意記載）","C19",null,null,null,null,null,204,43]
["参考２（詳細）実施年度4","計画書③（任意記載）","C20","計画書③（任意記載）","C20",null,null,null,null,null,205,44]
["参考２（詳細）実施年度5","計画書③（任意記載）","C21","計画書③（任意記載）","C21",null,null,null,null,null,206,45]
["参考２（詳細）実施年度6","計画書③（任意記載）","C22","計画書③（任意記載）","C22",null,null,null,null,null,207,46]
["参考２（詳細）実施年度7","計画書③（任意記載）","C23","計画書③（任意記載）","C23",null,null,null,null,null,208,47]
["参考２（詳細）実施年度8","計画書③（任意記載）","C24","計画書③（任意記載）","C24",null,null,null,null,null,209,48]
["参考２（詳細）実施年度9","計画書③（任意記載）","C25","計画書③（任意記載）","C25",null,null,null,null,null,210,49]
["参考２（詳細）実施年度10","計画書③（任意記載）","C26","計画書③（任意記載）","C26",null,null,null,null,null,211,50]
["参考２（詳細）推計削減量1","計画書③（任意記載）","D17","計画書③（任意記載）","D17",null,null,null,null,null,212,51]
["参考２（詳細）推計削減量2","計画書③（任意記載）","D18","計画書③（任意記載）","D18",null,null,null,null,null,213,52]
["参考２（詳細）推計削減量3","計画書③（任意記載）","D19","計画書③（任意記載）","D19",null,null,null,null,null,214,53]
["参考２（詳細）推計削減量4","計画書③（任意記載）","D20","計画書③（任意記載）","D20",null,null,null,null,null,215,54]
["参考２（詳細）推計削減量5","計画書③（任意記載）","D21","計画書③（任意記載）","D21",null,null,null,null,null,216,55]
["参考２（詳細）推計削減量6","計画書③（任意記載）","D22","計画書③（任意記載）","D22",null,null,null,null,null,217,56]
["参考２（詳細）推計削減量7","計画書③（任意記載）","D23","計画書③（任意記載）","D23",null,null,null,null,null,218,57]
["参考２（詳細）推計削減量8","計画書③（任意記載）","D24","計画書③（任意記載）","D24",null,null,null,null,null,219,58]
["参考２（詳細）推計削減量9","計画書③（任意記載）","D25","計画書③（任意記載）","D25",null,null,null,null,null,220,59]
["参考２（詳細）推計削減量10","計画書③（任意記載）","D26","計画書③（任意記載）","D26",null,null,null,null,null,221,60]
["外部供給量_揮発油（ガソリン）","事業所排出量内訳 (基準年度)","F5","事業所排出量内訳 (基準年度)","J6",null,null,null,null,null,222,1]
["外部供給量_灯油","事業所排出量内訳 (基準年度)","F6","事業所排出量内訳 (基準年度)","J7",null,null,null,null,null,223,2]
["外部供給量_軽油","事業所排出量内訳 (基準年度)","F7","事業所排出量内訳 (基準年度)","J8",null,null,null,null,null,224,3]
["外部供給量_Ａ重油","事業所排出量内訳 (基準年度)","F8","事業所排出量内訳 (基準年度)","J9",null,null,null,null,null,225,4]
["外部供給量_Ｂ・Ｃ重油","事業所排出量内訳 (基準年度)","F9","事業所排出量内訳 (基準年度)","J10",null,null,null,null,null,226,5]
["外部供給量_液化石油ガス     (LPG)","事業所排出量内訳 (基準年度)","F10","事業所排出量内訳 (基準年度)","J11",null,null,null,null,null,227,6]
["外部供給量_都市ガス","事業所排出量内訳 (基準年度)","F11","事業所排出量内訳 (基準年度)","J12",null,null,null,null,null,228,7]
["燃料の種類_その他燃料1","事業所排出量内訳 (基準年度)","D12","事業所排出量内訳 (基準年度)","E13",null,null,null,null,null,229,8]
["燃料の種類_その他燃料2","事業所排出量内訳 (基準年度)","D13","事業所排出量内訳 (基準年度)","E14",null,null,null,null,null,230,9]
["燃料の種類_その他燃料3","事業所排出量内訳 (基準年度)","D14","事業所排出量内訳 (基準年度)","E15",null,null,null,null,null,231,10]
["燃料の種類_その他燃料4","事業所排出量内訳 (基準年度)","D15","事業所排出量内訳 (基準年度)","E16",null,null,null,null,null,232,11]
["燃料の種類_その他燃料5","事業所排出量内訳 (基準年度)","D16","事業所排出量内訳 (基準年度)","E17",null,null,null,null,null,233,12]
["使用量_その他燃料1","事業所排出量内訳 (基準年度)","E12","事業所排出量内訳 (基準年度)","I13",null,null,null,null,null,234,13]
["使用量_その他燃料2","事業所排出量内訳 (基準年度)","E13","事業所排出量内訳 (基準年度)","I14",null,null,null,null,null,235,14]
["使用量_その他燃料3","事業所排出量内訳 (基準年度)","E14","事業所排出量内訳 (基準年度)","I15",null,null,null,null,null,236,15]
["使用量_その他燃料4","事業所排出量内訳 (基準年度)","E15","事業所排出量内訳 (基準年度)","I16",null,null,null,null,null,237,16]
["使用量_その他燃料5","事業所排出量内訳 (基準年度)","E16","事業所排出量内訳 (基準年度)","I17",null,null,null,null,null,238,17]
["外部供給量_その他燃料1","事業所排出量内訳 (基準年度)","F12","事業所排出量内訳 (基準年度)","J13",null,null,null,null,null,239,18]
["外部供給量_その他燃料2","事業所排出量内訳 (基準年度)","F13","事業所排出量内訳 (基準年度)","J14",null,null,null,null,null,240,19]
["外部供給量_その他燃料3","事業所排出量内訳 (基準年度)","F14","事業所排出量内訳 (基準年度)","J15",null,null,null,null,null,241,20]
["外部供給量_その他燃料4","事業所排出量内訳 (基準年度)","F15","事業所排出量内訳 (基準年度)","J16",null,null,null,null,null,242,21]
["外部供給量_その他燃料5","事業所排出量内訳 (基準年度)","F16","事業所排出量内訳 (基準年度)","J17",null,null,null,null,null,243,22]
["排出量_非エネルギー起源二酸化炭素（CO2）","事業所排出量内訳 (基準年度)","E29","事業所排出量内訳 (基準年度)","G47",null,null,null,null,null,244,23]
["排出量_メタン（CH4）","事業所排出量内訳 (基準年度)","E30","事業所排出量内訳 (基準年度)","G48",null,null,null,null,null,245,24]
["排出量_一酸化二窒素（N2O）","事業所排出量内訳 (基準年度)","E31","事業所排出量内訳 (基準年度)","G49",null,null,null,null,null,246,25]
["排出量_ハイドロフルオロカーボン（HFC）","事業所排出量内訳 (基準年度)","E32","事業所排出量内訳 (基準年度)","G50",null,null,null,null,null,247,26]
["排出量_パーフルオロカーボン（PFC）","事業所排出量内訳 (基準年度)","E33","事業所排出量内訳 (基準年度)","G51",null,null,null,null,null,248,27]
["排出量_六フッ化硫黄（SF6）","事業所排出量内訳 (基準年度)","E34","事業所排出量内訳 (基準年度)","G52",null,null,null,null,null,249,28]
["排出量_三フッ化窒素（NF3）","事業所排出量内訳 (基準年度)","E35","事業所排出量内訳 (基準年度)","G53",null,null,null,null,null,250,29]
["クレジット等の種類１","事業所排出量内訳 (基準年度)","C40","事業所排出量内訳 (基準年度)","C59",null,null,null,null,null,251,30]
["クレジット等の種類２","事業所排出量内訳 (基準年度)","C41","事業所排出量内訳 (基準年度)","C60",null,null,null,null,null,252,31]
["クレジット等の種類３","事業所排出量内訳 (基準年度)","C42","事業所排出量内訳 (基準年度)","C61",null,null,null,null,null,253,32]
["クレジット等の種類４","事業所排出量内訳 (基準年度)","C43","事業所排出量内訳 (基準年度)","C62",null,null,null,null,null,254,33]
["クレジット等の種類５","事業所排出量内訳 (基準年度)","C44","事業所排出量内訳 (基準年度)","C63",null,null,null,null,null,255,34]
["クレジット等の種類６","事業所排出量内訳 (基準年度)","C45","事業所排出量内訳 (基準年度)","C64",null,null,null,null,null,256,35]
["クレジット等の種類７","事業所排出量内訳 (基準年度)","C46","事業所排出量内訳 (基準年度)","C65",null,null,null,null,null,257,36]
["クレジット等の削減量(t-CO2)１","事業所排出量内訳 (基準年度)","E40","事業所排出量内訳 (基準年度)","G59",null,null,null,null,null,258,37]
["クレジット等の削減量(t-CO2)２","事業所排出量内訳 (基準年度)","E41","事業所排出量内訳 (基準年度)","G60",null,null,null,null,null,259,38]
["クレジット等の削減量(t-CO2)３","事業所排出量内訳 (基準年度)","E42","事業所排出量内訳 (基準年度)","G61",null,null,null,null,null,260,39]
["クレジット等の削減量(t-CO2)４","事業所排出量内訳 (基準年度)","E43","事業所排出量内訳 (基準年度)","G62",null,null,null,null,null,261,40]
["クレジット等の削減量(t-CO2)５","事業所排出量内訳 (基準年度)","E44","事業所排出量内訳 (基準年度)","G63",null,null,null,null,null,262,41]
["クレジット等の削減量(t-CO2)６","事業所排出量内訳 (基準年度)","E45","事業所排出量内訳 (基準年度)","G64",null,null,null,null,null,263,42]
["クレジット等の削減量(t-CO2)７","事業所排出量内訳 (基準年度)","E46","事業所排出量内訳 (基準年度)","G65",null,null,null,null,null,264,43]
["原単位の名称","事業所排出量内訳 (基準年度)","D51","事業所排出量内訳 (基準年度)","G71",null,null,null,null,null,265,44]
["原単位の単位","事業所排出量内訳 (基準年度)","D52","事業所排出量内訳 (基準年度)","G72",null,null,null,null,null,266,45]
["原単位の数値","事業所排出量内訳 (基準年度)","D53","事業所排出量内訳 (基準年度)","G73",null,null,null,null,null,267,46]
["自家発電_売電量","事業所排出量内訳 (基準年度)","M31","事業所排出量内訳 (基準年度)","V63",null,null,null,null,null,268,1]
["自家発電_排出係数","事業所排出量内訳 (基準年度)","N31","事業所排出量内訳 (基準年度)","W63",null,null,null,null,null,269,2]
["自家発電_換算係数","事業所排出量内訳 (基準年度)","O31","事業所排出量内訳 (基準年度)","X63",null,null,null,null,null,270,3]
["電気事業者名1","事業所排出量内訳 (基準年度)","L18","事業所排出量内訳 (基準年度)","U42",null,null,null,null,null,271,4]
["電気事業者名2","事業所排出量内訳 (基準年度)","L19","事業所排出量内訳 (基準年度)","U43",null,null,null,null,null,272,5]
["電気事業者名3","事業所排出量内訳 (基準年度)","L20","事業所排出量内訳 (基準年度)","U44",null,null,null,null,null,273,6]
["電気事業者名4","事業所排出量内訳 (基準年度)","L21","事業所排出量内訳 (基準年度)","U45",null,null,null,null,null,274,7]
["電気事業者名5","事業所排出量内訳 (基準年度)","L22","事業所排出量内訳 (基準年度)","U46",null,null,null,null,null,275,8]
["電気事業者名1_排出係数","事業所排出量内訳 (基準年度)","O18","事業所排出量内訳 (基準年度)","Y42",null,null,null,null,null,276,9]
["電気事業者名2_排出係数","事業所排出量内訳 (基準年度)","O19","事業所排出量内訳 (基準年度)","Y43",null,null,null,null,null,277,10]
["電気事業者名3_排出係数","事業所排出量内訳 (基準年度)","O20","事業所排出量内訳 (基準年度)","Y44",null,null,null,null,null,278,11]
["電気事業者名4_排出係数","事業所排出量内訳 (基準年度)","O21","事業所排出量内訳 (基準年度)","Y45",null,null,null,null,null,279,12]
["電気事業者名5_排出係数","事業所排出量内訳 (基準年度)","O22","事業所排出量内訳 (基準年度)","Y46",null,null,null,null,null,280,13]
["その他買電_名称1","事業所排出量内訳 (基準年度)","L34","事業所排出量内訳 (基準年度)","V57",null,null,null,null,null,281,14]
["その他買電_名称2","事業所排出量内訳 (基準年度)","L35","事業所排出量内訳 (基準年度)","V58",null,null,null,null,null,282,15]
["その他買電_名称1_買電量1","事業所排出量内訳 (基準年度)","M34","事業所排出量内訳 (基準年度)","W57",null,null,null,null,null,283,16]
["その他買電_名称2_買電量2","事業所排出量内訳 (基準年度)","M35","事業所排出量内訳 (基準年度)","W58",null,null,null,null,null,284,17]
["その他買電_名称1_排出係数1","事業所排出量内訳 (基準年度)","N34","事業所排出量内訳 (基準年度)","Y57",null,null,null,null,null,285,18]
["その他買電_名称2_排出係数2","事業所排出量内訳 (基準年度)","N35","事業所排出量内訳 (基準年度)","Y58",null,null,null,null,null,286,19]
["揮発油（ガソリン）_4月使用量","計算シート（基準年度）","C3","計算シート（基準年度）","C3",null,null,null,null,null,287,1]
["灯油_4月使用量","計算シート（基準年度）","C4","計算シート（基準年度）","C4",null,null,null,null,null,288,2]
["軽油_4月使用量","計算シート（基準年度）","C5","計算シート（基準年度）","C5",null,null,null,null,null,289,3]
["Ａ重油_4月使用量","計算シート（基準年度）","C6","計算シート（基準年度）","C6",null,null,null,null,null,290,4]
["Ｂ・Ｃ重油_4月使用量","計算シート（基準年度）","C7","計算シート（基準年度）","C7",null,null,null,null,null,291,5]
["液化石油ガス     (LPG)_4月使用量","計算シート（基準年度）","C8","計算シート（基準年度）","C8",null,null,null,null,null,292,6]
["都市ガス_4月使用量","計算シート（基準年度）","C9","計算シート（基準年度）","C9",null,null,null,null,null,293,7]
["電力会社名1昼間買電_4月使用量","計算シート（基準年度）","C12","計算シート（基準年度）","C12",null,null,null,null,null,294,8]
["電力会社名1夜間買電_4月使用量","計算シート（基準年度）","C13","計算シート（基準年度）","C13",null,null,null,null,null,295,9]
["電力会社名2昼間買電_4月使用量","計算シート（基準年度）","C14","計算シート（基準年度）","C14",null,null,null,null,null,296,10]
["電力会社名2夜間買電_4月使用量","計算シート（基準年度）","C15","計算シート（基準年度）","C15",null,null,null,null,null,297,11]
["電力会社名3昼間買電_4月使用量","計算シート（基準年度）","C16","計算シート（基準年度）","C16",null,null,null,null,null,298,12]
["電力会社名3夜間買電_4月使用量","計算シート（基準年度）","C17","計算シート（基準年度）","C17",null,null,null,null,null,299,13]
["電力会社名4昼間買電_4月使用量","計算シート（基準年度）","C18","計算シート（基準年度）","C18",null,null,null,null,null,300,14]
["電力会社名4夜間買電_4月使用量","計算シート（基準年度）","C19","計算シート（基準年度）","C19",null,null,null,null,null,301,15]
["電力会社名5昼間買電_4月使用量","計算シート（基準年度）","C20","計算シート（基準年度）","C20",null,null,null,null,null,302,16]
["電力会社名5夜間買電_4月使用量","計算シート（基準年度）","C21","計算シート（基準年度）","C21",null,null,null,null,null,303,17]
["揮発油（ガソリン）_5月使用量","計算シート（基準年度）","D3","計算シート（基準年度）","D3",null,null,null,null,null,304,18]
["灯油_5月使用量","計算シート（基準年度）","D4","計算シート（基準年度）","D4",null,null,null,null,null,305,19]
["軽油_5月使用量","計算シート（基準年度）","D5","計算シート（基準年度）","D5",null,null,null,null,null,306,20]
["Ａ重油_5月使用量","計算シート（基準年度）","D6","計算シート（基準年度）","D6",null,null,null,null,null,307,21]
["Ｂ・Ｃ重油_5月使用量","計算シート（基準年度）","D7","計算シート（基準年度）","D7",null,null,null,null,null,308,22]
["液化石油ガス     (LPG)_5月使用量","計算シート（基準年度）","D8","計算シート（基準年度）","D8",null,null,null,null,null,309,23]
["都市ガス_5月使用量","計算シート（基準年度）","D9","計算シート（基準年度）","D9",null,null,null,null,null,310,24]
["電力会社名1昼間買電_5月使用量","計算シート（基準年度）","D12","計算シート（基準年度）","D12",null,null,null,null,null,311,25]
["電力会社名1夜間買電_5月使用量","計算シート（基準年度）","D13","計算シート（基準年度）","D13",null,null,null,null,null,312,26]
["電力会社名2昼間買電_5月使用量","計算シート（基準年度）","D14","計算シート（基準年度）","D14",null,null,null,null,null,313,27]
["電力会社名2夜間買電_5月使用量","計算シート（基準年度）","D15","計算シート（基準年度）","D15",null,null,null,null,null,314,28]
["電力会社名3昼間買電_5月使用量","計算シート（基準年度）","D16","計算シート（基準年度）","D16",null,null,null,null,null,315,29]
["電力会社名3夜間買電_5月使用量","計算シート（基準年度）","D17","計算シート（基準年度）","D17",null,null,null,null,null,316,30]
["電力会社名4昼間買電_5月使用量","計算シート（基準年度）","D18","計算シート（基準年度）","D18",null,null,null,null,null,317,31]
["電力会社名4夜間買電_5月使用量","計算シート（基準年度）","D19","計算シート（基準年度）","D19",null,null,null,null,null,318,32]
["電力会社名5昼間買電_5月使用量","計算シート（基準年度）","D20","計算シート（基準年度）","D20",null,null,null,null,null,319,33]
["電力会社名5夜間買電_5月使用量","計算シート（基準年度）","D21","計算シート（基準年度）","D21",null,null,null,null,null,320,34]
["揮発油（ガソリン）_6月使用量","計算シート（基準年度）","E3","計算シート（基準年度）","E3",null,null,null,null,null,321,35]
["灯油_6月使用量","計算シート（基準年度）","E4","計算シート（基準年度）","E4",null,null,null,null,null,322,36]
["軽油_6月使用量","計算シート（基準年度）","E5","計算シート（基準年度）","E5",null,null,null,null,null,323,37]
["Ａ重油_6月使用量","計算シート（基準年度）","E6","計算シート（基準年度）","E6",null,null,null,null,null,324,38]
["Ｂ・Ｃ重油_6月使用量","計算シート（基準年度）","E7","計算シート（基準年度）","E7",null,null,null,null,null,325,39]
["液化石油ガス     (LPG)_6月使用量","計算シート（基準年度）","E8","計算シート（基準年度）","E8",null,null,null,null,null,326,40]
["都市ガス_6月使用量","計算シート（基準年度）","E9","計算シート（基準年度）","E9",null,null,null,null,null,327,41]
["電力会社名1昼間買電_6月使用量","計算シート（基準年度）","E12","計算シート（基準年度）","E12",null,null,null,null,null,328,42]
["電力会社名1夜間買電_6月使用量","計算シート（基準年度）","E13","計算シート（基準年度）","E13",null,null,null,null,null,329,43]
["電力会社名2昼間買電_6月使用量","計算シート（基準年度）","E14","計算シート（基準年度）","E14",null,null,null,null,null,330,44]
["電力会社名2夜間買電_6月使用量","計算シート（基準年度）","E15","計算シート（基準年度）","E15",null,null,null,null,null,331,45]
["電力会社名3昼間買電_6月使用量","計算シート（基準年度）","E16","計算シート（基準年度）","E16",null,null,null,null,null,332,46]
["電力会社名3夜間買電_6月使用量","計算シート（基準年度）","E17","計算シート（基準年度）","E17",null,null,null,null,null,333,47]
["電力会社名4昼間買電_6月使用量","計算シート（基準年度）","E18","計算シート（基準年度）","E18",null,null,null,null,null,334,48]
["電力会社名4夜間買電_6月使用量","計算シート（基準年度）","E19","計算シート（基準年度）","E19",null,null,null,null,null,335,49]
["電力会社名5昼間買電_6月使用量","計算シート（基準年度）","E20","計算シート（基準年度）","E20",null,null,null,null,null,336,50]
["電力会社名5夜間買電_6月使用量","計算シート（基準年度）","E21","計算シート（基準年度）","E21",null,null,null,null,null,337,51]
["揮発油（ガソリン）_7月使用量","計算シート（基準年度）","F3","計算シート（基準年度）","F3",null,null,null,null,null,338,52]
["灯油_7月使用量","計算シート（基準年度）","F4","計算シート（基準年度）","F4",null,null,null,null,null,339,53]
["軽油_7月使用量","計算シート（基準年度）","F5","計算シート（基準年度）","F5",null,null,null,null,null,340,54]
["Ａ重油_7月使用量","計算シート（基準年度）","F6","計算シート（基準年度）","F6",null,null,null,null,null,341,55]
["Ｂ・Ｃ重油_7月使用量","計算シート（基準年度）","F7","計算シート（基準年度）","F7",null,null,null,null,null,342,56]
["液化石油ガス     (LPG)_7月使用量","計算シート（基準年度）","F8","計算シート（基準年度）","F8",null,null,null,null,null,343,57]
["都市ガス_7月使用量","計算シート（基準年度）","F9","計算シート（基準年度）","F9",null,null,null,null,null,344,58]
["電力会社名1昼間買電_7月使用量","計算シート（基準年度）","F12","計算シート（基準年度）","F12",null,null,null,null,null,345,59]
["電力会社名1夜間買電_7月使用量","計算シート（基準年度）","F13","計算シート（基準年度）","F13",null,null,null,null,null,346,60]
["電力会社名2昼間買電_7月使用量","計算シート（基準年度）","F14","計算シート（基準年度）","F14",null,null,null,null,null,347,61]
["電力会社名2夜間買電_7月使用量","計算シート（基準年度）","F15","計算シート（基準年度）","F15",null,null,null,null,null,348,62]
["電力会社名3昼間買電_7月使用量","計算シート（基準年度）","F16","計算シート（基準年度）","F16",null,null,null,null,null,349,63]
["電力会社名3夜間買電_7月使用量","計算シート（基準年度）","F17","計算シート（基準年度）","F17",null,null,null,null,null,350,64]
["電力会社名4昼間買電_7月使用量","計算シート（基準年度）","F18","計算シート（基準年度）","F18",null,null,null,null,null,351,65]
["電力会社名4夜間買電_7月使用量","計算シート（基準年度）","F19","計算シート（基準年度）","F19",null,null,null,null,null,352,66]
["電力会社名5昼間買電_7月使用量","計算シート（基準年度）","F20","計算シート（基準年度）","F20",null,null,null,null,null,353,67]
["電力会社名5夜間買電_7月使用量","計算シート（基準年度）","F21","計算シート（基準年度）","F21",null,null,null,null,null,354,68]
["揮発油（ガソリン）_8月使用量","計算シート（基準年度）","G3","計算シート（基準年度）","G3",null,null,null,null,null,355,69]
["灯油_8月使用量","計算シート（基準年度）","G4","計算シート（基準年度）","G4",null,null,null,null,null,356,70]
["軽油_8月使用量","計算シート（基準年度）","G5","計算シート（基準年度）","G5",null,null,null,null,null,357,71]
["Ａ重油_8月使用量","計算シート（基準年度）","G6","計算シート（基準年度）","G6",null,null,null,null,null,358,72]
["Ｂ・Ｃ重油_8月使用量","計算シート（基準年度）","G7","計算シート（基準年度）","G7",null,null,null,null,null,359,73]
["液化石油ガス     (LPG)_8月使用量","計算シート（基準年度）","G8","計算シート（基準年度）","G8",null,null,null,null,null,360,74]
["都市ガス_8月使用量","計算シート（基準年度）","G9","計算シート（基準年度）","G9",null,null,null,null,null,361,75]
["電力会社名1昼間買電_8月使用量","計算シート（基準年度）","G12","計算シート（基準年度）","G12",null,null,null,null,null,362,76]
["電力会社名1夜間買電_8月使用量","計算シート（基準年度）","G13","計算シート（基準年度）","G13",null,null,null,null,null,363,77]
["電力会社名2昼間買電_8月使用量","計算シート（基準年度）","G14","計算シート（基準年度）","G14",null,null,null,null,null,364,78]
["電力会社名2夜間買電_8月使用量","計算シート（基準年度）","G15","計算シート（基準年度）","G15",null,null,null,null,null,365,79]
["電力会社名3昼間買電_8月使用量","計算シート（基準年度）","G16","計算シート（基準年度）","G16",null,null,null,null,null,366,80]
["電力会社名3夜間買電_8月使用量","計算シート（基準年度）","G17","計算シート（基準年度）","G17",null,null,null,null,null,367,81]
["電力会社名4昼間買電_8月使用量","計算シート（基準年度）","G18","計算シート（基準年度）","G18",null,null,null,null,null,368,82]
["電力会社名4夜間買電_8月使用量","計算シート（基準年度）","G19","計算シート（基準年度）","G19",null,null,null,null,null,369,83]
["電力会社名5昼間買電_8月使用量","計算シート（基準年度）","G20","計算シート（基準年度）","G20",null,null,null,null,null,370,84]
["電力会社名5夜間買電_8月使用量","計算シート（基準年度）","G21","計算シート（基準年度）","G21",null,null,null,null,null,371,85]
["揮発油（ガソリン）_9月使用量","計算シート（基準年度）","H3","計算シート（基準年度）","H3",null,null,null,null,null,372,86]
["灯油_9月使用量","計算シート（基準年度）","H4","計算シート（基準年度）","H4",null,null,null,null,null,373,87]
["軽油_9月使用量","計算シート（基準年度）","H5","計算シート（基準年度）","H5",null,null,null,null,null,374,88]
["Ａ重油_9月使用量","計算シート（基準年度）","H6","計算シート（基準年度）","H6",null,null,null,null,null,375,89]
["Ｂ・Ｃ重油_9月使用量","計算シート（基準年度）","H7","計算シート（基準年度）","H7",null,null,null,null,null,376,90]
["液化石油ガス     (LPG)_9月使用量","計算シート（基準年度）","H8","計算シート（基準年度）","H8",null,null,null,null,null,377,91]
["都市ガス_9月使用量","計算シート（基準年度）","H9","計算シート（基準年度）","H9",null,null,null,null,null,378,92]
["電力会社名1昼間買電_9月使用量","計算シート（基準年度）","H12","計算シート（基準年度）","H12",null,null,null,null,null,379,93]
["電力会社名1夜間買電_9月使用量","計算シート（基準年度）","H13","計算シート（基準年度）","H13",null,null,null,null,null,380,94]
["電力会社名2昼間買電_9月使用量","計算シート（基準年度）","H14","計算シート（基準年度）","H14",null,null,null,null,null,381,95]
["電力会社名2夜間買電_9月使用量","計算シート（基準年度）","H15","計算シート（基準年度）","H15",null,null,null,null,null,382,96]
["電力会社名3昼間買電_9月使用量","計算シート（基準年度）","H16","計算シート（基準年度）","H16",null,null,null,null,null,383,97]
["電力会社名3夜間買電_9月使用量","計算シート（基準年度）","H17","計算シート（基準年度）","H17",null,null,null,null,null,384,98]
["電力会社名4昼間買電_9月使用量","計算シート（基準年度）","H18","計算シート（基準年度）","H18",null,null,null,null,null,385,99]
["電力会社名4夜間買電_9月使用量","計算シート（基準年度）","H19","計算シート（基準年度）","H19",null,null,null,null,null,386,100]
["電力会社名5昼間買電_9月使用量","計算シート（基準年度）","H20","計算シート（基準年度）","H20",null,null,null,null,null,387,101]
["電力会社名5夜間買電_9月使用量","計算シート（基準年度）","H21","計算シート（基準年度）","H21",null,null,null,null,null,388,102]
["揮発油（ガソリン）_10月使用量","計算シート（基準年度）","I3","計算シート（基準年度）","I3",null,null,null,null,null,389,103]
["灯油_10月使用量","計算シート（基準年度）","I4","計算シート（基準年度）","I4",null,null,null,null,null,390,104]
["軽油_10月使用量","計算シート（基準年度）","I5","計算シート（基準年度）","I5",null,null,null,null,null,391,105]
["Ａ重油_10月使用量","計算シート（基準年度）","I6","計算シート（基準年度）","I6",null,null,null,null,null,392,106]
["Ｂ・Ｃ重油_10月使用量","計算シート（基準年度）","I7","計算シート（基準年度）","I7",null,null,null,null,null,393,107]
["液化石油ガス     (LPG)_10月使用量","計算シート（基準年度）","I8","計算シート（基準年度）","I8",null,null,null,null,null,394,108]
["都市ガス_10月使用量","計算シート（基準年度）","I9","計算シート（基準年度）","I9",null,null,null,null,null,395,109]
["電力会社名1昼間買電_10月使用量","計算シート（基準年度）","I12","計算シート（基準年度）","I12",null,null,null,null,null,396,110]
["電力会社名1夜間買電_10月使用量","計算シート（基準年度）","I13","計算シート（基準年度）","I13",null,null,null,null,null,397,111]
["電力会社名2昼間買電_10月使用量","計算シート（基準年度）","I14","計算シート（基準年度）","I14",null,null,null,null,null,398,112]
["電力会社名2夜間買電_10月使用量","計算シート（基準年度）","I15","計算シート（基準年度）","I15",null,null,null,null,null,399,113]
["電力会社名3昼間買電_10月使用量","計算シート（基準年度）","I16","計算シート（基準年度）","I16",null,null,null,null,null,400,114]
["電力会社名3夜間買電_10月使用量","計算シート（基準年度）","I17","計算シート（基準年度）","I17",null,null,null,null,null,401,115]
["電力会社名4昼間買電_10月使用量","計算シート（基準年度）","I18","計算シート（基準年度）","I18",null,null,null,null,null,402,116]
["電力会社名4夜間買電_10月使用量","計算シート（基準年度）","I19","計算シート（基準年度）","I19",null,null,null,null,null,403,117]
["電力会社名5昼間買電_10月使用量","計算シート（基準年度）","I20","計算シート（基準年度）","I20",null,null,null,null,null,404,118]
["電力会社名5夜間買電_10月使用量","計算シート（基準年度）","I21","計算シート（基準年度）","I21",null,null,null,null,null,405,119]
["揮発油（ガソリン）_11月使用量","計算シート（基準年度）","J3","計算シート（基準年度）","J3",null,null,null,null,null,406,120]
["灯油_11月使用量","計算シート（基準年度）","J4","計算シート（基準年度）","J4",null,null,null,null,null,407,121]
["軽油_11月使用量","計算シート（基準年度）","J5","計算シート（基準年度）","J5",null,null,null,null,null,408,122]
["Ａ重油_11月使用量","計算シート（基準年度）","J6","計算シート（基準年度）","J6",null,null,null,null,null,409,123]
["Ｂ・Ｃ重油_11月使用量","計算シート（基準年度）","J7","計算シート（基準年度）","J7",null,null,null,null,null,410,124]
["液化石油ガス     (LPG)_11月使用量","計算シート（基準年度）","J8","計算シート（基準年度）","J8",null,null,null,null,null,411,125]
["都市ガス_11月使用量","計算シート（基準年度）","J9","計算シート（基準年度）","J9",null,null,null,null,null,412,126]
["電力会社名1昼間買電_11月使用量","計算シート（基準年度）","J12","計算シート（基準年度）","J12",null,null,null,null,null,413,127]
["電力会社名1夜間買電_11月使用量","計算シート（基準年度）","J13","計算シート（基準年度）","J13",null,null,null,null,null,414,128]
["電力会社名2昼間買電_11月使用量","計算シート（基準年度）","J14","計算シート（基準年度）","J14",null,null,null,null,null,415,129]
["電力会社名2夜間買電_11月使用量","計算シート（基準年度）","J15","計算シート（基準年度）","J15",null,null,null,null,null,416,130]
["電力会社名3昼間買電_11月使用量","計算シート（基準年度）","J16","計算シート（基準年度）","J16",null,null,null,null,null,417,131]
["電力会社名3夜間買電_11月使用量","計算シート（基準年度）","J17","計算シート（基準年度）","J17",null,null,null,null,null,418,132]
["電力会社名4昼間買電_11月使用量","計算シート（基準年度）","J18","計算シート（基準年度）","J18",null,null,null,null,null,419,133]
["電力会社名4夜間買電_11月使用量","計算シート（基準年度）","J19","計算シート（基準年度）","J19",null,null,null,null,null,420,134]
["電力会社名5昼間買電_11月使用量","計算シート（基準年度）","J20","計算シート（基準年度）","J20",null,null,null,null,null,421,135]
["電力会社名5夜間買電_11月使用量","計算シート（基準年度）","J21","計算シート（基準年度）","J21",null,null,null,null,null,422,136]
["揮発油（ガソリン）_12月使用量","計算シート（基準年度）","K3","計算シート（基準年度）","K3",null,null,null,null,null,423,137]
["灯油_12月使用量","計算シート（基準年度）","K4","計算シート（基準年度）","K4",null,null,null,null,null,424,138]
["軽油_12月使用量","計算シート（基準年度）","K5","計算シート（基準年度）","K5",null,null,null,null,null,425,139]
["Ａ重油_12月使用量","計算シート（基準年度）","K6","計算シート（基準年度）","K6",null,null,null,null,null,426,140]
["Ｂ・Ｃ重油_12月使用量","計算シート（基準年度）","K7","計算シート（基準年度）","K7",null,null,null,null,null,427,141]
["液化石油ガス     (LPG)_12月使用量","計算シート（基準年度）","K8","計算シート（基準年度）","K8",null,null,null,null,null,428,142]
["都市ガス_12月使用量","計算シート（基準年度）","K9","計算シート（基準年度）","K9",null,null,null,null,null,429,143]
["電力会社名1昼間買電_12月使用量","計算シート（基準年度）","K12","計算シート（基準年度）","K12",null,null,null,null,null,430,144]
["電力会社名1夜間買電_12月使用量","計算シート（基準年度）","K13","計算シート（基準年度）","K13",null,null,null,null,null,431,145]
["電力会社名2昼間買電_12月使用量","計算シート（基準年度）","K14","計算シート（基準年度）","K14",null,null,null,null,null,432,146]
["電力会社名2夜間買電_12月使用量","計算シート（基準年度）","K15","計算シート（基準年度）","K15",null,null,null,null,null,433,147]
["電力会社名3昼間買電_12月使用量","計算シート（基準年度）","K16","計算シート（基準年度）","K16",null,null,null,null,null,434,148]
["電力会社名3夜間買電_12月使用量","計算シート（基準年度）","K17","計算シート（基準年度）","K17",null,null,null,null,null,435,149]
["電力会社名4昼間買電_12月使用量","計算シート（基準年度）","K18","計算シート（基準年度）","K18",null,null,null,null,null,436,150]
["電力会社名4夜間買電_12月使用量","計算シート（基準年度）","K19","計算シート（基準年度）","K19",null,null,null,null,null,437,151]
["電力会社名5昼間買電_12月使用量","計算シート（基準年度）","K20","計算シート（基準年度）","K20",null,null,null,null,null,438,152]
["電力会社名5夜間買電_12月使用量","計算シート（基準年度）","K21","計算シート（基準年度）","K21",null,null,null,null,null,439,153]
["揮発油（ガソリン）_1月使用量","計算シート（基準年度）","L3","計算シート（基準年度）","L3",null,null,null,null,null,440,154]
["灯油_1月使用量","計算シート（基準年度）","L4","計算シート（基準年度）","L4",null,null,null,null,null,441,155]
["軽油_1月使用量","計算シート（基準年度）","L5","計算シート（基準年度）","L5",null,null,null,null,null,442,156]
["Ａ重油_1月使用量","計算シート（基準年度）","L6","計算シート（基準年度）","L6",null,null,null,null,null,443,157]
["Ｂ・Ｃ重油_1月使用量","計算シート（基準年度）","L7","計算シート（基準年度）","L7",null,null,null,null,null,444,158]
["液化石油ガス     (LPG)_1月使用量","計算シート（基準年度）","L8","計算シート（基準年度）","L8",null,null,null,null,null,445,159]
["都市ガス_1月使用量","計算シート（基準年度）","L9","計算シート（基準年度）","L9",null,null,null,null,null,446,160]
["電力会社名1昼間買電_1月使用量","計算シート（基準年度）","L12","計算シート（基準年度）","L12",null,null,null,null,null,447,161]
["電力会社名1夜間買電_1月使用量","計算シート（基準年度）","L13","計算シート（基準年度）","L13",null,null,null,null,null,448,162]
["電力会社名2昼間買電_1月使用量","計算シート（基準年度）","L14","計算シート（基準年度）","L14",null,null,null,null,null,449,163]
["電力会社名2夜間買電_1月使用量","計算シート（基準年度）","L15","計算シート（基準年度）","L15",null,null,null,null,null,450,164]
["電力会社名3昼間買電_1月使用量","計算シート（基準年度）","L16","計算シート（基準年度）","L16",null,null,null,null,null,451,165]
["電力会社名3夜間買電_1月使用量","計算シート（基準年度）","L17","計算シート（基準年度）","L17",null,null,null,null,null,452,166]
["電力会社名4昼間買電_1月使用量","計算シート（基準年度）","L18","計算シート（基準年度）","L18",null,null,null,null,null,453,167]
["電力会社名4夜間買電_1月使用量","計算シート（基準年度）","L19","計算シート（基準年度）","L19",null,null,null,null,null,454,168]
["電力会社名5昼間買電_1月使用量","計算シート（基準年度）","L20","計算シート（基準年度）","L20",null,null,null,null,null,455,169]
["電力会社名5夜間買電_1月使用量","計算シート（基準年度）","L21","計算シート（基準年度）","L21",null,null,null,null,null,456,170]
["揮発油（ガソリン）_2月使用量","計算シート（基準年度）","M3","計算シート（基準年度）","M3",null,null,null,null,null,457,171]
["灯油_2月使用量","計算シート（基準年度）","M4","計算シート（基準年度）","M4",null,null,null,null,null,458,172]
["軽油_2月使用量","計算シート（基準年度）","M5","計算シート（基準年度）","M5",null,null,null,null,null,459,173]
["Ａ重油_2月使用量","計算シート（基準年度）","M6","計算シート（基準年度）","M6",null,null,null,null,null,460,174]
["Ｂ・Ｃ重油_2月使用量","計算シート（基準年度）","M7","計算シート（基準年度）","M7",null,null,null,null,null,461,175]
["液化石油ガス     (LPG)_2月使用量","計算シート（基準年度）","M8","計算シート（基準年度）","M8",null,null,null,null,null,462,176]
["都市ガス_2月使用量","計算シート（基準年度）","M9","計算シート（基準年度）","M9",null,null,null,null,null,463,177]
["電力会社名1昼間買電_2月使用量","計算シート（基準年度）","M12","計算シート（基準年度）","M12",null,null,null,null,null,464,178]
["電力会社名1夜間買電_2月使用量","計算シート（基準年度）","M13","計算シート（基準年度）","M13",null,null,null,null,null,465,179]
["電力会社名2昼間買電_2月使用量","計算シート（基準年度）","M14","計算シート（基準年度）","M14",null,null,null,null,null,466,180]
["電力会社名2夜間買電_2月使用量","計算シート（基準年度）","M15","計算シート（基準年度）","M15",null,null,null,null,null,467,181]
["電力会社名3昼間買電_2月使用量","計算シート（基準年度）","M16","計算シート（基準年度）","M16",null,null,null,null,null,468,182]
["電力会社名3夜間買電_2月使用量","計算シート（基準年度）","M17","計算シート（基準年度）","M17",null,null,null,null,null,469,183]
["電力会社名4昼間買電_2月使用量","計算シート（基準年度）","M18","計算シート（基準年度）","M18",null,null,null,null,null,470,184]
["電力会社名4夜間買電_2月使用量","計算シート（基準年度）","M19","計算シート（基準年度）","M19",null,null,null,null,null,471,185]
["電力会社名5昼間買電_2月使用量","計算シート（基準年度）","M20","計算シート（基準年度）","M20",null,null,null,null,null,472,186]
["電力会社名5夜間買電_2月使用量","計算シート（基準年度）","M21","計算シート（基準年度）","M21",null,null,null,null,null,473,187]
["揮発油（ガソリン）_3月使用量","計算シート（基準年度）","N3","計算シート（基準年度）","N3",null,null,null,null,null,474,188]
["灯油_3月使用量","計算シート（基準年度）","N4","計算シート（基準年度）","N4",null,null,null,null,null,475,189]
["軽油_3月使用量","計算シート（基準年度）","N5","計算シート（基準年度）","N5",null,null,null,null,null,476,190]
["Ａ重油_3月使用量","計算シート（基準年度）","N6","計算シート（基準年度）","N6",null,null,null,null,null,477,191]
["Ｂ・Ｃ重油_3月使用量","計算シート（基準年度）","N7","計算シート（基準年度）","N7",null,null,null,null,null,478,192]
["液化石油ガス     (LPG)_3月使用量","計算シート（基準年度）","N8","計算シート（基準年度）","N8",null,null,null,null,null,479,193]
["都市ガス_3月使用量","計算シート（基準年度）","N9","計算シート（基準年度）","N9",null,null,null,null,null,480,194]
["電力会社名1昼間買電_3月使用量","計算シート（基準年度）","N12","計算シート（基準年度）","N12",null,null,null,null,null,481,195]
["電力会社名1夜間買電_3月使用量","計算シート（基準年度）","N13","計算シート（基準年度）","N13",null,null,null,null,null,482,196]
["電力会社名2昼間買電_3月使用量","計算シート（基準年度）","N14","計算シート（基準年度）","N14",null,null,null,null,null,483,197]
["電力会社名2夜間買電_3月使用量","計算シート（基準年度）","N15","計算シート（基準年度）","N15",null,null,null,null,null,484,198]
["電力会社名3昼間買電_3月使用量","計算シート（基準年度）","N16","計算シート（基準年度）","N16",null,null,null,null,null,485,199]
["電力会社名3夜間買電_3月使用量","計算シート（基準年度）","N17","計算シート（基準年度）","N17",null,null,null,null,null,486,200]
["電力会社名4昼間買電_3月使用量","計算シート（基準年度）","N18","計算シート（基準年度）","N18",null,null,null,null,null,487,201]
["電力会社名4夜間買電_3月使用量","計算シート（基準年度）","N19","計算シート（基準年度）","N19",null,null,null,null,null,488,202]
["電力会社名5昼間買電_3月使用量","計算シート（基準年度）","N20","計算シート（基準年度）","N20",null,null,null,null,null,489,203]
["電力会社名5夜間買電_3月使用量","計算シート（基準年度）","N21","計算シート（基準年度）","N21",null,null,null,null,null,490,204]